BEGIN:VCALENDAR
VERSION:2.0
PRODID:-//RC Kilmarnock - ECPv6.15.20//NONSGML v1.0//EN
CALSCALE:GREGORIAN
METHOD:PUBLISH
X-WR-CALNAME:RC Kilmarnock
X-ORIGINAL-URL:https://rckilmarnock.org.uk
X-WR-CALDESC:Events for RC Kilmarnock
REFRESH-INTERVAL;VALUE=DURATION:PT1H
X-Robots-Tag:noindex
X-PUBLISHED-TTL:PT1H
BEGIN:VTIMEZONE
TZID:Europe/London
BEGIN:DAYLIGHT
TZOFFSETFROM:+0000
TZOFFSETTO:+0100
TZNAME:BST
DTSTART:20260329T010000
END:DAYLIGHT
BEGIN:STANDARD
TZOFFSETFROM:+0100
TZOFFSETTO:+0000
TZNAME:GMT
DTSTART:20261025T010000
END:STANDARD
BEGIN:DAYLIGHT
TZOFFSETFROM:+0000
TZOFFSETTO:+0100
TZNAME:BST
DTSTART:20270328T010000
END:DAYLIGHT
BEGIN:STANDARD
TZOFFSETFROM:+0100
TZOFFSETTO:+0000
TZNAME:GMT
DTSTART:20271031T010000
END:STANDARD
BEGIN:DAYLIGHT
TZOFFSETFROM:+0000
TZOFFSETTO:+0100
TZNAME:BST
DTSTART:20280326T010000
END:DAYLIGHT
BEGIN:STANDARD
TZOFFSETFROM:+0100
TZOFFSETTO:+0000
TZNAME:GMT
DTSTART:20281029T010000
END:STANDARD
END:VTIMEZONE
BEGIN:VTIMEZONE
TZID:UTC
BEGIN:STANDARD
TZOFFSETFROM:+0000
TZOFFSETTO:+0000
TZNAME:UTC
DTSTART:20260101T000000
END:STANDARD
END:VTIMEZONE
BEGIN:VEVENT
DTSTART;TZID=Europe/London:20270616T100000
DTEND;TZID=Europe/London:20270616T103000
DTSTAMP:20260425T115959
CREATED:20251223T222817Z
LAST-MODIFIED:20251223T224929Z
UID:10016359-1813140000-1813141800@rckilmarnock.org.uk
SUMMARY:Morning Mass (St Matthew's)
DESCRIPTION:
URL:https://rckilmarnock.org.uk/event/morning-mass-st-matthews-10/2027-06-16/
LOCATION:St Matthew’s RC Church\, St Matthew's RC Church\, Kilmarnock\, KA10 6NJ
CATEGORIES:Mass
ATTACH;FMTTYPE=image/jpeg:https://rckilmarnock.org.uk/wp-content/uploads/2023/09/St-Matthews-Mass-scaled-e1712179768239.jpg
END:VEVENT
BEGIN:VEVENT
DTSTART;TZID=Europe/London:20270617T180000
DTEND;TZID=Europe/London:20270617T183000
DTSTAMP:20260425T115959
CREATED:20230910T134742Z
LAST-MODIFIED:20240814T165945Z
UID:10012714-1813255200-1813257000@rckilmarnock.org.uk
SUMMARY:Evening Mass (St Joseph's)
DESCRIPTION:
URL:https://rckilmarnock.org.uk/event/__trashed/2027-06-17/
LOCATION:St Joseph’s RC Church\, 15 Hill Street\, Kilmarnock\, KA31HB
CATEGORIES:Mass
ATTACH;FMTTYPE=image/jpeg:https://rckilmarnock.org.uk/wp-content/uploads/2023/09/StJosephs_Mass.jpg
END:VEVENT
BEGIN:VEVENT
DTSTART;TZID=UTC:20270618T100000
DTEND;TZID=UTC:20270618T103000
DTSTAMP:20260425T115959
CREATED:20230910T134715Z
LAST-MODIFIED:20230911T103208Z
UID:10001050-1813312800-1813314600@rckilmarnock.org.uk
SUMMARY:Morning Mass (St Joseph’s)
DESCRIPTION:
URL:https://rckilmarnock.org.uk/event/morning-mass-st-josephs/2027-06-18/
LOCATION:St Joseph’s RC Church\, 15 Hill Street\, Kilmarnock\, KA31HB
CATEGORIES:Mass
ATTACH;FMTTYPE=image/jpeg:https://rckilmarnock.org.uk/wp-content/uploads/2023/09/StJosephs_Mass.jpg
END:VEVENT
BEGIN:VEVENT
DTSTART;TZID=Europe/London:20270619T180000
DTEND;TZID=Europe/London:20270619T190000
DTSTAMP:20260425T115959
CREATED:20230910T151740Z
LAST-MODIFIED:20230919T215702Z
UID:10002027-1813428000-1813431600@rckilmarnock.org.uk
SUMMARY:Vigil Mass (St Joseph's)
DESCRIPTION:
URL:https://rckilmarnock.org.uk/event/vigil-mass-st-josephs/2027-06-19/
LOCATION:St Joseph’s RC Church\, 15 Hill Street\, Kilmarnock\, KA31HB
CATEGORIES:Mass
ATTACH;FMTTYPE=image/jpeg:https://rckilmarnock.org.uk/wp-content/uploads/2023/09/StJosephs_Mass.jpg
END:VEVENT
BEGIN:VEVENT
DTSTART;TZID=Europe/London:20270620T093000
DTEND;TZID=Europe/London:20270620T103000
DTSTAMP:20260425T115959
CREATED:20230910T145347Z
LAST-MODIFIED:20240403T213443Z
UID:10001765-1813483800-1813487400@rckilmarnock.org.uk
SUMMARY:Sunday Mass (St Matthew's)
DESCRIPTION:
URL:https://rckilmarnock.org.uk/event/sunday-mass-st-matthews/2027-06-20/
LOCATION:St Matthew’s RC Church\, St Matthew's RC Church\, Kilmarnock\, KA10 6NJ
CATEGORIES:Mass
ATTACH;FMTTYPE=image/jpeg:https://rckilmarnock.org.uk/wp-content/uploads/2023/09/St-Matthews-Mass-scaled-e1712179768239.jpg
END:VEVENT
BEGIN:VEVENT
DTSTART;TZID=UTC:20270620T110000
DTEND;TZID=UTC:20270620T120000
DTSTAMP:20260425T115959
CREATED:20230909T220758Z
LAST-MODIFIED:20230919T215820Z
UID:10000198-1813489200-1813492800@rckilmarnock.org.uk
SUMMARY:Sunday Mass (St Joseph's)
DESCRIPTION:
URL:https://rckilmarnock.org.uk/event/mass-st-josephs/2027-06-20/
LOCATION:St Joseph’s RC Church\, 15 Hill Street\, Kilmarnock\, KA31HB
CATEGORIES:Mass
ATTACH;FMTTYPE=image/jpeg:https://rckilmarnock.org.uk/wp-content/uploads/2023/09/StJosephs_Mass.jpg
END:VEVENT
BEGIN:VEVENT
DTSTART;TZID=Europe/London:20270620T113000
DTEND;TZID=Europe/London:20270620T123000
DTSTAMP:20260425T115959
CREATED:20231111T222308Z
LAST-MODIFIED:20231111T222309Z
UID:10010185-1813491000-1813494600@rckilmarnock.org.uk
SUMMARY:Sunday Mass (OLMC)
DESCRIPTION:
URL:https://rckilmarnock.org.uk/event/sunday-mass-olmc-2/2027-06-20/
LOCATION:Our Lady of Mount Carmel\, Our Lady of Mount Carmel\, Kirkton Road\, Kilmarnock\, KA32DF
CATEGORIES:Mass
ATTACH;FMTTYPE=image/jpeg:https://rckilmarnock.org.uk/wp-content/uploads/2023/09/IMG_20230919_103638-scaled.webp
END:VEVENT
BEGIN:VEVENT
DTSTART;TZID=UTC:20270621T100000
DTEND;TZID=UTC:20270621T103000
DTSTAMP:20260425T115959
CREATED:20230910T134715Z
LAST-MODIFIED:20230911T103208Z
UID:10001051-1813572000-1813573800@rckilmarnock.org.uk
SUMMARY:Morning Mass (St Joseph’s)
DESCRIPTION:
URL:https://rckilmarnock.org.uk/event/morning-mass-st-josephs/2027-06-21/
LOCATION:St Joseph’s RC Church\, 15 Hill Street\, Kilmarnock\, KA31HB
CATEGORIES:Mass
ATTACH;FMTTYPE=image/jpeg:https://rckilmarnock.org.uk/wp-content/uploads/2023/09/StJosephs_Mass.jpg
END:VEVENT
BEGIN:VEVENT
DTSTART;TZID=Europe/London:20270621T100000
DTEND;TZID=Europe/London:20270621T103000
DTSTAMP:20260425T115959
CREATED:20251223T222817Z
LAST-MODIFIED:20251223T224929Z
UID:10016360-1813572000-1813573800@rckilmarnock.org.uk
SUMMARY:Morning Mass (St Matthew's)
DESCRIPTION:
URL:https://rckilmarnock.org.uk/event/morning-mass-st-matthews-10/2027-06-21/
LOCATION:St Matthew’s RC Church\, St Matthew's RC Church\, Kilmarnock\, KA10 6NJ
CATEGORIES:Mass
ATTACH;FMTTYPE=image/jpeg:https://rckilmarnock.org.uk/wp-content/uploads/2023/09/St-Matthews-Mass-scaled-e1712179768239.jpg
END:VEVENT
BEGIN:VEVENT
DTSTART;TZID=UTC:20270622T100000
DTEND;TZID=UTC:20270622T103000
DTSTAMP:20260425T115959
CREATED:20230910T134715Z
LAST-MODIFIED:20230911T103208Z
UID:10001052-1813658400-1813660200@rckilmarnock.org.uk
SUMMARY:Morning Mass (St Joseph’s)
DESCRIPTION:
URL:https://rckilmarnock.org.uk/event/morning-mass-st-josephs/2027-06-22/
LOCATION:St Joseph’s RC Church\, 15 Hill Street\, Kilmarnock\, KA31HB
CATEGORIES:Mass
ATTACH;FMTTYPE=image/jpeg:https://rckilmarnock.org.uk/wp-content/uploads/2023/09/StJosephs_Mass.jpg
END:VEVENT
BEGIN:VEVENT
DTSTART;TZID=UTC:20270623T100000
DTEND;TZID=UTC:20270623T103000
DTSTAMP:20260425T115959
CREATED:20230910T134715Z
LAST-MODIFIED:20230911T103208Z
UID:10001053-1813744800-1813746600@rckilmarnock.org.uk
SUMMARY:Morning Mass (St Joseph’s)
DESCRIPTION:
URL:https://rckilmarnock.org.uk/event/morning-mass-st-josephs/2027-06-23/
LOCATION:St Joseph’s RC Church\, 15 Hill Street\, Kilmarnock\, KA31HB
CATEGORIES:Mass
ATTACH;FMTTYPE=image/jpeg:https://rckilmarnock.org.uk/wp-content/uploads/2023/09/StJosephs_Mass.jpg
END:VEVENT
BEGIN:VEVENT
DTSTART;TZID=Europe/London:20270623T100000
DTEND;TZID=Europe/London:20270623T103000
DTSTAMP:20260425T115959
CREATED:20251223T222817Z
LAST-MODIFIED:20251223T224929Z
UID:10016361-1813744800-1813746600@rckilmarnock.org.uk
SUMMARY:Morning Mass (St Matthew's)
DESCRIPTION:
URL:https://rckilmarnock.org.uk/event/morning-mass-st-matthews-10/2027-06-23/
LOCATION:St Matthew’s RC Church\, St Matthew's RC Church\, Kilmarnock\, KA10 6NJ
CATEGORIES:Mass
ATTACH;FMTTYPE=image/jpeg:https://rckilmarnock.org.uk/wp-content/uploads/2023/09/St-Matthews-Mass-scaled-e1712179768239.jpg
END:VEVENT
BEGIN:VEVENT
DTSTART;TZID=Europe/London:20270624T180000
DTEND;TZID=Europe/London:20270624T183000
DTSTAMP:20260425T115959
CREATED:20230910T134742Z
LAST-MODIFIED:20240814T165945Z
UID:10012715-1813860000-1813861800@rckilmarnock.org.uk
SUMMARY:Evening Mass (St Joseph's)
DESCRIPTION:
URL:https://rckilmarnock.org.uk/event/__trashed/2027-06-24/
LOCATION:St Joseph’s RC Church\, 15 Hill Street\, Kilmarnock\, KA31HB
CATEGORIES:Mass
ATTACH;FMTTYPE=image/jpeg:https://rckilmarnock.org.uk/wp-content/uploads/2023/09/StJosephs_Mass.jpg
END:VEVENT
BEGIN:VEVENT
DTSTART;TZID=UTC:20270625T100000
DTEND;TZID=UTC:20270625T103000
DTSTAMP:20260425T115959
CREATED:20230910T134715Z
LAST-MODIFIED:20230911T103208Z
UID:10001054-1813917600-1813919400@rckilmarnock.org.uk
SUMMARY:Morning Mass (St Joseph’s)
DESCRIPTION:
URL:https://rckilmarnock.org.uk/event/morning-mass-st-josephs/2027-06-25/
LOCATION:St Joseph’s RC Church\, 15 Hill Street\, Kilmarnock\, KA31HB
CATEGORIES:Mass
ATTACH;FMTTYPE=image/jpeg:https://rckilmarnock.org.uk/wp-content/uploads/2023/09/StJosephs_Mass.jpg
END:VEVENT
BEGIN:VEVENT
DTSTART;TZID=Europe/London:20270626T180000
DTEND;TZID=Europe/London:20270626T190000
DTSTAMP:20260425T115959
CREATED:20230910T151740Z
LAST-MODIFIED:20230919T215702Z
UID:10002028-1814032800-1814036400@rckilmarnock.org.uk
SUMMARY:Vigil Mass (St Joseph's)
DESCRIPTION:
URL:https://rckilmarnock.org.uk/event/vigil-mass-st-josephs/2027-06-26/
LOCATION:St Joseph’s RC Church\, 15 Hill Street\, Kilmarnock\, KA31HB
CATEGORIES:Mass
ATTACH;FMTTYPE=image/jpeg:https://rckilmarnock.org.uk/wp-content/uploads/2023/09/StJosephs_Mass.jpg
END:VEVENT
BEGIN:VEVENT
DTSTART;TZID=Europe/London:20270627T093000
DTEND;TZID=Europe/London:20270627T103000
DTSTAMP:20260425T115959
CREATED:20230910T145347Z
LAST-MODIFIED:20240403T213443Z
UID:10001766-1814088600-1814092200@rckilmarnock.org.uk
SUMMARY:Sunday Mass (St Matthew's)
DESCRIPTION:
URL:https://rckilmarnock.org.uk/event/sunday-mass-st-matthews/2027-06-27/
LOCATION:St Matthew’s RC Church\, St Matthew's RC Church\, Kilmarnock\, KA10 6NJ
CATEGORIES:Mass
ATTACH;FMTTYPE=image/jpeg:https://rckilmarnock.org.uk/wp-content/uploads/2023/09/St-Matthews-Mass-scaled-e1712179768239.jpg
END:VEVENT
BEGIN:VEVENT
DTSTART;TZID=UTC:20270627T110000
DTEND;TZID=UTC:20270627T120000
DTSTAMP:20260425T115959
CREATED:20230909T220758Z
LAST-MODIFIED:20230919T215820Z
UID:10000199-1814094000-1814097600@rckilmarnock.org.uk
SUMMARY:Sunday Mass (St Joseph's)
DESCRIPTION:
URL:https://rckilmarnock.org.uk/event/mass-st-josephs/2027-06-27/
LOCATION:St Joseph’s RC Church\, 15 Hill Street\, Kilmarnock\, KA31HB
CATEGORIES:Mass
ATTACH;FMTTYPE=image/jpeg:https://rckilmarnock.org.uk/wp-content/uploads/2023/09/StJosephs_Mass.jpg
END:VEVENT
BEGIN:VEVENT
DTSTART;TZID=Europe/London:20270627T113000
DTEND;TZID=Europe/London:20270627T123000
DTSTAMP:20260425T115959
CREATED:20231111T222308Z
LAST-MODIFIED:20231111T222309Z
UID:10010186-1814095800-1814099400@rckilmarnock.org.uk
SUMMARY:Sunday Mass (OLMC)
DESCRIPTION:
URL:https://rckilmarnock.org.uk/event/sunday-mass-olmc-2/2027-06-27/
LOCATION:Our Lady of Mount Carmel\, Our Lady of Mount Carmel\, Kirkton Road\, Kilmarnock\, KA32DF
CATEGORIES:Mass
ATTACH;FMTTYPE=image/jpeg:https://rckilmarnock.org.uk/wp-content/uploads/2023/09/IMG_20230919_103638-scaled.webp
END:VEVENT
BEGIN:VEVENT
DTSTART;TZID=UTC:20270628T100000
DTEND;TZID=UTC:20270628T103000
DTSTAMP:20260425T115959
CREATED:20230910T134715Z
LAST-MODIFIED:20230911T103208Z
UID:10001055-1814176800-1814178600@rckilmarnock.org.uk
SUMMARY:Morning Mass (St Joseph’s)
DESCRIPTION:
URL:https://rckilmarnock.org.uk/event/morning-mass-st-josephs/2027-06-28/
LOCATION:St Joseph’s RC Church\, 15 Hill Street\, Kilmarnock\, KA31HB
CATEGORIES:Mass
ATTACH;FMTTYPE=image/jpeg:https://rckilmarnock.org.uk/wp-content/uploads/2023/09/StJosephs_Mass.jpg
END:VEVENT
BEGIN:VEVENT
DTSTART;TZID=Europe/London:20270628T100000
DTEND;TZID=Europe/London:20270628T103000
DTSTAMP:20260425T115959
CREATED:20251223T222817Z
LAST-MODIFIED:20251223T224929Z
UID:10016362-1814176800-1814178600@rckilmarnock.org.uk
SUMMARY:Morning Mass (St Matthew's)
DESCRIPTION:
URL:https://rckilmarnock.org.uk/event/morning-mass-st-matthews-10/2027-06-28/
LOCATION:St Matthew’s RC Church\, St Matthew's RC Church\, Kilmarnock\, KA10 6NJ
CATEGORIES:Mass
ATTACH;FMTTYPE=image/jpeg:https://rckilmarnock.org.uk/wp-content/uploads/2023/09/St-Matthews-Mass-scaled-e1712179768239.jpg
END:VEVENT
BEGIN:VEVENT
DTSTART;TZID=UTC:20270629T100000
DTEND;TZID=UTC:20270629T103000
DTSTAMP:20260425T115959
CREATED:20230910T134715Z
LAST-MODIFIED:20230911T103208Z
UID:10001056-1814263200-1814265000@rckilmarnock.org.uk
SUMMARY:Morning Mass (St Joseph’s)
DESCRIPTION:
URL:https://rckilmarnock.org.uk/event/morning-mass-st-josephs/2027-06-29/
LOCATION:St Joseph’s RC Church\, 15 Hill Street\, Kilmarnock\, KA31HB
CATEGORIES:Mass
ATTACH;FMTTYPE=image/jpeg:https://rckilmarnock.org.uk/wp-content/uploads/2023/09/StJosephs_Mass.jpg
END:VEVENT
BEGIN:VEVENT
DTSTART;TZID=UTC:20270630T100000
DTEND;TZID=UTC:20270630T103000
DTSTAMP:20260425T115959
CREATED:20230910T134715Z
LAST-MODIFIED:20230911T103208Z
UID:10001057-1814349600-1814351400@rckilmarnock.org.uk
SUMMARY:Morning Mass (St Joseph’s)
DESCRIPTION:
URL:https://rckilmarnock.org.uk/event/morning-mass-st-josephs/2027-06-30/
LOCATION:St Joseph’s RC Church\, 15 Hill Street\, Kilmarnock\, KA31HB
CATEGORIES:Mass
ATTACH;FMTTYPE=image/jpeg:https://rckilmarnock.org.uk/wp-content/uploads/2023/09/StJosephs_Mass.jpg
END:VEVENT
BEGIN:VEVENT
DTSTART;TZID=Europe/London:20270630T100000
DTEND;TZID=Europe/London:20270630T103000
DTSTAMP:20260425T115959
CREATED:20251223T222817Z
LAST-MODIFIED:20251223T224929Z
UID:10016363-1814349600-1814351400@rckilmarnock.org.uk
SUMMARY:Morning Mass (St Matthew's)
DESCRIPTION:
URL:https://rckilmarnock.org.uk/event/morning-mass-st-matthews-10/2027-06-30/
LOCATION:St Matthew’s RC Church\, St Matthew's RC Church\, Kilmarnock\, KA10 6NJ
CATEGORIES:Mass
ATTACH;FMTTYPE=image/jpeg:https://rckilmarnock.org.uk/wp-content/uploads/2023/09/St-Matthews-Mass-scaled-e1712179768239.jpg
END:VEVENT
BEGIN:VEVENT
DTSTART;TZID=Europe/London:20270701T180000
DTEND;TZID=Europe/London:20270701T183000
DTSTAMP:20260425T115959
CREATED:20230910T134742Z
LAST-MODIFIED:20240814T165945Z
UID:10012716-1814464800-1814466600@rckilmarnock.org.uk
SUMMARY:Evening Mass (St Joseph's)
DESCRIPTION:
URL:https://rckilmarnock.org.uk/event/__trashed/2027-07-01/
LOCATION:St Joseph’s RC Church\, 15 Hill Street\, Kilmarnock\, KA31HB
CATEGORIES:Mass
ATTACH;FMTTYPE=image/jpeg:https://rckilmarnock.org.uk/wp-content/uploads/2023/09/StJosephs_Mass.jpg
END:VEVENT
BEGIN:VEVENT
DTSTART;TZID=UTC:20270702T100000
DTEND;TZID=UTC:20270702T103000
DTSTAMP:20260425T115959
CREATED:20230910T134715Z
LAST-MODIFIED:20230911T103208Z
UID:10001058-1814522400-1814524200@rckilmarnock.org.uk
SUMMARY:Morning Mass (St Joseph’s)
DESCRIPTION:
URL:https://rckilmarnock.org.uk/event/morning-mass-st-josephs/2027-07-02/
LOCATION:St Joseph’s RC Church\, 15 Hill Street\, Kilmarnock\, KA31HB
CATEGORIES:Mass
ATTACH;FMTTYPE=image/jpeg:https://rckilmarnock.org.uk/wp-content/uploads/2023/09/StJosephs_Mass.jpg
END:VEVENT
BEGIN:VEVENT
DTSTART;TZID=Europe/London:20270703T180000
DTEND;TZID=Europe/London:20270703T190000
DTSTAMP:20260425T115959
CREATED:20230910T151740Z
LAST-MODIFIED:20230919T215702Z
UID:10002029-1814637600-1814641200@rckilmarnock.org.uk
SUMMARY:Vigil Mass (St Joseph's)
DESCRIPTION:
URL:https://rckilmarnock.org.uk/event/vigil-mass-st-josephs/2027-07-03/
LOCATION:St Joseph’s RC Church\, 15 Hill Street\, Kilmarnock\, KA31HB
CATEGORIES:Mass
ATTACH;FMTTYPE=image/jpeg:https://rckilmarnock.org.uk/wp-content/uploads/2023/09/StJosephs_Mass.jpg
END:VEVENT
BEGIN:VEVENT
DTSTART;TZID=Europe/London:20270704T093000
DTEND;TZID=Europe/London:20270704T103000
DTSTAMP:20260425T115959
CREATED:20230910T145347Z
LAST-MODIFIED:20240403T213443Z
UID:10001767-1814693400-1814697000@rckilmarnock.org.uk
SUMMARY:Sunday Mass (St Matthew's)
DESCRIPTION:
URL:https://rckilmarnock.org.uk/event/sunday-mass-st-matthews/2027-07-04/
LOCATION:St Matthew’s RC Church\, St Matthew's RC Church\, Kilmarnock\, KA10 6NJ
CATEGORIES:Mass
ATTACH;FMTTYPE=image/jpeg:https://rckilmarnock.org.uk/wp-content/uploads/2023/09/St-Matthews-Mass-scaled-e1712179768239.jpg
END:VEVENT
BEGIN:VEVENT
DTSTART;TZID=UTC:20270704T110000
DTEND;TZID=UTC:20270704T120000
DTSTAMP:20260425T115959
CREATED:20230909T220758Z
LAST-MODIFIED:20230919T215820Z
UID:10000200-1814698800-1814702400@rckilmarnock.org.uk
SUMMARY:Sunday Mass (St Joseph's)
DESCRIPTION:
URL:https://rckilmarnock.org.uk/event/mass-st-josephs/2027-07-04/
LOCATION:St Joseph’s RC Church\, 15 Hill Street\, Kilmarnock\, KA31HB
CATEGORIES:Mass
ATTACH;FMTTYPE=image/jpeg:https://rckilmarnock.org.uk/wp-content/uploads/2023/09/StJosephs_Mass.jpg
END:VEVENT
BEGIN:VEVENT
DTSTART;TZID=Europe/London:20270704T113000
DTEND;TZID=Europe/London:20270704T123000
DTSTAMP:20260425T115959
CREATED:20231111T222308Z
LAST-MODIFIED:20231111T222309Z
UID:10010187-1814700600-1814704200@rckilmarnock.org.uk
SUMMARY:Sunday Mass (OLMC)
DESCRIPTION:
URL:https://rckilmarnock.org.uk/event/sunday-mass-olmc-2/2027-07-04/
LOCATION:Our Lady of Mount Carmel\, Our Lady of Mount Carmel\, Kirkton Road\, Kilmarnock\, KA32DF
CATEGORIES:Mass
ATTACH;FMTTYPE=image/jpeg:https://rckilmarnock.org.uk/wp-content/uploads/2023/09/IMG_20230919_103638-scaled.webp
END:VEVENT
BEGIN:VEVENT
DTSTART;TZID=UTC:20270705T100000
DTEND;TZID=UTC:20270705T103000
DTSTAMP:20260425T115959
CREATED:20230910T134715Z
LAST-MODIFIED:20230911T103208Z
UID:10001059-1814781600-1814783400@rckilmarnock.org.uk
SUMMARY:Morning Mass (St Joseph’s)
DESCRIPTION:
URL:https://rckilmarnock.org.uk/event/morning-mass-st-josephs/2027-07-05/
LOCATION:St Joseph’s RC Church\, 15 Hill Street\, Kilmarnock\, KA31HB
CATEGORIES:Mass
ATTACH;FMTTYPE=image/jpeg:https://rckilmarnock.org.uk/wp-content/uploads/2023/09/StJosephs_Mass.jpg
END:VEVENT
END:VCALENDAR