BEGIN:VCALENDAR
VERSION:2.0
PRODID:-//RC Kilmarnock - ECPv6.15.20//NONSGML v1.0//EN
CALSCALE:GREGORIAN
METHOD:PUBLISH
X-ORIGINAL-URL:https://rckilmarnock.org.uk
X-WR-CALDESC:Events for RC Kilmarnock
REFRESH-INTERVAL;VALUE=DURATION:PT1H
X-Robots-Tag:noindex
X-PUBLISHED-TTL:PT1H
BEGIN:VTIMEZONE
TZID:Europe/London
BEGIN:DAYLIGHT
TZOFFSETFROM:+0000
TZOFFSETTO:+0100
TZNAME:BST
DTSTART:20240331T010000
END:DAYLIGHT
BEGIN:STANDARD
TZOFFSETFROM:+0100
TZOFFSETTO:+0000
TZNAME:GMT
DTSTART:20241027T010000
END:STANDARD
BEGIN:DAYLIGHT
TZOFFSETFROM:+0000
TZOFFSETTO:+0100
TZNAME:BST
DTSTART:20250330T010000
END:DAYLIGHT
BEGIN:STANDARD
TZOFFSETFROM:+0100
TZOFFSETTO:+0000
TZNAME:GMT
DTSTART:20251026T010000
END:STANDARD
BEGIN:DAYLIGHT
TZOFFSETFROM:+0000
TZOFFSETTO:+0100
TZNAME:BST
DTSTART:20260329T010000
END:DAYLIGHT
BEGIN:STANDARD
TZOFFSETFROM:+0100
TZOFFSETTO:+0000
TZNAME:GMT
DTSTART:20261025T010000
END:STANDARD
END:VTIMEZONE
BEGIN:VTIMEZONE
TZID:UTC
BEGIN:STANDARD
TZOFFSETFROM:+0000
TZOFFSETTO:+0000
TZNAME:UTC
DTSTART:20240101T000000
END:STANDARD
END:VTIMEZONE
BEGIN:VEVENT
DTSTART;TZID=Europe/London:20250215T100000
DTEND;TZID=Europe/London:20250215T103000
DTSTAMP:20260426T011352
CREATED:20230910T154325Z
LAST-MODIFIED:20240403T212941Z
UID:10006754-1739613600-1739615400@rckilmarnock.org.uk
SUMMARY:Morning Mass (St Matthew's)
DESCRIPTION:
URL:https://rckilmarnock.org.uk/event/morning-mass-st-matthews/2025-02-15/
LOCATION:St Matthew’s RC Church\, St Matthew's RC Church\, Kilmarnock\, KA10 6NJ
CATEGORIES:Mass
ATTACH;FMTTYPE=image/jpeg:https://rckilmarnock.org.uk/wp-content/uploads/2023/09/St-Matthews-Mass-scaled-e1712179768239.jpg
END:VEVENT
BEGIN:VEVENT
DTSTART;TZID=Europe/London:20250215T180000
DTEND;TZID=Europe/London:20250215T190000
DTSTAMP:20260426T011352
CREATED:20230910T151740Z
LAST-MODIFIED:20230919T215702Z
UID:10001905-1739642400-1739646000@rckilmarnock.org.uk
SUMMARY:Vigil Mass (St Joseph's)
DESCRIPTION:
URL:https://rckilmarnock.org.uk/event/vigil-mass-st-josephs/2025-02-15/
LOCATION:St Joseph’s RC Church\, 15 Hill Street\, Kilmarnock\, KA31HB
CATEGORIES:Mass
ATTACH;FMTTYPE=image/jpeg:https://rckilmarnock.org.uk/wp-content/uploads/2023/09/StJosephs_Mass.jpg
END:VEVENT
BEGIN:VEVENT
DTSTART;TZID=Europe/London:20250216T093000
DTEND;TZID=Europe/London:20250216T103000
DTSTAMP:20260426T011352
CREATED:20230910T145347Z
LAST-MODIFIED:20240403T213443Z
UID:10001643-1739698200-1739701800@rckilmarnock.org.uk
SUMMARY:Sunday Mass (St Matthew's)
DESCRIPTION:
URL:https://rckilmarnock.org.uk/event/sunday-mass-st-matthews/2025-02-16/
LOCATION:St Matthew’s RC Church\, St Matthew's RC Church\, Kilmarnock\, KA10 6NJ
CATEGORIES:Mass
ATTACH;FMTTYPE=image/jpeg:https://rckilmarnock.org.uk/wp-content/uploads/2023/09/St-Matthews-Mass-scaled-e1712179768239.jpg
END:VEVENT
BEGIN:VEVENT
DTSTART;TZID=UTC:20250216T110000
DTEND;TZID=UTC:20250216T120000
DTSTAMP:20260426T011352
CREATED:20230909T220758Z
LAST-MODIFIED:20230919T215820Z
UID:10000076-1739703600-1739707200@rckilmarnock.org.uk
SUMMARY:Sunday Mass (St Joseph's)
DESCRIPTION:
URL:https://rckilmarnock.org.uk/event/mass-st-josephs/2025-02-16/
LOCATION:St Joseph’s RC Church\, 15 Hill Street\, Kilmarnock\, KA31HB
CATEGORIES:Mass
ATTACH;FMTTYPE=image/jpeg:https://rckilmarnock.org.uk/wp-content/uploads/2023/09/StJosephs_Mass.jpg
END:VEVENT
BEGIN:VEVENT
DTSTART;TZID=Europe/London:20250216T113000
DTEND;TZID=Europe/London:20250216T123000
DTSTAMP:20260426T011352
CREATED:20231111T222308Z
LAST-MODIFIED:20231111T222309Z
UID:10010063-1739705400-1739709000@rckilmarnock.org.uk
SUMMARY:Sunday Mass (OLMC)
DESCRIPTION:
URL:https://rckilmarnock.org.uk/event/sunday-mass-olmc-2/2025-02-16/
LOCATION:Our Lady of Mount Carmel\, Our Lady of Mount Carmel\, Kirkton Road\, Kilmarnock\, KA32DF
CATEGORIES:Mass
ATTACH;FMTTYPE=image/jpeg:https://rckilmarnock.org.uk/wp-content/uploads/2023/09/IMG_20230919_103638-scaled.webp
END:VEVENT
BEGIN:VEVENT
DTSTART;TZID=UTC:20250217T100000
DTEND;TZID=UTC:20250217T103000
DTSTAMP:20260426T011352
CREATED:20230910T134715Z
LAST-MODIFIED:20230911T103208Z
UID:10000563-1739786400-1739788200@rckilmarnock.org.uk
SUMMARY:Morning Mass (St Joseph’s)
DESCRIPTION:
URL:https://rckilmarnock.org.uk/event/morning-mass-st-josephs/2025-02-17/
LOCATION:St Joseph’s RC Church\, 15 Hill Street\, Kilmarnock\, KA31HB
CATEGORIES:Mass
ATTACH;FMTTYPE=image/jpeg:https://rckilmarnock.org.uk/wp-content/uploads/2023/09/StJosephs_Mass.jpg
END:VEVENT
BEGIN:VEVENT
DTSTART;TZID=UTC:20250218T100000
DTEND;TZID=UTC:20250218T103000
DTSTAMP:20260426T011352
CREATED:20230910T134715Z
LAST-MODIFIED:20230911T103208Z
UID:10000564-1739872800-1739874600@rckilmarnock.org.uk
SUMMARY:Morning Mass (St Joseph’s)
DESCRIPTION:
URL:https://rckilmarnock.org.uk/event/morning-mass-st-josephs/2025-02-18/
LOCATION:St Joseph’s RC Church\, 15 Hill Street\, Kilmarnock\, KA31HB
CATEGORIES:Mass
ATTACH;FMTTYPE=image/jpeg:https://rckilmarnock.org.uk/wp-content/uploads/2023/09/StJosephs_Mass.jpg
END:VEVENT
BEGIN:VEVENT
DTSTART;TZID=Europe/London:20250218T100000
DTEND;TZID=Europe/London:20250218T103000
DTSTAMP:20260426T011352
CREATED:20230910T152950Z
LAST-MODIFIED:20230919T215336Z
UID:10004069-1739872800-1739874600@rckilmarnock.org.uk
SUMMARY:Morning Mass (OLMC)
DESCRIPTION:
URL:https://rckilmarnock.org.uk/event/morning-mass-olmc/2025-02-18/
LOCATION:Our Lady of Mount Carmel\, Our Lady of Mount Carmel\, Kirkton Road\, Kilmarnock\, KA32DF
CATEGORIES:Mass
ATTACH;FMTTYPE=image/jpeg:https://rckilmarnock.org.uk/wp-content/uploads/2023/09/IMG_20230919_103638-scaled.webp
END:VEVENT
BEGIN:VEVENT
DTSTART;TZID=UTC:20250219T100000
DTEND;TZID=UTC:20250219T103000
DTSTAMP:20260426T011352
CREATED:20230910T134715Z
LAST-MODIFIED:20230911T103208Z
UID:10000565-1739959200-1739961000@rckilmarnock.org.uk
SUMMARY:Morning Mass (St Joseph’s)
DESCRIPTION:
URL:https://rckilmarnock.org.uk/event/morning-mass-st-josephs/2025-02-19/
LOCATION:St Joseph’s RC Church\, 15 Hill Street\, Kilmarnock\, KA31HB
CATEGORIES:Mass
ATTACH;FMTTYPE=image/jpeg:https://rckilmarnock.org.uk/wp-content/uploads/2023/09/StJosephs_Mass.jpg
END:VEVENT
BEGIN:VEVENT
DTSTART;TZID=Europe/London:20250219T100000
DTEND;TZID=Europe/London:20250219T103000
DTSTAMP:20260426T011352
CREATED:20230910T154325Z
LAST-MODIFIED:20240403T212941Z
UID:10006755-1739959200-1739961000@rckilmarnock.org.uk
SUMMARY:Morning Mass (St Matthew's)
DESCRIPTION:
URL:https://rckilmarnock.org.uk/event/morning-mass-st-matthews/2025-02-19/
LOCATION:St Matthew’s RC Church\, St Matthew's RC Church\, Kilmarnock\, KA10 6NJ
CATEGORIES:Mass
ATTACH;FMTTYPE=image/jpeg:https://rckilmarnock.org.uk/wp-content/uploads/2023/09/St-Matthews-Mass-scaled-e1712179768239.jpg
END:VEVENT
BEGIN:VEVENT
DTSTART;TZID=Europe/London:20250220T100000
DTEND;TZID=Europe/London:20250220T103000
DTSTAMP:20260426T011352
CREATED:20230910T154325Z
LAST-MODIFIED:20240403T212941Z
UID:10006756-1740045600-1740047400@rckilmarnock.org.uk
SUMMARY:Morning Mass (St Matthew's)
DESCRIPTION:
URL:https://rckilmarnock.org.uk/event/morning-mass-st-matthews/2025-02-20/
LOCATION:St Matthew’s RC Church\, St Matthew's RC Church\, Kilmarnock\, KA10 6NJ
CATEGORIES:Mass
ATTACH;FMTTYPE=image/jpeg:https://rckilmarnock.org.uk/wp-content/uploads/2023/09/St-Matthews-Mass-scaled-e1712179768239.jpg
END:VEVENT
BEGIN:VEVENT
DTSTART;TZID=Europe/London:20250220T180000
DTEND;TZID=Europe/London:20250220T183000
DTSTAMP:20260426T011352
CREATED:20230910T134742Z
LAST-MODIFIED:20240814T165945Z
UID:10012593-1740074400-1740076200@rckilmarnock.org.uk
SUMMARY:Evening Mass (St Joseph's)
DESCRIPTION:
URL:https://rckilmarnock.org.uk/event/__trashed/2025-02-20/
LOCATION:St Joseph’s RC Church\, 15 Hill Street\, Kilmarnock\, KA31HB
CATEGORIES:Mass
ATTACH;FMTTYPE=image/jpeg:https://rckilmarnock.org.uk/wp-content/uploads/2023/09/StJosephs_Mass.jpg
END:VEVENT
BEGIN:VEVENT
DTSTART;TZID=UTC:20250221T100000
DTEND;TZID=UTC:20250221T103000
DTSTAMP:20260426T011352
CREATED:20230910T134715Z
LAST-MODIFIED:20230911T103208Z
UID:10000566-1740132000-1740133800@rckilmarnock.org.uk
SUMMARY:Morning Mass (St Joseph’s)
DESCRIPTION:
URL:https://rckilmarnock.org.uk/event/morning-mass-st-josephs/2025-02-21/
LOCATION:St Joseph’s RC Church\, 15 Hill Street\, Kilmarnock\, KA31HB
CATEGORIES:Mass
ATTACH;FMTTYPE=image/jpeg:https://rckilmarnock.org.uk/wp-content/uploads/2023/09/StJosephs_Mass.jpg
END:VEVENT
BEGIN:VEVENT
DTSTART;TZID=Europe/London:20250221T100000
DTEND;TZID=Europe/London:20250221T103000
DTSTAMP:20260426T011352
CREATED:20230910T152950Z
LAST-MODIFIED:20230919T215336Z
UID:10004070-1740132000-1740133800@rckilmarnock.org.uk
SUMMARY:Morning Mass (OLMC)
DESCRIPTION:
URL:https://rckilmarnock.org.uk/event/morning-mass-olmc/2025-02-21/
LOCATION:Our Lady of Mount Carmel\, Our Lady of Mount Carmel\, Kirkton Road\, Kilmarnock\, KA32DF
CATEGORIES:Mass
ATTACH;FMTTYPE=image/jpeg:https://rckilmarnock.org.uk/wp-content/uploads/2023/09/IMG_20230919_103638-scaled.webp
END:VEVENT
BEGIN:VEVENT
DTSTART;TZID=Europe/London:20250222T100000
DTEND;TZID=Europe/London:20250222T103000
DTSTAMP:20260426T011352
CREATED:20230910T154325Z
LAST-MODIFIED:20240403T212941Z
UID:10006757-1740218400-1740220200@rckilmarnock.org.uk
SUMMARY:Morning Mass (St Matthew's)
DESCRIPTION:
URL:https://rckilmarnock.org.uk/event/morning-mass-st-matthews/2025-02-22/
LOCATION:St Matthew’s RC Church\, St Matthew's RC Church\, Kilmarnock\, KA10 6NJ
CATEGORIES:Mass
ATTACH;FMTTYPE=image/jpeg:https://rckilmarnock.org.uk/wp-content/uploads/2023/09/St-Matthews-Mass-scaled-e1712179768239.jpg
END:VEVENT
BEGIN:VEVENT
DTSTART;TZID=Europe/London:20250222T180000
DTEND;TZID=Europe/London:20250222T190000
DTSTAMP:20260426T011352
CREATED:20230910T151740Z
LAST-MODIFIED:20230919T215702Z
UID:10001906-1740247200-1740250800@rckilmarnock.org.uk
SUMMARY:Vigil Mass (St Joseph's)
DESCRIPTION:
URL:https://rckilmarnock.org.uk/event/vigil-mass-st-josephs/2025-02-22/
LOCATION:St Joseph’s RC Church\, 15 Hill Street\, Kilmarnock\, KA31HB
CATEGORIES:Mass
ATTACH;FMTTYPE=image/jpeg:https://rckilmarnock.org.uk/wp-content/uploads/2023/09/StJosephs_Mass.jpg
END:VEVENT
BEGIN:VEVENT
DTSTART;TZID=Europe/London:20250223T093000
DTEND;TZID=Europe/London:20250223T103000
DTSTAMP:20260426T011352
CREATED:20230910T145347Z
LAST-MODIFIED:20240403T213443Z
UID:10001644-1740303000-1740306600@rckilmarnock.org.uk
SUMMARY:Sunday Mass (St Matthew's)
DESCRIPTION:
URL:https://rckilmarnock.org.uk/event/sunday-mass-st-matthews/2025-02-23/
LOCATION:St Matthew’s RC Church\, St Matthew's RC Church\, Kilmarnock\, KA10 6NJ
CATEGORIES:Mass
ATTACH;FMTTYPE=image/jpeg:https://rckilmarnock.org.uk/wp-content/uploads/2023/09/St-Matthews-Mass-scaled-e1712179768239.jpg
END:VEVENT
BEGIN:VEVENT
DTSTART;TZID=UTC:20250223T110000
DTEND;TZID=UTC:20250223T120000
DTSTAMP:20260426T011352
CREATED:20230909T220758Z
LAST-MODIFIED:20230919T215820Z
UID:10000077-1740308400-1740312000@rckilmarnock.org.uk
SUMMARY:Sunday Mass (St Joseph's)
DESCRIPTION:
URL:https://rckilmarnock.org.uk/event/mass-st-josephs/2025-02-23/
LOCATION:St Joseph’s RC Church\, 15 Hill Street\, Kilmarnock\, KA31HB
CATEGORIES:Mass
ATTACH;FMTTYPE=image/jpeg:https://rckilmarnock.org.uk/wp-content/uploads/2023/09/StJosephs_Mass.jpg
END:VEVENT
BEGIN:VEVENT
DTSTART;TZID=Europe/London:20250223T113000
DTEND;TZID=Europe/London:20250223T123000
DTSTAMP:20260426T011352
CREATED:20231111T222308Z
LAST-MODIFIED:20231111T222309Z
UID:10010064-1740310200-1740313800@rckilmarnock.org.uk
SUMMARY:Sunday Mass (OLMC)
DESCRIPTION:
URL:https://rckilmarnock.org.uk/event/sunday-mass-olmc-2/2025-02-23/
LOCATION:Our Lady of Mount Carmel\, Our Lady of Mount Carmel\, Kirkton Road\, Kilmarnock\, KA32DF
CATEGORIES:Mass
ATTACH;FMTTYPE=image/jpeg:https://rckilmarnock.org.uk/wp-content/uploads/2023/09/IMG_20230919_103638-scaled.webp
END:VEVENT
BEGIN:VEVENT
DTSTART;TZID=UTC:20250224T100000
DTEND;TZID=UTC:20250224T103000
DTSTAMP:20260426T011352
CREATED:20230910T134715Z
LAST-MODIFIED:20230911T103208Z
UID:10000567-1740391200-1740393000@rckilmarnock.org.uk
SUMMARY:Morning Mass (St Joseph’s)
DESCRIPTION:
URL:https://rckilmarnock.org.uk/event/morning-mass-st-josephs/2025-02-24/
LOCATION:St Joseph’s RC Church\, 15 Hill Street\, Kilmarnock\, KA31HB
CATEGORIES:Mass
ATTACH;FMTTYPE=image/jpeg:https://rckilmarnock.org.uk/wp-content/uploads/2023/09/StJosephs_Mass.jpg
END:VEVENT
BEGIN:VEVENT
DTSTART;TZID=UTC:20250225T100000
DTEND;TZID=UTC:20250225T103000
DTSTAMP:20260426T011352
CREATED:20230910T134715Z
LAST-MODIFIED:20230911T103208Z
UID:10000568-1740477600-1740479400@rckilmarnock.org.uk
SUMMARY:Morning Mass (St Joseph’s)
DESCRIPTION:
URL:https://rckilmarnock.org.uk/event/morning-mass-st-josephs/2025-02-25/
LOCATION:St Joseph’s RC Church\, 15 Hill Street\, Kilmarnock\, KA31HB
CATEGORIES:Mass
ATTACH;FMTTYPE=image/jpeg:https://rckilmarnock.org.uk/wp-content/uploads/2023/09/StJosephs_Mass.jpg
END:VEVENT
BEGIN:VEVENT
DTSTART;TZID=Europe/London:20250225T100000
DTEND;TZID=Europe/London:20250225T103000
DTSTAMP:20260426T011352
CREATED:20230910T152950Z
LAST-MODIFIED:20230919T215336Z
UID:10004071-1740477600-1740479400@rckilmarnock.org.uk
SUMMARY:Morning Mass (OLMC)
DESCRIPTION:
URL:https://rckilmarnock.org.uk/event/morning-mass-olmc/2025-02-25/
LOCATION:Our Lady of Mount Carmel\, Our Lady of Mount Carmel\, Kirkton Road\, Kilmarnock\, KA32DF
CATEGORIES:Mass
ATTACH;FMTTYPE=image/jpeg:https://rckilmarnock.org.uk/wp-content/uploads/2023/09/IMG_20230919_103638-scaled.webp
END:VEVENT
BEGIN:VEVENT
DTSTART;TZID=UTC:20250226T100000
DTEND;TZID=UTC:20250226T103000
DTSTAMP:20260426T011353
CREATED:20230910T134715Z
LAST-MODIFIED:20230911T103208Z
UID:10000569-1740564000-1740565800@rckilmarnock.org.uk
SUMMARY:Morning Mass (St Joseph’s)
DESCRIPTION:
URL:https://rckilmarnock.org.uk/event/morning-mass-st-josephs/2025-02-26/
LOCATION:St Joseph’s RC Church\, 15 Hill Street\, Kilmarnock\, KA31HB
CATEGORIES:Mass
ATTACH;FMTTYPE=image/jpeg:https://rckilmarnock.org.uk/wp-content/uploads/2023/09/StJosephs_Mass.jpg
END:VEVENT
BEGIN:VEVENT
DTSTART;TZID=Europe/London:20250226T100000
DTEND;TZID=Europe/London:20250226T103000
DTSTAMP:20260426T011353
CREATED:20230910T154325Z
LAST-MODIFIED:20240403T212941Z
UID:10006758-1740564000-1740565800@rckilmarnock.org.uk
SUMMARY:Morning Mass (St Matthew's)
DESCRIPTION:
URL:https://rckilmarnock.org.uk/event/morning-mass-st-matthews/2025-02-26/
LOCATION:St Matthew’s RC Church\, St Matthew's RC Church\, Kilmarnock\, KA10 6NJ
CATEGORIES:Mass
ATTACH;FMTTYPE=image/jpeg:https://rckilmarnock.org.uk/wp-content/uploads/2023/09/St-Matthews-Mass-scaled-e1712179768239.jpg
END:VEVENT
BEGIN:VEVENT
DTSTART;TZID=Europe/London:20250227T100000
DTEND;TZID=Europe/London:20250227T103000
DTSTAMP:20260426T011353
CREATED:20230910T154325Z
LAST-MODIFIED:20240403T212941Z
UID:10006759-1740650400-1740652200@rckilmarnock.org.uk
SUMMARY:Morning Mass (St Matthew's)
DESCRIPTION:
URL:https://rckilmarnock.org.uk/event/morning-mass-st-matthews/2025-02-27/
LOCATION:St Matthew’s RC Church\, St Matthew's RC Church\, Kilmarnock\, KA10 6NJ
CATEGORIES:Mass
ATTACH;FMTTYPE=image/jpeg:https://rckilmarnock.org.uk/wp-content/uploads/2023/09/St-Matthews-Mass-scaled-e1712179768239.jpg
END:VEVENT
BEGIN:VEVENT
DTSTART;TZID=Europe/London:20250227T180000
DTEND;TZID=Europe/London:20250227T183000
DTSTAMP:20260426T011353
CREATED:20230910T134742Z
LAST-MODIFIED:20240814T165945Z
UID:10012594-1740679200-1740681000@rckilmarnock.org.uk
SUMMARY:Evening Mass (St Joseph's)
DESCRIPTION:
URL:https://rckilmarnock.org.uk/event/__trashed/2025-02-27/
LOCATION:St Joseph’s RC Church\, 15 Hill Street\, Kilmarnock\, KA31HB
CATEGORIES:Mass
ATTACH;FMTTYPE=image/jpeg:https://rckilmarnock.org.uk/wp-content/uploads/2023/09/StJosephs_Mass.jpg
END:VEVENT
BEGIN:VEVENT
DTSTART;TZID=UTC:20250228T100000
DTEND;TZID=UTC:20250228T103000
DTSTAMP:20260426T011353
CREATED:20230910T134715Z
LAST-MODIFIED:20230911T103208Z
UID:10000570-1740736800-1740738600@rckilmarnock.org.uk
SUMMARY:Morning Mass (St Joseph’s)
DESCRIPTION:
URL:https://rckilmarnock.org.uk/event/morning-mass-st-josephs/2025-02-28/
LOCATION:St Joseph’s RC Church\, 15 Hill Street\, Kilmarnock\, KA31HB
CATEGORIES:Mass
ATTACH;FMTTYPE=image/jpeg:https://rckilmarnock.org.uk/wp-content/uploads/2023/09/StJosephs_Mass.jpg
END:VEVENT
BEGIN:VEVENT
DTSTART;TZID=Europe/London:20250228T100000
DTEND;TZID=Europe/London:20250228T103000
DTSTAMP:20260426T011353
CREATED:20230910T152950Z
LAST-MODIFIED:20230919T215336Z
UID:10004072-1740736800-1740738600@rckilmarnock.org.uk
SUMMARY:Morning Mass (OLMC)
DESCRIPTION:
URL:https://rckilmarnock.org.uk/event/morning-mass-olmc/2025-02-28/
LOCATION:Our Lady of Mount Carmel\, Our Lady of Mount Carmel\, Kirkton Road\, Kilmarnock\, KA32DF
CATEGORIES:Mass
ATTACH;FMTTYPE=image/jpeg:https://rckilmarnock.org.uk/wp-content/uploads/2023/09/IMG_20230919_103638-scaled.webp
END:VEVENT
BEGIN:VEVENT
DTSTART;TZID=Europe/London:20250301T100000
DTEND;TZID=Europe/London:20250301T103000
DTSTAMP:20260426T011353
CREATED:20230910T154325Z
LAST-MODIFIED:20240403T212941Z
UID:10006760-1740823200-1740825000@rckilmarnock.org.uk
SUMMARY:Morning Mass (St Matthew's)
DESCRIPTION:
URL:https://rckilmarnock.org.uk/event/morning-mass-st-matthews/2025-03-01/
LOCATION:St Matthew’s RC Church\, St Matthew's RC Church\, Kilmarnock\, KA10 6NJ
CATEGORIES:Mass
ATTACH;FMTTYPE=image/jpeg:https://rckilmarnock.org.uk/wp-content/uploads/2023/09/St-Matthews-Mass-scaled-e1712179768239.jpg
END:VEVENT
BEGIN:VEVENT
DTSTART;TZID=Europe/London:20250301T180000
DTEND;TZID=Europe/London:20250301T190000
DTSTAMP:20260426T011353
CREATED:20230910T151740Z
LAST-MODIFIED:20230919T215702Z
UID:10001907-1740852000-1740855600@rckilmarnock.org.uk
SUMMARY:Vigil Mass (St Joseph's)
DESCRIPTION:
URL:https://rckilmarnock.org.uk/event/vigil-mass-st-josephs/2025-03-01/
LOCATION:St Joseph’s RC Church\, 15 Hill Street\, Kilmarnock\, KA31HB
CATEGORIES:Mass
ATTACH;FMTTYPE=image/jpeg:https://rckilmarnock.org.uk/wp-content/uploads/2023/09/StJosephs_Mass.jpg
END:VEVENT
END:VCALENDAR