BEGIN:VCALENDAR
VERSION:2.0
PRODID:-//RC Kilmarnock - ECPv6.15.20//NONSGML v1.0//EN
CALSCALE:GREGORIAN
METHOD:PUBLISH
X-ORIGINAL-URL:https://rckilmarnock.org.uk
X-WR-CALDESC:Events for RC Kilmarnock
REFRESH-INTERVAL;VALUE=DURATION:PT1H
X-Robots-Tag:noindex
X-PUBLISHED-TTL:PT1H
BEGIN:VTIMEZONE
TZID:Europe/London
BEGIN:DAYLIGHT
TZOFFSETFROM:+0000
TZOFFSETTO:+0100
TZNAME:BST
DTSTART:20240331T010000
END:DAYLIGHT
BEGIN:STANDARD
TZOFFSETFROM:+0100
TZOFFSETTO:+0000
TZNAME:GMT
DTSTART:20241027T010000
END:STANDARD
BEGIN:DAYLIGHT
TZOFFSETFROM:+0000
TZOFFSETTO:+0100
TZNAME:BST
DTSTART:20250330T010000
END:DAYLIGHT
BEGIN:STANDARD
TZOFFSETFROM:+0100
TZOFFSETTO:+0000
TZNAME:GMT
DTSTART:20251026T010000
END:STANDARD
BEGIN:DAYLIGHT
TZOFFSETFROM:+0000
TZOFFSETTO:+0100
TZNAME:BST
DTSTART:20260329T010000
END:DAYLIGHT
BEGIN:STANDARD
TZOFFSETFROM:+0100
TZOFFSETTO:+0000
TZNAME:GMT
DTSTART:20261025T010000
END:STANDARD
END:VTIMEZONE
BEGIN:VTIMEZONE
TZID:UTC
BEGIN:STANDARD
TZOFFSETFROM:+0000
TZOFFSETTO:+0000
TZNAME:UTC
DTSTART:20240101T000000
END:STANDARD
END:VTIMEZONE
BEGIN:VEVENT
DTSTART;TZID=Europe/London:20250525T093000
DTEND;TZID=Europe/London:20250525T103000
DTSTAMP:20260425T171951
CREATED:20230910T145347Z
LAST-MODIFIED:20240403T213443Z
UID:10001657-1748165400-1748169000@rckilmarnock.org.uk
SUMMARY:Sunday Mass (St Matthew's)
DESCRIPTION:
URL:https://rckilmarnock.org.uk/event/sunday-mass-st-matthews/2025-05-25/
LOCATION:St Matthew’s RC Church\, St Matthew's RC Church\, Kilmarnock\, KA10 6NJ
CATEGORIES:Mass
ATTACH;FMTTYPE=image/jpeg:https://rckilmarnock.org.uk/wp-content/uploads/2023/09/St-Matthews-Mass-scaled-e1712179768239.jpg
END:VEVENT
BEGIN:VEVENT
DTSTART;TZID=UTC:20250525T110000
DTEND;TZID=UTC:20250525T120000
DTSTAMP:20260425T171951
CREATED:20230909T220758Z
LAST-MODIFIED:20230919T215820Z
UID:10000090-1748170800-1748174400@rckilmarnock.org.uk
SUMMARY:Sunday Mass (St Joseph's)
DESCRIPTION:
URL:https://rckilmarnock.org.uk/event/mass-st-josephs/2025-05-25/
LOCATION:St Joseph’s RC Church\, 15 Hill Street\, Kilmarnock\, KA31HB
CATEGORIES:Mass
ATTACH;FMTTYPE=image/jpeg:https://rckilmarnock.org.uk/wp-content/uploads/2023/09/StJosephs_Mass.jpg
END:VEVENT
BEGIN:VEVENT
DTSTART;TZID=Europe/London:20250525T113000
DTEND;TZID=Europe/London:20250525T123000
DTSTAMP:20260425T171951
CREATED:20231111T222308Z
LAST-MODIFIED:20231111T222309Z
UID:10010077-1748172600-1748176200@rckilmarnock.org.uk
SUMMARY:Sunday Mass (OLMC)
DESCRIPTION:
URL:https://rckilmarnock.org.uk/event/sunday-mass-olmc-2/2025-05-25/
LOCATION:Our Lady of Mount Carmel\, Our Lady of Mount Carmel\, Kirkton Road\, Kilmarnock\, KA32DF
CATEGORIES:Mass
ATTACH;FMTTYPE=image/jpeg:https://rckilmarnock.org.uk/wp-content/uploads/2023/09/IMG_20230919_103638-scaled.webp
END:VEVENT
BEGIN:VEVENT
DTSTART;TZID=UTC:20250526T100000
DTEND;TZID=UTC:20250526T103000
DTSTAMP:20260425T171951
CREATED:20230910T134715Z
LAST-MODIFIED:20230911T103208Z
UID:10000619-1748253600-1748255400@rckilmarnock.org.uk
SUMMARY:Morning Mass (St Joseph’s)
DESCRIPTION:
URL:https://rckilmarnock.org.uk/event/morning-mass-st-josephs/2025-05-26/
LOCATION:St Joseph’s RC Church\, 15 Hill Street\, Kilmarnock\, KA31HB
CATEGORIES:Mass
ATTACH;FMTTYPE=image/jpeg:https://rckilmarnock.org.uk/wp-content/uploads/2023/09/StJosephs_Mass.jpg
END:VEVENT
BEGIN:VEVENT
DTSTART;TZID=UTC:20250527T100000
DTEND;TZID=UTC:20250527T103000
DTSTAMP:20260425T171951
CREATED:20230910T134715Z
LAST-MODIFIED:20230911T103208Z
UID:10000620-1748340000-1748341800@rckilmarnock.org.uk
SUMMARY:Morning Mass (St Joseph’s)
DESCRIPTION:
URL:https://rckilmarnock.org.uk/event/morning-mass-st-josephs/2025-05-27/
LOCATION:St Joseph’s RC Church\, 15 Hill Street\, Kilmarnock\, KA31HB
CATEGORIES:Mass
ATTACH;FMTTYPE=image/jpeg:https://rckilmarnock.org.uk/wp-content/uploads/2023/09/StJosephs_Mass.jpg
END:VEVENT
BEGIN:VEVENT
DTSTART;TZID=Europe/London:20250527T100000
DTEND;TZID=Europe/London:20250527T103000
DTSTAMP:20260425T171951
CREATED:20230910T152950Z
LAST-MODIFIED:20230919T215336Z
UID:10004097-1748340000-1748341800@rckilmarnock.org.uk
SUMMARY:Morning Mass (OLMC)
DESCRIPTION:
URL:https://rckilmarnock.org.uk/event/morning-mass-olmc/2025-05-27/
LOCATION:Our Lady of Mount Carmel\, Our Lady of Mount Carmel\, Kirkton Road\, Kilmarnock\, KA32DF
CATEGORIES:Mass
ATTACH;FMTTYPE=image/jpeg:https://rckilmarnock.org.uk/wp-content/uploads/2023/09/IMG_20230919_103638-scaled.webp
END:VEVENT
BEGIN:VEVENT
DTSTART;TZID=UTC:20250528T100000
DTEND;TZID=UTC:20250528T103000
DTSTAMP:20260425T171951
CREATED:20230910T134715Z
LAST-MODIFIED:20230911T103208Z
UID:10000621-1748426400-1748428200@rckilmarnock.org.uk
SUMMARY:Morning Mass (St Joseph’s)
DESCRIPTION:
URL:https://rckilmarnock.org.uk/event/morning-mass-st-josephs/2025-05-28/
LOCATION:St Joseph’s RC Church\, 15 Hill Street\, Kilmarnock\, KA31HB
CATEGORIES:Mass
ATTACH;FMTTYPE=image/jpeg:https://rckilmarnock.org.uk/wp-content/uploads/2023/09/StJosephs_Mass.jpg
END:VEVENT
BEGIN:VEVENT
DTSTART;TZID=Europe/London:20250528T100000
DTEND;TZID=Europe/London:20250528T103000
DTSTAMP:20260425T171951
CREATED:20230910T154325Z
LAST-MODIFIED:20240403T212941Z
UID:10006797-1748426400-1748428200@rckilmarnock.org.uk
SUMMARY:Morning Mass (St Matthew's)
DESCRIPTION:
URL:https://rckilmarnock.org.uk/event/morning-mass-st-matthews/2025-05-28/
LOCATION:St Matthew’s RC Church\, St Matthew's RC Church\, Kilmarnock\, KA10 6NJ
CATEGORIES:Mass
ATTACH;FMTTYPE=image/jpeg:https://rckilmarnock.org.uk/wp-content/uploads/2023/09/St-Matthews-Mass-scaled-e1712179768239.jpg
END:VEVENT
BEGIN:VEVENT
DTSTART;TZID=Europe/London:20250529T100000
DTEND;TZID=Europe/London:20250529T103000
DTSTAMP:20260425T171951
CREATED:20230910T154325Z
LAST-MODIFIED:20240403T212941Z
UID:10006798-1748512800-1748514600@rckilmarnock.org.uk
SUMMARY:Morning Mass (St Matthew's)
DESCRIPTION:
URL:https://rckilmarnock.org.uk/event/morning-mass-st-matthews/2025-05-29/
LOCATION:St Matthew’s RC Church\, St Matthew's RC Church\, Kilmarnock\, KA10 6NJ
CATEGORIES:Mass
ATTACH;FMTTYPE=image/jpeg:https://rckilmarnock.org.uk/wp-content/uploads/2023/09/St-Matthews-Mass-scaled-e1712179768239.jpg
END:VEVENT
BEGIN:VEVENT
DTSTART;TZID=Europe/London:20250529T180000
DTEND;TZID=Europe/London:20250529T183000
DTSTAMP:20260425T171951
CREATED:20230910T134742Z
LAST-MODIFIED:20240814T165945Z
UID:10012607-1748541600-1748543400@rckilmarnock.org.uk
SUMMARY:Evening Mass (St Joseph's)
DESCRIPTION:
URL:https://rckilmarnock.org.uk/event/__trashed/2025-05-29/
LOCATION:St Joseph’s RC Church\, 15 Hill Street\, Kilmarnock\, KA31HB
CATEGORIES:Mass
ATTACH;FMTTYPE=image/jpeg:https://rckilmarnock.org.uk/wp-content/uploads/2023/09/StJosephs_Mass.jpg
END:VEVENT
BEGIN:VEVENT
DTSTART;TZID=UTC:20250530T100000
DTEND;TZID=UTC:20250530T103000
DTSTAMP:20260425T171951
CREATED:20230910T134715Z
LAST-MODIFIED:20230911T103208Z
UID:10000622-1748599200-1748601000@rckilmarnock.org.uk
SUMMARY:Morning Mass (St Joseph’s)
DESCRIPTION:
URL:https://rckilmarnock.org.uk/event/morning-mass-st-josephs/2025-05-30/
LOCATION:St Joseph’s RC Church\, 15 Hill Street\, Kilmarnock\, KA31HB
CATEGORIES:Mass
ATTACH;FMTTYPE=image/jpeg:https://rckilmarnock.org.uk/wp-content/uploads/2023/09/StJosephs_Mass.jpg
END:VEVENT
BEGIN:VEVENT
DTSTART;TZID=Europe/London:20250530T100000
DTEND;TZID=Europe/London:20250530T103000
DTSTAMP:20260425T171951
CREATED:20230910T152950Z
LAST-MODIFIED:20230919T215336Z
UID:10004098-1748599200-1748601000@rckilmarnock.org.uk
SUMMARY:Morning Mass (OLMC)
DESCRIPTION:
URL:https://rckilmarnock.org.uk/event/morning-mass-olmc/2025-05-30/
LOCATION:Our Lady of Mount Carmel\, Our Lady of Mount Carmel\, Kirkton Road\, Kilmarnock\, KA32DF
CATEGORIES:Mass
ATTACH;FMTTYPE=image/jpeg:https://rckilmarnock.org.uk/wp-content/uploads/2023/09/IMG_20230919_103638-scaled.webp
END:VEVENT
BEGIN:VEVENT
DTSTART;TZID=Europe/London:20250531T100000
DTEND;TZID=Europe/London:20250531T103000
DTSTAMP:20260425T171951
CREATED:20230910T154325Z
LAST-MODIFIED:20240403T212941Z
UID:10006799-1748685600-1748687400@rckilmarnock.org.uk
SUMMARY:Morning Mass (St Matthew's)
DESCRIPTION:
URL:https://rckilmarnock.org.uk/event/morning-mass-st-matthews/2025-05-31/
LOCATION:St Matthew’s RC Church\, St Matthew's RC Church\, Kilmarnock\, KA10 6NJ
CATEGORIES:Mass
ATTACH;FMTTYPE=image/jpeg:https://rckilmarnock.org.uk/wp-content/uploads/2023/09/St-Matthews-Mass-scaled-e1712179768239.jpg
END:VEVENT
BEGIN:VEVENT
DTSTART;TZID=Europe/London:20250531T180000
DTEND;TZID=Europe/London:20250531T190000
DTSTAMP:20260425T171951
CREATED:20230910T151740Z
LAST-MODIFIED:20230919T215702Z
UID:10001920-1748714400-1748718000@rckilmarnock.org.uk
SUMMARY:Vigil Mass (St Joseph's)
DESCRIPTION:
URL:https://rckilmarnock.org.uk/event/vigil-mass-st-josephs/2025-05-31/
LOCATION:St Joseph’s RC Church\, 15 Hill Street\, Kilmarnock\, KA31HB
CATEGORIES:Mass
ATTACH;FMTTYPE=image/jpeg:https://rckilmarnock.org.uk/wp-content/uploads/2023/09/StJosephs_Mass.jpg
END:VEVENT
BEGIN:VEVENT
DTSTART;TZID=Europe/London:20250601T093000
DTEND;TZID=Europe/London:20250601T103000
DTSTAMP:20260425T171951
CREATED:20230910T145347Z
LAST-MODIFIED:20240403T213443Z
UID:10001658-1748770200-1748773800@rckilmarnock.org.uk
SUMMARY:Sunday Mass (St Matthew's)
DESCRIPTION:
URL:https://rckilmarnock.org.uk/event/sunday-mass-st-matthews/2025-06-01/
LOCATION:St Matthew’s RC Church\, St Matthew's RC Church\, Kilmarnock\, KA10 6NJ
CATEGORIES:Mass
ATTACH;FMTTYPE=image/jpeg:https://rckilmarnock.org.uk/wp-content/uploads/2023/09/St-Matthews-Mass-scaled-e1712179768239.jpg
END:VEVENT
BEGIN:VEVENT
DTSTART;TZID=UTC:20250601T110000
DTEND;TZID=UTC:20250601T120000
DTSTAMP:20260425T171951
CREATED:20230909T220758Z
LAST-MODIFIED:20230919T215820Z
UID:10000091-1748775600-1748779200@rckilmarnock.org.uk
SUMMARY:Sunday Mass (St Joseph's)
DESCRIPTION:
URL:https://rckilmarnock.org.uk/event/mass-st-josephs/2025-06-01/
LOCATION:St Joseph’s RC Church\, 15 Hill Street\, Kilmarnock\, KA31HB
CATEGORIES:Mass
ATTACH;FMTTYPE=image/jpeg:https://rckilmarnock.org.uk/wp-content/uploads/2023/09/StJosephs_Mass.jpg
END:VEVENT
BEGIN:VEVENT
DTSTART;TZID=Europe/London:20250601T113000
DTEND;TZID=Europe/London:20250601T123000
DTSTAMP:20260425T171951
CREATED:20231111T222308Z
LAST-MODIFIED:20231111T222309Z
UID:10010078-1748777400-1748781000@rckilmarnock.org.uk
SUMMARY:Sunday Mass (OLMC)
DESCRIPTION:
URL:https://rckilmarnock.org.uk/event/sunday-mass-olmc-2/2025-06-01/
LOCATION:Our Lady of Mount Carmel\, Our Lady of Mount Carmel\, Kirkton Road\, Kilmarnock\, KA32DF
CATEGORIES:Mass
ATTACH;FMTTYPE=image/jpeg:https://rckilmarnock.org.uk/wp-content/uploads/2023/09/IMG_20230919_103638-scaled.webp
END:VEVENT
BEGIN:VEVENT
DTSTART;TZID=UTC:20250602T100000
DTEND;TZID=UTC:20250602T103000
DTSTAMP:20260425T171951
CREATED:20230910T134715Z
LAST-MODIFIED:20230911T103208Z
UID:10000623-1748858400-1748860200@rckilmarnock.org.uk
SUMMARY:Morning Mass (St Joseph’s)
DESCRIPTION:
URL:https://rckilmarnock.org.uk/event/morning-mass-st-josephs/2025-06-02/
LOCATION:St Joseph’s RC Church\, 15 Hill Street\, Kilmarnock\, KA31HB
CATEGORIES:Mass
ATTACH;FMTTYPE=image/jpeg:https://rckilmarnock.org.uk/wp-content/uploads/2023/09/StJosephs_Mass.jpg
END:VEVENT
BEGIN:VEVENT
DTSTART;TZID=UTC:20250603T100000
DTEND;TZID=UTC:20250603T103000
DTSTAMP:20260425T171951
CREATED:20230910T134715Z
LAST-MODIFIED:20230911T103208Z
UID:10000624-1748944800-1748946600@rckilmarnock.org.uk
SUMMARY:Morning Mass (St Joseph’s)
DESCRIPTION:
URL:https://rckilmarnock.org.uk/event/morning-mass-st-josephs/2025-06-03/
LOCATION:St Joseph’s RC Church\, 15 Hill Street\, Kilmarnock\, KA31HB
CATEGORIES:Mass
ATTACH;FMTTYPE=image/jpeg:https://rckilmarnock.org.uk/wp-content/uploads/2023/09/StJosephs_Mass.jpg
END:VEVENT
BEGIN:VEVENT
DTSTART;TZID=Europe/London:20250603T100000
DTEND;TZID=Europe/London:20250603T103000
DTSTAMP:20260425T171951
CREATED:20230910T152950Z
LAST-MODIFIED:20230919T215336Z
UID:10004099-1748944800-1748946600@rckilmarnock.org.uk
SUMMARY:Morning Mass (OLMC)
DESCRIPTION:
URL:https://rckilmarnock.org.uk/event/morning-mass-olmc/2025-06-03/
LOCATION:Our Lady of Mount Carmel\, Our Lady of Mount Carmel\, Kirkton Road\, Kilmarnock\, KA32DF
CATEGORIES:Mass
ATTACH;FMTTYPE=image/jpeg:https://rckilmarnock.org.uk/wp-content/uploads/2023/09/IMG_20230919_103638-scaled.webp
END:VEVENT
BEGIN:VEVENT
DTSTART;TZID=UTC:20250604T100000
DTEND;TZID=UTC:20250604T103000
DTSTAMP:20260425T171951
CREATED:20230910T134715Z
LAST-MODIFIED:20230911T103208Z
UID:10000625-1749031200-1749033000@rckilmarnock.org.uk
SUMMARY:Morning Mass (St Joseph’s)
DESCRIPTION:
URL:https://rckilmarnock.org.uk/event/morning-mass-st-josephs/2025-06-04/
LOCATION:St Joseph’s RC Church\, 15 Hill Street\, Kilmarnock\, KA31HB
CATEGORIES:Mass
ATTACH;FMTTYPE=image/jpeg:https://rckilmarnock.org.uk/wp-content/uploads/2023/09/StJosephs_Mass.jpg
END:VEVENT
BEGIN:VEVENT
DTSTART;TZID=Europe/London:20250604T100000
DTEND;TZID=Europe/London:20250604T103000
DTSTAMP:20260425T171951
CREATED:20230910T154325Z
LAST-MODIFIED:20240403T212941Z
UID:10006800-1749031200-1749033000@rckilmarnock.org.uk
SUMMARY:Morning Mass (St Matthew's)
DESCRIPTION:
URL:https://rckilmarnock.org.uk/event/morning-mass-st-matthews/2025-06-04/
LOCATION:St Matthew’s RC Church\, St Matthew's RC Church\, Kilmarnock\, KA10 6NJ
CATEGORIES:Mass
ATTACH;FMTTYPE=image/jpeg:https://rckilmarnock.org.uk/wp-content/uploads/2023/09/St-Matthews-Mass-scaled-e1712179768239.jpg
END:VEVENT
BEGIN:VEVENT
DTSTART;TZID=Europe/London:20250605T100000
DTEND;TZID=Europe/London:20250605T103000
DTSTAMP:20260425T171951
CREATED:20230910T154325Z
LAST-MODIFIED:20240403T212941Z
UID:10006801-1749117600-1749119400@rckilmarnock.org.uk
SUMMARY:Morning Mass (St Matthew's)
DESCRIPTION:
URL:https://rckilmarnock.org.uk/event/morning-mass-st-matthews/2025-06-05/
LOCATION:St Matthew’s RC Church\, St Matthew's RC Church\, Kilmarnock\, KA10 6NJ
CATEGORIES:Mass
ATTACH;FMTTYPE=image/jpeg:https://rckilmarnock.org.uk/wp-content/uploads/2023/09/St-Matthews-Mass-scaled-e1712179768239.jpg
END:VEVENT
BEGIN:VEVENT
DTSTART;TZID=Europe/London:20250605T180000
DTEND;TZID=Europe/London:20250605T183000
DTSTAMP:20260425T171951
CREATED:20230910T134742Z
LAST-MODIFIED:20240814T165945Z
UID:10012608-1749146400-1749148200@rckilmarnock.org.uk
SUMMARY:Evening Mass (St Joseph's)
DESCRIPTION:
URL:https://rckilmarnock.org.uk/event/__trashed/2025-06-05/
LOCATION:St Joseph’s RC Church\, 15 Hill Street\, Kilmarnock\, KA31HB
CATEGORIES:Mass
ATTACH;FMTTYPE=image/jpeg:https://rckilmarnock.org.uk/wp-content/uploads/2023/09/StJosephs_Mass.jpg
END:VEVENT
BEGIN:VEVENT
DTSTART;TZID=UTC:20250606T100000
DTEND;TZID=UTC:20250606T103000
DTSTAMP:20260425T171951
CREATED:20230910T134715Z
LAST-MODIFIED:20230911T103208Z
UID:10000626-1749204000-1749205800@rckilmarnock.org.uk
SUMMARY:Morning Mass (St Joseph’s)
DESCRIPTION:
URL:https://rckilmarnock.org.uk/event/morning-mass-st-josephs/2025-06-06/
LOCATION:St Joseph’s RC Church\, 15 Hill Street\, Kilmarnock\, KA31HB
CATEGORIES:Mass
ATTACH;FMTTYPE=image/jpeg:https://rckilmarnock.org.uk/wp-content/uploads/2023/09/StJosephs_Mass.jpg
END:VEVENT
BEGIN:VEVENT
DTSTART;TZID=Europe/London:20250606T100000
DTEND;TZID=Europe/London:20250606T103000
DTSTAMP:20260425T171951
CREATED:20230910T152950Z
LAST-MODIFIED:20230919T215336Z
UID:10004100-1749204000-1749205800@rckilmarnock.org.uk
SUMMARY:Morning Mass (OLMC)
DESCRIPTION:
URL:https://rckilmarnock.org.uk/event/morning-mass-olmc/2025-06-06/
LOCATION:Our Lady of Mount Carmel\, Our Lady of Mount Carmel\, Kirkton Road\, Kilmarnock\, KA32DF
CATEGORIES:Mass
ATTACH;FMTTYPE=image/jpeg:https://rckilmarnock.org.uk/wp-content/uploads/2023/09/IMG_20230919_103638-scaled.webp
END:VEVENT
BEGIN:VEVENT
DTSTART;TZID=Europe/London:20250607T100000
DTEND;TZID=Europe/London:20250607T103000
DTSTAMP:20260425T171951
CREATED:20230910T154325Z
LAST-MODIFIED:20240403T212941Z
UID:10006802-1749290400-1749292200@rckilmarnock.org.uk
SUMMARY:Morning Mass (St Matthew's)
DESCRIPTION:
URL:https://rckilmarnock.org.uk/event/morning-mass-st-matthews/2025-06-07/
LOCATION:St Matthew’s RC Church\, St Matthew's RC Church\, Kilmarnock\, KA10 6NJ
CATEGORIES:Mass
ATTACH;FMTTYPE=image/jpeg:https://rckilmarnock.org.uk/wp-content/uploads/2023/09/St-Matthews-Mass-scaled-e1712179768239.jpg
END:VEVENT
BEGIN:VEVENT
DTSTART;TZID=Europe/London:20250607T180000
DTEND;TZID=Europe/London:20250607T190000
DTSTAMP:20260425T171951
CREATED:20230910T151740Z
LAST-MODIFIED:20230919T215702Z
UID:10001921-1749319200-1749322800@rckilmarnock.org.uk
SUMMARY:Vigil Mass (St Joseph's)
DESCRIPTION:
URL:https://rckilmarnock.org.uk/event/vigil-mass-st-josephs/2025-06-07/
LOCATION:St Joseph’s RC Church\, 15 Hill Street\, Kilmarnock\, KA31HB
CATEGORIES:Mass
ATTACH;FMTTYPE=image/jpeg:https://rckilmarnock.org.uk/wp-content/uploads/2023/09/StJosephs_Mass.jpg
END:VEVENT
BEGIN:VEVENT
DTSTART;TZID=Europe/London:20250608T093000
DTEND;TZID=Europe/London:20250608T103000
DTSTAMP:20260425T171951
CREATED:20230910T145347Z
LAST-MODIFIED:20240403T213443Z
UID:10001659-1749375000-1749378600@rckilmarnock.org.uk
SUMMARY:Sunday Mass (St Matthew's)
DESCRIPTION:
URL:https://rckilmarnock.org.uk/event/sunday-mass-st-matthews/2025-06-08/
LOCATION:St Matthew’s RC Church\, St Matthew's RC Church\, Kilmarnock\, KA10 6NJ
CATEGORIES:Mass
ATTACH;FMTTYPE=image/jpeg:https://rckilmarnock.org.uk/wp-content/uploads/2023/09/St-Matthews-Mass-scaled-e1712179768239.jpg
END:VEVENT
BEGIN:VEVENT
DTSTART;TZID=UTC:20250608T110000
DTEND;TZID=UTC:20250608T120000
DTSTAMP:20260425T171951
CREATED:20230909T220758Z
LAST-MODIFIED:20230919T215820Z
UID:10000092-1749380400-1749384000@rckilmarnock.org.uk
SUMMARY:Sunday Mass (St Joseph's)
DESCRIPTION:
URL:https://rckilmarnock.org.uk/event/mass-st-josephs/2025-06-08/
LOCATION:St Joseph’s RC Church\, 15 Hill Street\, Kilmarnock\, KA31HB
CATEGORIES:Mass
ATTACH;FMTTYPE=image/jpeg:https://rckilmarnock.org.uk/wp-content/uploads/2023/09/StJosephs_Mass.jpg
END:VEVENT
END:VCALENDAR