BEGIN:VCALENDAR
VERSION:2.0
PRODID:-//RC Kilmarnock - ECPv6.15.20//NONSGML v1.0//EN
CALSCALE:GREGORIAN
METHOD:PUBLISH
X-WR-CALNAME:RC Kilmarnock
X-ORIGINAL-URL:https://rckilmarnock.org.uk
X-WR-CALDESC:Events for RC Kilmarnock
REFRESH-INTERVAL;VALUE=DURATION:PT1H
X-Robots-Tag:noindex
X-PUBLISHED-TTL:PT1H
BEGIN:VTIMEZONE
TZID:Europe/London
BEGIN:DAYLIGHT
TZOFFSETFROM:+0000
TZOFFSETTO:+0100
TZNAME:BST
DTSTART:20240331T010000
END:DAYLIGHT
BEGIN:STANDARD
TZOFFSETFROM:+0100
TZOFFSETTO:+0000
TZNAME:GMT
DTSTART:20241027T010000
END:STANDARD
BEGIN:DAYLIGHT
TZOFFSETFROM:+0000
TZOFFSETTO:+0100
TZNAME:BST
DTSTART:20250330T010000
END:DAYLIGHT
BEGIN:STANDARD
TZOFFSETFROM:+0100
TZOFFSETTO:+0000
TZNAME:GMT
DTSTART:20251026T010000
END:STANDARD
BEGIN:DAYLIGHT
TZOFFSETFROM:+0000
TZOFFSETTO:+0100
TZNAME:BST
DTSTART:20260329T010000
END:DAYLIGHT
BEGIN:STANDARD
TZOFFSETFROM:+0100
TZOFFSETTO:+0000
TZNAME:GMT
DTSTART:20261025T010000
END:STANDARD
END:VTIMEZONE
BEGIN:VTIMEZONE
TZID:UTC
BEGIN:STANDARD
TZOFFSETFROM:+0000
TZOFFSETTO:+0000
TZNAME:UTC
DTSTART:20240101T000000
END:STANDARD
END:VTIMEZONE
BEGIN:VEVENT
DTSTART;TZID=Europe/London:20250803T113000
DTEND;TZID=Europe/London:20250803T123000
DTSTAMP:20260425T143649
CREATED:20231111T222308Z
LAST-MODIFIED:20231111T222309Z
UID:10010087-1754220600-1754224200@rckilmarnock.org.uk
SUMMARY:Sunday Mass (OLMC)
DESCRIPTION:
URL:https://rckilmarnock.org.uk/event/sunday-mass-olmc-2/2025-08-03/
LOCATION:Our Lady of Mount Carmel\, Our Lady of Mount Carmel\, Kirkton Road\, Kilmarnock\, KA32DF
CATEGORIES:Mass
ATTACH;FMTTYPE=image/jpeg:https://rckilmarnock.org.uk/wp-content/uploads/2023/09/IMG_20230919_103638-scaled.webp
END:VEVENT
BEGIN:VEVENT
DTSTART;TZID=UTC:20250804T100000
DTEND;TZID=UTC:20250804T103000
DTSTAMP:20260425T143649
CREATED:20230910T134715Z
LAST-MODIFIED:20230911T103208Z
UID:10000659-1754301600-1754303400@rckilmarnock.org.uk
SUMMARY:Morning Mass (St Joseph’s)
DESCRIPTION:
URL:https://rckilmarnock.org.uk/event/morning-mass-st-josephs/2025-08-04/
LOCATION:St Joseph’s RC Church\, 15 Hill Street\, Kilmarnock\, KA31HB
CATEGORIES:Mass
ATTACH;FMTTYPE=image/jpeg:https://rckilmarnock.org.uk/wp-content/uploads/2023/09/StJosephs_Mass.jpg
END:VEVENT
BEGIN:VEVENT
DTSTART;TZID=UTC:20250805T100000
DTEND;TZID=UTC:20250805T103000
DTSTAMP:20260425T143649
CREATED:20230910T134715Z
LAST-MODIFIED:20230911T103208Z
UID:10000660-1754388000-1754389800@rckilmarnock.org.uk
SUMMARY:Morning Mass (St Joseph’s)
DESCRIPTION:
URL:https://rckilmarnock.org.uk/event/morning-mass-st-josephs/2025-08-05/
LOCATION:St Joseph’s RC Church\, 15 Hill Street\, Kilmarnock\, KA31HB
CATEGORIES:Mass
ATTACH;FMTTYPE=image/jpeg:https://rckilmarnock.org.uk/wp-content/uploads/2023/09/StJosephs_Mass.jpg
END:VEVENT
BEGIN:VEVENT
DTSTART;TZID=Europe/London:20250805T100000
DTEND;TZID=Europe/London:20250805T103000
DTSTAMP:20260425T143649
CREATED:20230910T152950Z
LAST-MODIFIED:20230919T215336Z
UID:10004117-1754388000-1754389800@rckilmarnock.org.uk
SUMMARY:Morning Mass (OLMC)
DESCRIPTION:
URL:https://rckilmarnock.org.uk/event/morning-mass-olmc/2025-08-05/
LOCATION:Our Lady of Mount Carmel\, Our Lady of Mount Carmel\, Kirkton Road\, Kilmarnock\, KA32DF
CATEGORIES:Mass
ATTACH;FMTTYPE=image/jpeg:https://rckilmarnock.org.uk/wp-content/uploads/2023/09/IMG_20230919_103638-scaled.webp
END:VEVENT
BEGIN:VEVENT
DTSTART;TZID=UTC:20250806T100000
DTEND;TZID=UTC:20250806T103000
DTSTAMP:20260425T143649
CREATED:20230910T134715Z
LAST-MODIFIED:20230911T103208Z
UID:10000661-1754474400-1754476200@rckilmarnock.org.uk
SUMMARY:Morning Mass (St Joseph’s)
DESCRIPTION:
URL:https://rckilmarnock.org.uk/event/morning-mass-st-josephs/2025-08-06/
LOCATION:St Joseph’s RC Church\, 15 Hill Street\, Kilmarnock\, KA31HB
CATEGORIES:Mass
ATTACH;FMTTYPE=image/jpeg:https://rckilmarnock.org.uk/wp-content/uploads/2023/09/StJosephs_Mass.jpg
END:VEVENT
BEGIN:VEVENT
DTSTART;TZID=Europe/London:20250806T100000
DTEND;TZID=Europe/London:20250806T103000
DTSTAMP:20260425T143649
CREATED:20230910T154325Z
LAST-MODIFIED:20240403T212941Z
UID:10006827-1754474400-1754476200@rckilmarnock.org.uk
SUMMARY:Morning Mass (St Matthew's)
DESCRIPTION:
URL:https://rckilmarnock.org.uk/event/morning-mass-st-matthews/2025-08-06/
LOCATION:St Matthew’s RC Church\, St Matthew's RC Church\, Kilmarnock\, KA10 6NJ
CATEGORIES:Mass
ATTACH;FMTTYPE=image/jpeg:https://rckilmarnock.org.uk/wp-content/uploads/2023/09/St-Matthews-Mass-scaled-e1712179768239.jpg
END:VEVENT
BEGIN:VEVENT
DTSTART;TZID=Europe/London:20250807T100000
DTEND;TZID=Europe/London:20250807T103000
DTSTAMP:20260425T143649
CREATED:20230910T154325Z
LAST-MODIFIED:20240403T212941Z
UID:10006828-1754560800-1754562600@rckilmarnock.org.uk
SUMMARY:Morning Mass (St Matthew's)
DESCRIPTION:
URL:https://rckilmarnock.org.uk/event/morning-mass-st-matthews/2025-08-07/
LOCATION:St Matthew’s RC Church\, St Matthew's RC Church\, Kilmarnock\, KA10 6NJ
CATEGORIES:Mass
ATTACH;FMTTYPE=image/jpeg:https://rckilmarnock.org.uk/wp-content/uploads/2023/09/St-Matthews-Mass-scaled-e1712179768239.jpg
END:VEVENT
BEGIN:VEVENT
DTSTART;TZID=Europe/London:20250807T180000
DTEND;TZID=Europe/London:20250807T183000
DTSTAMP:20260425T143649
CREATED:20230910T134742Z
LAST-MODIFIED:20240814T165945Z
UID:10012617-1754589600-1754591400@rckilmarnock.org.uk
SUMMARY:Evening Mass (St Joseph's)
DESCRIPTION:
URL:https://rckilmarnock.org.uk/event/__trashed/2025-08-07/
LOCATION:St Joseph’s RC Church\, 15 Hill Street\, Kilmarnock\, KA31HB
CATEGORIES:Mass
ATTACH;FMTTYPE=image/jpeg:https://rckilmarnock.org.uk/wp-content/uploads/2023/09/StJosephs_Mass.jpg
END:VEVENT
BEGIN:VEVENT
DTSTART;TZID=UTC:20250808T100000
DTEND;TZID=UTC:20250808T103000
DTSTAMP:20260425T143649
CREATED:20230910T134715Z
LAST-MODIFIED:20230911T103208Z
UID:10000662-1754647200-1754649000@rckilmarnock.org.uk
SUMMARY:Morning Mass (St Joseph’s)
DESCRIPTION:
URL:https://rckilmarnock.org.uk/event/morning-mass-st-josephs/2025-08-08/
LOCATION:St Joseph’s RC Church\, 15 Hill Street\, Kilmarnock\, KA31HB
CATEGORIES:Mass
ATTACH;FMTTYPE=image/jpeg:https://rckilmarnock.org.uk/wp-content/uploads/2023/09/StJosephs_Mass.jpg
END:VEVENT
BEGIN:VEVENT
DTSTART;TZID=Europe/London:20250808T100000
DTEND;TZID=Europe/London:20250808T103000
DTSTAMP:20260425T143649
CREATED:20230910T152950Z
LAST-MODIFIED:20230919T215336Z
UID:10004118-1754647200-1754649000@rckilmarnock.org.uk
SUMMARY:Morning Mass (OLMC)
DESCRIPTION:
URL:https://rckilmarnock.org.uk/event/morning-mass-olmc/2025-08-08/
LOCATION:Our Lady of Mount Carmel\, Our Lady of Mount Carmel\, Kirkton Road\, Kilmarnock\, KA32DF
CATEGORIES:Mass
ATTACH;FMTTYPE=image/jpeg:https://rckilmarnock.org.uk/wp-content/uploads/2023/09/IMG_20230919_103638-scaled.webp
END:VEVENT
BEGIN:VEVENT
DTSTART;TZID=Europe/London:20250809T100000
DTEND;TZID=Europe/London:20250809T103000
DTSTAMP:20260425T143649
CREATED:20230910T154325Z
LAST-MODIFIED:20240403T212941Z
UID:10006829-1754733600-1754735400@rckilmarnock.org.uk
SUMMARY:Morning Mass (St Matthew's)
DESCRIPTION:
URL:https://rckilmarnock.org.uk/event/morning-mass-st-matthews/2025-08-09/
LOCATION:St Matthew’s RC Church\, St Matthew's RC Church\, Kilmarnock\, KA10 6NJ
CATEGORIES:Mass
ATTACH;FMTTYPE=image/jpeg:https://rckilmarnock.org.uk/wp-content/uploads/2023/09/St-Matthews-Mass-scaled-e1712179768239.jpg
END:VEVENT
BEGIN:VEVENT
DTSTART;TZID=Europe/London:20250809T180000
DTEND;TZID=Europe/London:20250809T190000
DTSTAMP:20260425T143649
CREATED:20230910T151740Z
LAST-MODIFIED:20230919T215702Z
UID:10001930-1754762400-1754766000@rckilmarnock.org.uk
SUMMARY:Vigil Mass (St Joseph's)
DESCRIPTION:
URL:https://rckilmarnock.org.uk/event/vigil-mass-st-josephs/2025-08-09/
LOCATION:St Joseph’s RC Church\, 15 Hill Street\, Kilmarnock\, KA31HB
CATEGORIES:Mass
ATTACH;FMTTYPE=image/jpeg:https://rckilmarnock.org.uk/wp-content/uploads/2023/09/StJosephs_Mass.jpg
END:VEVENT
BEGIN:VEVENT
DTSTART;TZID=Europe/London:20250810T093000
DTEND;TZID=Europe/London:20250810T103000
DTSTAMP:20260425T143649
CREATED:20230910T145347Z
LAST-MODIFIED:20240403T213443Z
UID:10001668-1754818200-1754821800@rckilmarnock.org.uk
SUMMARY:Sunday Mass (St Matthew's)
DESCRIPTION:
URL:https://rckilmarnock.org.uk/event/sunday-mass-st-matthews/2025-08-10/
LOCATION:St Matthew’s RC Church\, St Matthew's RC Church\, Kilmarnock\, KA10 6NJ
CATEGORIES:Mass
ATTACH;FMTTYPE=image/jpeg:https://rckilmarnock.org.uk/wp-content/uploads/2023/09/St-Matthews-Mass-scaled-e1712179768239.jpg
END:VEVENT
BEGIN:VEVENT
DTSTART;TZID=UTC:20250810T110000
DTEND;TZID=UTC:20250810T120000
DTSTAMP:20260425T143649
CREATED:20230909T220758Z
LAST-MODIFIED:20230919T215820Z
UID:10000101-1754823600-1754827200@rckilmarnock.org.uk
SUMMARY:Sunday Mass (St Joseph's)
DESCRIPTION:
URL:https://rckilmarnock.org.uk/event/mass-st-josephs/2025-08-10/
LOCATION:St Joseph’s RC Church\, 15 Hill Street\, Kilmarnock\, KA31HB
CATEGORIES:Mass
ATTACH;FMTTYPE=image/jpeg:https://rckilmarnock.org.uk/wp-content/uploads/2023/09/StJosephs_Mass.jpg
END:VEVENT
BEGIN:VEVENT
DTSTART;TZID=Europe/London:20250810T113000
DTEND;TZID=Europe/London:20250810T123000
DTSTAMP:20260425T143649
CREATED:20231111T222308Z
LAST-MODIFIED:20231111T222309Z
UID:10010088-1754825400-1754829000@rckilmarnock.org.uk
SUMMARY:Sunday Mass (OLMC)
DESCRIPTION:
URL:https://rckilmarnock.org.uk/event/sunday-mass-olmc-2/2025-08-10/
LOCATION:Our Lady of Mount Carmel\, Our Lady of Mount Carmel\, Kirkton Road\, Kilmarnock\, KA32DF
CATEGORIES:Mass
ATTACH;FMTTYPE=image/jpeg:https://rckilmarnock.org.uk/wp-content/uploads/2023/09/IMG_20230919_103638-scaled.webp
END:VEVENT
BEGIN:VEVENT
DTSTART;TZID=UTC:20250811T100000
DTEND;TZID=UTC:20250811T103000
DTSTAMP:20260425T143649
CREATED:20230910T134715Z
LAST-MODIFIED:20230911T103208Z
UID:10000663-1754906400-1754908200@rckilmarnock.org.uk
SUMMARY:Morning Mass (St Joseph’s)
DESCRIPTION:
URL:https://rckilmarnock.org.uk/event/morning-mass-st-josephs/2025-08-11/
LOCATION:St Joseph’s RC Church\, 15 Hill Street\, Kilmarnock\, KA31HB
CATEGORIES:Mass
ATTACH;FMTTYPE=image/jpeg:https://rckilmarnock.org.uk/wp-content/uploads/2023/09/StJosephs_Mass.jpg
END:VEVENT
BEGIN:VEVENT
DTSTART;TZID=UTC:20250812T100000
DTEND;TZID=UTC:20250812T103000
DTSTAMP:20260425T143649
CREATED:20230910T134715Z
LAST-MODIFIED:20230911T103208Z
UID:10000664-1754992800-1754994600@rckilmarnock.org.uk
SUMMARY:Morning Mass (St Joseph’s)
DESCRIPTION:
URL:https://rckilmarnock.org.uk/event/morning-mass-st-josephs/2025-08-12/
LOCATION:St Joseph’s RC Church\, 15 Hill Street\, Kilmarnock\, KA31HB
CATEGORIES:Mass
ATTACH;FMTTYPE=image/jpeg:https://rckilmarnock.org.uk/wp-content/uploads/2023/09/StJosephs_Mass.jpg
END:VEVENT
BEGIN:VEVENT
DTSTART;TZID=Europe/London:20250812T100000
DTEND;TZID=Europe/London:20250812T103000
DTSTAMP:20260425T143649
CREATED:20230910T152950Z
LAST-MODIFIED:20230919T215336Z
UID:10004119-1754992800-1754994600@rckilmarnock.org.uk
SUMMARY:Morning Mass (OLMC)
DESCRIPTION:
URL:https://rckilmarnock.org.uk/event/morning-mass-olmc/2025-08-12/
LOCATION:Our Lady of Mount Carmel\, Our Lady of Mount Carmel\, Kirkton Road\, Kilmarnock\, KA32DF
CATEGORIES:Mass
ATTACH;FMTTYPE=image/jpeg:https://rckilmarnock.org.uk/wp-content/uploads/2023/09/IMG_20230919_103638-scaled.webp
END:VEVENT
BEGIN:VEVENT
DTSTART;TZID=UTC:20250813T100000
DTEND;TZID=UTC:20250813T103000
DTSTAMP:20260425T143649
CREATED:20230910T134715Z
LAST-MODIFIED:20230911T103208Z
UID:10000665-1755079200-1755081000@rckilmarnock.org.uk
SUMMARY:Morning Mass (St Joseph’s)
DESCRIPTION:
URL:https://rckilmarnock.org.uk/event/morning-mass-st-josephs/2025-08-13/
LOCATION:St Joseph’s RC Church\, 15 Hill Street\, Kilmarnock\, KA31HB
CATEGORIES:Mass
ATTACH;FMTTYPE=image/jpeg:https://rckilmarnock.org.uk/wp-content/uploads/2023/09/StJosephs_Mass.jpg
END:VEVENT
BEGIN:VEVENT
DTSTART;TZID=Europe/London:20250813T100000
DTEND;TZID=Europe/London:20250813T103000
DTSTAMP:20260425T143649
CREATED:20230910T154325Z
LAST-MODIFIED:20240403T212941Z
UID:10006830-1755079200-1755081000@rckilmarnock.org.uk
SUMMARY:Morning Mass (St Matthew's)
DESCRIPTION:
URL:https://rckilmarnock.org.uk/event/morning-mass-st-matthews/2025-08-13/
LOCATION:St Matthew’s RC Church\, St Matthew's RC Church\, Kilmarnock\, KA10 6NJ
CATEGORIES:Mass
ATTACH;FMTTYPE=image/jpeg:https://rckilmarnock.org.uk/wp-content/uploads/2023/09/St-Matthews-Mass-scaled-e1712179768239.jpg
END:VEVENT
BEGIN:VEVENT
DTSTART;TZID=Europe/London:20250814T100000
DTEND;TZID=Europe/London:20250814T103000
DTSTAMP:20260425T143649
CREATED:20230910T154325Z
LAST-MODIFIED:20240403T212941Z
UID:10006831-1755165600-1755167400@rckilmarnock.org.uk
SUMMARY:Morning Mass (St Matthew's)
DESCRIPTION:
URL:https://rckilmarnock.org.uk/event/morning-mass-st-matthews/2025-08-14/
LOCATION:St Matthew’s RC Church\, St Matthew's RC Church\, Kilmarnock\, KA10 6NJ
CATEGORIES:Mass
ATTACH;FMTTYPE=image/jpeg:https://rckilmarnock.org.uk/wp-content/uploads/2023/09/St-Matthews-Mass-scaled-e1712179768239.jpg
END:VEVENT
BEGIN:VEVENT
DTSTART;TZID=Europe/London:20250814T180000
DTEND;TZID=Europe/London:20250814T183000
DTSTAMP:20260425T143650
CREATED:20230910T134742Z
LAST-MODIFIED:20240814T165945Z
UID:10012618-1755194400-1755196200@rckilmarnock.org.uk
SUMMARY:Evening Mass (St Joseph's)
DESCRIPTION:
URL:https://rckilmarnock.org.uk/event/__trashed/2025-08-14/
LOCATION:St Joseph’s RC Church\, 15 Hill Street\, Kilmarnock\, KA31HB
CATEGORIES:Mass
ATTACH;FMTTYPE=image/jpeg:https://rckilmarnock.org.uk/wp-content/uploads/2023/09/StJosephs_Mass.jpg
END:VEVENT
BEGIN:VEVENT
DTSTART;TZID=UTC:20250815T100000
DTEND;TZID=UTC:20250815T103000
DTSTAMP:20260425T143650
CREATED:20230910T134715Z
LAST-MODIFIED:20230911T103208Z
UID:10000666-1755252000-1755253800@rckilmarnock.org.uk
SUMMARY:Morning Mass (St Joseph’s)
DESCRIPTION:
URL:https://rckilmarnock.org.uk/event/morning-mass-st-josephs/2025-08-15/
LOCATION:St Joseph’s RC Church\, 15 Hill Street\, Kilmarnock\, KA31HB
CATEGORIES:Mass
ATTACH;FMTTYPE=image/jpeg:https://rckilmarnock.org.uk/wp-content/uploads/2023/09/StJosephs_Mass.jpg
END:VEVENT
BEGIN:VEVENT
DTSTART;TZID=Europe/London:20250815T100000
DTEND;TZID=Europe/London:20250815T103000
DTSTAMP:20260425T143650
CREATED:20230910T152950Z
LAST-MODIFIED:20230919T215336Z
UID:10004120-1755252000-1755253800@rckilmarnock.org.uk
SUMMARY:Morning Mass (OLMC)
DESCRIPTION:
URL:https://rckilmarnock.org.uk/event/morning-mass-olmc/2025-08-15/
LOCATION:Our Lady of Mount Carmel\, Our Lady of Mount Carmel\, Kirkton Road\, Kilmarnock\, KA32DF
CATEGORIES:Mass
ATTACH;FMTTYPE=image/jpeg:https://rckilmarnock.org.uk/wp-content/uploads/2023/09/IMG_20230919_103638-scaled.webp
END:VEVENT
BEGIN:VEVENT
DTSTART;TZID=Europe/London:20250816T100000
DTEND;TZID=Europe/London:20250816T103000
DTSTAMP:20260425T143650
CREATED:20230910T154325Z
LAST-MODIFIED:20240403T212941Z
UID:10006832-1755338400-1755340200@rckilmarnock.org.uk
SUMMARY:Morning Mass (St Matthew's)
DESCRIPTION:
URL:https://rckilmarnock.org.uk/event/morning-mass-st-matthews/2025-08-16/
LOCATION:St Matthew’s RC Church\, St Matthew's RC Church\, Kilmarnock\, KA10 6NJ
CATEGORIES:Mass
ATTACH;FMTTYPE=image/jpeg:https://rckilmarnock.org.uk/wp-content/uploads/2023/09/St-Matthews-Mass-scaled-e1712179768239.jpg
END:VEVENT
BEGIN:VEVENT
DTSTART;TZID=Europe/London:20250816T180000
DTEND;TZID=Europe/London:20250816T190000
DTSTAMP:20260425T143650
CREATED:20230910T151740Z
LAST-MODIFIED:20230919T215702Z
UID:10001931-1755367200-1755370800@rckilmarnock.org.uk
SUMMARY:Vigil Mass (St Joseph's)
DESCRIPTION:
URL:https://rckilmarnock.org.uk/event/vigil-mass-st-josephs/2025-08-16/
LOCATION:St Joseph’s RC Church\, 15 Hill Street\, Kilmarnock\, KA31HB
CATEGORIES:Mass
ATTACH;FMTTYPE=image/jpeg:https://rckilmarnock.org.uk/wp-content/uploads/2023/09/StJosephs_Mass.jpg
END:VEVENT
BEGIN:VEVENT
DTSTART;TZID=Europe/London:20250817T093000
DTEND;TZID=Europe/London:20250817T103000
DTSTAMP:20260425T143650
CREATED:20230910T145347Z
LAST-MODIFIED:20240403T213443Z
UID:10001669-1755423000-1755426600@rckilmarnock.org.uk
SUMMARY:Sunday Mass (St Matthew's)
DESCRIPTION:
URL:https://rckilmarnock.org.uk/event/sunday-mass-st-matthews/2025-08-17/
LOCATION:St Matthew’s RC Church\, St Matthew's RC Church\, Kilmarnock\, KA10 6NJ
CATEGORIES:Mass
ATTACH;FMTTYPE=image/jpeg:https://rckilmarnock.org.uk/wp-content/uploads/2023/09/St-Matthews-Mass-scaled-e1712179768239.jpg
END:VEVENT
BEGIN:VEVENT
DTSTART;TZID=UTC:20250817T110000
DTEND;TZID=UTC:20250817T120000
DTSTAMP:20260425T143650
CREATED:20230909T220758Z
LAST-MODIFIED:20230919T215820Z
UID:10000102-1755428400-1755432000@rckilmarnock.org.uk
SUMMARY:Sunday Mass (St Joseph's)
DESCRIPTION:
URL:https://rckilmarnock.org.uk/event/mass-st-josephs/2025-08-17/
LOCATION:St Joseph’s RC Church\, 15 Hill Street\, Kilmarnock\, KA31HB
CATEGORIES:Mass
ATTACH;FMTTYPE=image/jpeg:https://rckilmarnock.org.uk/wp-content/uploads/2023/09/StJosephs_Mass.jpg
END:VEVENT
BEGIN:VEVENT
DTSTART;TZID=Europe/London:20250817T113000
DTEND;TZID=Europe/London:20250817T123000
DTSTAMP:20260425T143650
CREATED:20231111T222308Z
LAST-MODIFIED:20231111T222309Z
UID:10010089-1755430200-1755433800@rckilmarnock.org.uk
SUMMARY:Sunday Mass (OLMC)
DESCRIPTION:
URL:https://rckilmarnock.org.uk/event/sunday-mass-olmc-2/2025-08-17/
LOCATION:Our Lady of Mount Carmel\, Our Lady of Mount Carmel\, Kirkton Road\, Kilmarnock\, KA32DF
CATEGORIES:Mass
ATTACH;FMTTYPE=image/jpeg:https://rckilmarnock.org.uk/wp-content/uploads/2023/09/IMG_20230919_103638-scaled.webp
END:VEVENT
BEGIN:VEVENT
DTSTART;TZID=UTC:20250818T100000
DTEND;TZID=UTC:20250818T103000
DTSTAMP:20260425T143650
CREATED:20230910T134715Z
LAST-MODIFIED:20230911T103208Z
UID:10000667-1755511200-1755513000@rckilmarnock.org.uk
SUMMARY:Morning Mass (St Joseph’s)
DESCRIPTION:
URL:https://rckilmarnock.org.uk/event/morning-mass-st-josephs/2025-08-18/
LOCATION:St Joseph’s RC Church\, 15 Hill Street\, Kilmarnock\, KA31HB
CATEGORIES:Mass
ATTACH;FMTTYPE=image/jpeg:https://rckilmarnock.org.uk/wp-content/uploads/2023/09/StJosephs_Mass.jpg
END:VEVENT
END:VCALENDAR