BEGIN:VCALENDAR
VERSION:2.0
PRODID:-//RC Kilmarnock - ECPv6.15.20//NONSGML v1.0//EN
CALSCALE:GREGORIAN
METHOD:PUBLISH
X-WR-CALNAME:RC Kilmarnock
X-ORIGINAL-URL:https://rckilmarnock.org.uk
X-WR-CALDESC:Events for RC Kilmarnock
REFRESH-INTERVAL;VALUE=DURATION:PT1H
X-Robots-Tag:noindex
X-PUBLISHED-TTL:PT1H
BEGIN:VTIMEZONE
TZID:Europe/London
BEGIN:DAYLIGHT
TZOFFSETFROM:+0000
TZOFFSETTO:+0100
TZNAME:BST
DTSTART:20240331T010000
END:DAYLIGHT
BEGIN:STANDARD
TZOFFSETFROM:+0100
TZOFFSETTO:+0000
TZNAME:GMT
DTSTART:20241027T010000
END:STANDARD
BEGIN:DAYLIGHT
TZOFFSETFROM:+0000
TZOFFSETTO:+0100
TZNAME:BST
DTSTART:20250330T010000
END:DAYLIGHT
BEGIN:STANDARD
TZOFFSETFROM:+0100
TZOFFSETTO:+0000
TZNAME:GMT
DTSTART:20251026T010000
END:STANDARD
BEGIN:DAYLIGHT
TZOFFSETFROM:+0000
TZOFFSETTO:+0100
TZNAME:BST
DTSTART:20260329T010000
END:DAYLIGHT
BEGIN:STANDARD
TZOFFSETFROM:+0100
TZOFFSETTO:+0000
TZNAME:GMT
DTSTART:20261025T010000
END:STANDARD
END:VTIMEZONE
BEGIN:VEVENT
DTSTART;TZID=Europe/London:20250701T093000
DTEND;TZID=Europe/London:20250701T094500
DTSTAMP:20260424T132833
CREATED:20240406T221638Z
LAST-MODIFIED:20240406T221638Z
UID:10009823-1751362200-1751363100@rckilmarnock.org.uk
SUMMARY:Confession (OLMC)
DESCRIPTION:
URL:https://rckilmarnock.org.uk/event/confession-olmc-2/2025-07-01/
LOCATION:Our Lady of Mount Carmel\, Our Lady of Mount Carmel\, Kirkton Road\, Kilmarnock\, KA32DF
CATEGORIES:Prayer & Confession
ATTACH;FMTTYPE=image/jpeg:https://rckilmarnock.org.uk/wp-content/uploads/2023/11/OLMC-Confession-Banner-scaled-e1712441781286.jpg
END:VEVENT
BEGIN:VEVENT
DTSTART;TZID=Europe/London:20250701T093000
DTEND;TZID=Europe/London:20250701T100000
DTSTAMP:20260424T132833
CREATED:20230910T153709Z
LAST-MODIFIED:20230919T214805Z
UID:10005319-1751362200-1751364000@rckilmarnock.org.uk
SUMMARY:Adoration (OLMC)
DESCRIPTION:
URL:https://rckilmarnock.org.uk/event/adoration-olmc/2025-07-01/
LOCATION:Our Lady of Mount Carmel\, Our Lady of Mount Carmel\, Kirkton Road\, Kilmarnock\, KA32DF
CATEGORIES:Prayer & Confession
ATTACH;FMTTYPE=image/jpeg:https://rckilmarnock.org.uk/wp-content/uploads/2023/09/IMG_20230919_104005-scaled.webp
END:VEVENT
BEGIN:VEVENT
DTSTART;TZID=Europe/London:20250701T103000
DTEND;TZID=Europe/London:20250701T110000
DTSTAMP:20260424T132833
CREATED:20230910T152530Z
LAST-MODIFIED:20240413T215742Z
UID:10003230-1751365800-1751367600@rckilmarnock.org.uk
SUMMARY:Adoration (St Joseph's)
DESCRIPTION:
URL:https://rckilmarnock.org.uk/event/adoration-st-josephs/2025-07-01/
LOCATION:St Joseph’s RC Church\, 15 Hill Street\, Kilmarnock\, KA31HB
CATEGORIES:Prayer & Confession
ATTACH;FMTTYPE=image/jpeg:https://rckilmarnock.org.uk/wp-content/uploads/2024/04/IMG_7814-scaled-e1713045441966.jpg
END:VEVENT
BEGIN:VEVENT
DTSTART;TZID=Europe/London:20250702T103000
DTEND;TZID=Europe/London:20250702T110000
DTSTAMP:20260424T132833
CREATED:20230917T235910Z
LAST-MODIFIED:20230917T235910Z
UID:10008191-1751452200-1751454000@rckilmarnock.org.uk
SUMMARY:Rosary (St Joseph's)
DESCRIPTION:
URL:https://rckilmarnock.org.uk/event/rosary-st-josephs-2/2025-07-02/
LOCATION:St Joseph’s RC Church\, 15 Hill Street\, Kilmarnock\, KA31HB
CATEGORIES:Prayer & Confession
ATTACH;FMTTYPE=image/jpeg:https://rckilmarnock.org.uk/wp-content/uploads/2023/09/StJosephs_Rosary.jpg
END:VEVENT
BEGIN:VEVENT
DTSTART;TZID=Europe/London:20250703T093000
DTEND;TZID=Europe/London:20250703T100000
DTSTAMP:20260424T132833
CREATED:20231111T221534Z
LAST-MODIFIED:20240403T223634Z
UID:10008716-1751535000-1751536800@rckilmarnock.org.uk
SUMMARY:Rosary (St Matthew's)
DESCRIPTION:
URL:https://rckilmarnock.org.uk/event/rosary-st-matthews-2/2025-07-03/
LOCATION:St Matthew’s RC Church\, St Matthew's RC Church\, Kilmarnock\, KA10 6NJ
CATEGORIES:Prayer & Confession
ATTACH;FMTTYPE=image/jpeg:https://rckilmarnock.org.uk/wp-content/uploads/2023/09/St-Matthews-Rosary-scaled-e1712179705170.jpg
END:VEVENT
BEGIN:VEVENT
DTSTART;TZID=Europe/London:20250704T093000
DTEND;TZID=Europe/London:20250704T100000
DTSTAMP:20260424T132833
CREATED:20230910T153551Z
LAST-MODIFIED:20230919T215027Z
UID:10005580-1751621400-1751623200@rckilmarnock.org.uk
SUMMARY:Rosary (OLMC)
DESCRIPTION:
URL:https://rckilmarnock.org.uk/event/rosary-olmc-2/2025-07-04/
LOCATION:Our Lady of Mount Carmel\, Our Lady of Mount Carmel\, Kirkton Road\, Kilmarnock\, KA32DF
CATEGORIES:Prayer & Confession
ATTACH;FMTTYPE=image/jpeg:https://rckilmarnock.org.uk/wp-content/uploads/2023/09/IMG_20230919_104711-scaled.webp
END:VEVENT
BEGIN:VEVENT
DTSTART;TZID=Europe/London:20250705T093000
DTEND;TZID=Europe/London:20250705T094500
DTSTAMP:20260424T132833
CREATED:20231111T222012Z
LAST-MODIFIED:20240403T213453Z
UID:10009292-1751707800-1751708700@rckilmarnock.org.uk
SUMMARY:Confession (St Matthew's)
DESCRIPTION:
URL:https://rckilmarnock.org.uk/event/confession-st-matthews/2025-07-05/
LOCATION:St Matthew’s RC Church\, St Matthew's RC Church\, Kilmarnock\, KA10 6NJ
CATEGORIES:Prayer & Confession
ATTACH;FMTTYPE=image/jpeg:https://rckilmarnock.org.uk/wp-content/uploads/2023/09/St-Matthews-Confession-scaled-e1712180060229.jpg
END:VEVENT
BEGIN:VEVENT
DTSTART;TZID=Europe/London:20250705T093000
DTEND;TZID=Europe/London:20250705T100000
DTSTAMP:20260424T132833
CREATED:20240413T215600Z
LAST-MODIFIED:20240413T215600Z
UID:10011065-1751707800-1751709600@rckilmarnock.org.uk
SUMMARY:Adoration (St Matthew's)
DESCRIPTION:
URL:https://rckilmarnock.org.uk/event/adoration-st-matthews-3/2025-07-05/
LOCATION:St Matthew’s RC Church\, St Matthew's RC Church\, Kilmarnock\, KA10 6NJ
CATEGORIES:Prayer & Confession
ATTACH;FMTTYPE=image/jpeg:https://rckilmarnock.org.uk/wp-content/uploads/2023/09/St-Matthews-Adoration-scaled.jpg
END:VEVENT
BEGIN:VEVENT
DTSTART;TZID=Europe/London:20250705T173000
DTEND;TZID=Europe/London:20250705T174500
DTSTAMP:20260424T132833
CREATED:20230910T151942Z
LAST-MODIFIED:20230919T215911Z
UID:10002187-1751736600-1751737500@rckilmarnock.org.uk
SUMMARY:Confession (St Joseph's)
DESCRIPTION:
URL:https://rckilmarnock.org.uk/event/confession-st-josephs/2025-07-05/
LOCATION:St Joseph’s RC Church\, 15 Hill Street\, Kilmarnock\, KA31HB
CATEGORIES:Prayer & Confession
ATTACH;FMTTYPE=image/jpeg:https://rckilmarnock.org.uk/wp-content/uploads/2023/09/StJosephs_Confession.jpg
END:VEVENT
BEGIN:VEVENT
DTSTART;TZID=Europe/London:20250707T103000
DTEND;TZID=Europe/London:20250707T104500
DTSTAMP:20260424T132833
CREATED:20230910T152040Z
LAST-MODIFIED:20230911T103048Z
UID:10002449-1751884200-1751885100@rckilmarnock.org.uk
SUMMARY:Confession (St Joseph's)
DESCRIPTION:
URL:https://rckilmarnock.org.uk/event/confession-st-josephs-2/2025-07-07/
LOCATION:St Joseph’s RC Church\, 15 Hill Street\, Kilmarnock\, KA31HB
CATEGORIES:Prayer & Confession
ATTACH;FMTTYPE=image/jpeg:https://rckilmarnock.org.uk/wp-content/uploads/2023/09/StJosephs_Confession.jpg
END:VEVENT
BEGIN:VEVENT
DTSTART;TZID=Europe/London:20250708T093000
DTEND;TZID=Europe/London:20250708T094500
DTSTAMP:20260424T132833
CREATED:20240406T221638Z
LAST-MODIFIED:20240406T221638Z
UID:10009824-1751967000-1751967900@rckilmarnock.org.uk
SUMMARY:Confession (OLMC)
DESCRIPTION:
URL:https://rckilmarnock.org.uk/event/confession-olmc-2/2025-07-08/
LOCATION:Our Lady of Mount Carmel\, Our Lady of Mount Carmel\, Kirkton Road\, Kilmarnock\, KA32DF
CATEGORIES:Prayer & Confession
ATTACH;FMTTYPE=image/jpeg:https://rckilmarnock.org.uk/wp-content/uploads/2023/11/OLMC-Confession-Banner-scaled-e1712441781286.jpg
END:VEVENT
BEGIN:VEVENT
DTSTART;TZID=Europe/London:20250708T093000
DTEND;TZID=Europe/London:20250708T100000
DTSTAMP:20260424T132833
CREATED:20230910T153709Z
LAST-MODIFIED:20230919T214805Z
UID:10005320-1751967000-1751968800@rckilmarnock.org.uk
SUMMARY:Adoration (OLMC)
DESCRIPTION:
URL:https://rckilmarnock.org.uk/event/adoration-olmc/2025-07-08/
LOCATION:Our Lady of Mount Carmel\, Our Lady of Mount Carmel\, Kirkton Road\, Kilmarnock\, KA32DF
CATEGORIES:Prayer & Confession
ATTACH;FMTTYPE=image/jpeg:https://rckilmarnock.org.uk/wp-content/uploads/2023/09/IMG_20230919_104005-scaled.webp
END:VEVENT
BEGIN:VEVENT
DTSTART;TZID=Europe/London:20250708T103000
DTEND;TZID=Europe/London:20250708T110000
DTSTAMP:20260424T132833
CREATED:20230910T152530Z
LAST-MODIFIED:20240413T215742Z
UID:10003231-1751970600-1751972400@rckilmarnock.org.uk
SUMMARY:Adoration (St Joseph's)
DESCRIPTION:
URL:https://rckilmarnock.org.uk/event/adoration-st-josephs/2025-07-08/
LOCATION:St Joseph’s RC Church\, 15 Hill Street\, Kilmarnock\, KA31HB
CATEGORIES:Prayer & Confession
ATTACH;FMTTYPE=image/jpeg:https://rckilmarnock.org.uk/wp-content/uploads/2024/04/IMG_7814-scaled-e1713045441966.jpg
END:VEVENT
BEGIN:VEVENT
DTSTART;TZID=Europe/London:20250709T103000
DTEND;TZID=Europe/London:20250709T110000
DTSTAMP:20260424T132833
CREATED:20230917T235910Z
LAST-MODIFIED:20230917T235910Z
UID:10008192-1752057000-1752058800@rckilmarnock.org.uk
SUMMARY:Rosary (St Joseph's)
DESCRIPTION:
URL:https://rckilmarnock.org.uk/event/rosary-st-josephs-2/2025-07-09/
LOCATION:St Joseph’s RC Church\, 15 Hill Street\, Kilmarnock\, KA31HB
CATEGORIES:Prayer & Confession
ATTACH;FMTTYPE=image/jpeg:https://rckilmarnock.org.uk/wp-content/uploads/2023/09/StJosephs_Rosary.jpg
END:VEVENT
BEGIN:VEVENT
DTSTART;TZID=Europe/London:20250710T093000
DTEND;TZID=Europe/London:20250710T100000
DTSTAMP:20260424T132833
CREATED:20231111T221534Z
LAST-MODIFIED:20240403T223634Z
UID:10008717-1752139800-1752141600@rckilmarnock.org.uk
SUMMARY:Rosary (St Matthew's)
DESCRIPTION:
URL:https://rckilmarnock.org.uk/event/rosary-st-matthews-2/2025-07-10/
LOCATION:St Matthew’s RC Church\, St Matthew's RC Church\, Kilmarnock\, KA10 6NJ
CATEGORIES:Prayer & Confession
ATTACH;FMTTYPE=image/jpeg:https://rckilmarnock.org.uk/wp-content/uploads/2023/09/St-Matthews-Rosary-scaled-e1712179705170.jpg
END:VEVENT
BEGIN:VEVENT
DTSTART;TZID=Europe/London:20250711T093000
DTEND;TZID=Europe/London:20250711T100000
DTSTAMP:20260424T132833
CREATED:20230910T153551Z
LAST-MODIFIED:20230919T215027Z
UID:10005581-1752226200-1752228000@rckilmarnock.org.uk
SUMMARY:Rosary (OLMC)
DESCRIPTION:
URL:https://rckilmarnock.org.uk/event/rosary-olmc-2/2025-07-11/
LOCATION:Our Lady of Mount Carmel\, Our Lady of Mount Carmel\, Kirkton Road\, Kilmarnock\, KA32DF
CATEGORIES:Prayer & Confession
ATTACH;FMTTYPE=image/jpeg:https://rckilmarnock.org.uk/wp-content/uploads/2023/09/IMG_20230919_104711-scaled.webp
END:VEVENT
BEGIN:VEVENT
DTSTART;TZID=Europe/London:20250712T093000
DTEND;TZID=Europe/London:20250712T094500
DTSTAMP:20260424T132833
CREATED:20231111T222012Z
LAST-MODIFIED:20240403T213453Z
UID:10009293-1752312600-1752313500@rckilmarnock.org.uk
SUMMARY:Confession (St Matthew's)
DESCRIPTION:
URL:https://rckilmarnock.org.uk/event/confession-st-matthews/2025-07-12/
LOCATION:St Matthew’s RC Church\, St Matthew's RC Church\, Kilmarnock\, KA10 6NJ
CATEGORIES:Prayer & Confession
ATTACH;FMTTYPE=image/jpeg:https://rckilmarnock.org.uk/wp-content/uploads/2023/09/St-Matthews-Confession-scaled-e1712180060229.jpg
END:VEVENT
BEGIN:VEVENT
DTSTART;TZID=Europe/London:20250712T093000
DTEND;TZID=Europe/London:20250712T100000
DTSTAMP:20260424T132833
CREATED:20240413T215600Z
LAST-MODIFIED:20240413T215600Z
UID:10011066-1752312600-1752314400@rckilmarnock.org.uk
SUMMARY:Adoration (St Matthew's)
DESCRIPTION:
URL:https://rckilmarnock.org.uk/event/adoration-st-matthews-3/2025-07-12/
LOCATION:St Matthew’s RC Church\, St Matthew's RC Church\, Kilmarnock\, KA10 6NJ
CATEGORIES:Prayer & Confession
ATTACH;FMTTYPE=image/jpeg:https://rckilmarnock.org.uk/wp-content/uploads/2023/09/St-Matthews-Adoration-scaled.jpg
END:VEVENT
BEGIN:VEVENT
DTSTART;TZID=Europe/London:20250712T173000
DTEND;TZID=Europe/London:20250712T174500
DTSTAMP:20260424T132833
CREATED:20230910T151942Z
LAST-MODIFIED:20230919T215911Z
UID:10002188-1752341400-1752342300@rckilmarnock.org.uk
SUMMARY:Confession (St Joseph's)
DESCRIPTION:
URL:https://rckilmarnock.org.uk/event/confession-st-josephs/2025-07-12/
LOCATION:St Joseph’s RC Church\, 15 Hill Street\, Kilmarnock\, KA31HB
CATEGORIES:Prayer & Confession
ATTACH;FMTTYPE=image/jpeg:https://rckilmarnock.org.uk/wp-content/uploads/2023/09/StJosephs_Confession.jpg
END:VEVENT
BEGIN:VEVENT
DTSTART;TZID=Europe/London:20250714T103000
DTEND;TZID=Europe/London:20250714T104500
DTSTAMP:20260424T132833
CREATED:20230910T152040Z
LAST-MODIFIED:20230911T103048Z
UID:10002450-1752489000-1752489900@rckilmarnock.org.uk
SUMMARY:Confession (St Joseph's)
DESCRIPTION:
URL:https://rckilmarnock.org.uk/event/confession-st-josephs-2/2025-07-14/
LOCATION:St Joseph’s RC Church\, 15 Hill Street\, Kilmarnock\, KA31HB
CATEGORIES:Prayer & Confession
ATTACH;FMTTYPE=image/jpeg:https://rckilmarnock.org.uk/wp-content/uploads/2023/09/StJosephs_Confession.jpg
END:VEVENT
BEGIN:VEVENT
DTSTART;TZID=Europe/London:20250715T093000
DTEND;TZID=Europe/London:20250715T094500
DTSTAMP:20260424T132833
CREATED:20240406T221638Z
LAST-MODIFIED:20240406T221638Z
UID:10009825-1752571800-1752572700@rckilmarnock.org.uk
SUMMARY:Confession (OLMC)
DESCRIPTION:
URL:https://rckilmarnock.org.uk/event/confession-olmc-2/2025-07-15/
LOCATION:Our Lady of Mount Carmel\, Our Lady of Mount Carmel\, Kirkton Road\, Kilmarnock\, KA32DF
CATEGORIES:Prayer & Confession
ATTACH;FMTTYPE=image/jpeg:https://rckilmarnock.org.uk/wp-content/uploads/2023/11/OLMC-Confession-Banner-scaled-e1712441781286.jpg
END:VEVENT
BEGIN:VEVENT
DTSTART;TZID=Europe/London:20250715T093000
DTEND;TZID=Europe/London:20250715T100000
DTSTAMP:20260424T132833
CREATED:20230910T153709Z
LAST-MODIFIED:20230919T214805Z
UID:10005321-1752571800-1752573600@rckilmarnock.org.uk
SUMMARY:Adoration (OLMC)
DESCRIPTION:
URL:https://rckilmarnock.org.uk/event/adoration-olmc/2025-07-15/
LOCATION:Our Lady of Mount Carmel\, Our Lady of Mount Carmel\, Kirkton Road\, Kilmarnock\, KA32DF
CATEGORIES:Prayer & Confession
ATTACH;FMTTYPE=image/jpeg:https://rckilmarnock.org.uk/wp-content/uploads/2023/09/IMG_20230919_104005-scaled.webp
END:VEVENT
BEGIN:VEVENT
DTSTART;TZID=Europe/London:20250715T103000
DTEND;TZID=Europe/London:20250715T110000
DTSTAMP:20260424T132833
CREATED:20230910T152530Z
LAST-MODIFIED:20240413T215742Z
UID:10003232-1752575400-1752577200@rckilmarnock.org.uk
SUMMARY:Adoration (St Joseph's)
DESCRIPTION:
URL:https://rckilmarnock.org.uk/event/adoration-st-josephs/2025-07-15/
LOCATION:St Joseph’s RC Church\, 15 Hill Street\, Kilmarnock\, KA31HB
CATEGORIES:Prayer & Confession
ATTACH;FMTTYPE=image/jpeg:https://rckilmarnock.org.uk/wp-content/uploads/2024/04/IMG_7814-scaled-e1713045441966.jpg
END:VEVENT
BEGIN:VEVENT
DTSTART;TZID=Europe/London:20250716T103000
DTEND;TZID=Europe/London:20250716T110000
DTSTAMP:20260424T132833
CREATED:20230917T235910Z
LAST-MODIFIED:20230917T235910Z
UID:10008193-1752661800-1752663600@rckilmarnock.org.uk
SUMMARY:Rosary (St Joseph's)
DESCRIPTION:
URL:https://rckilmarnock.org.uk/event/rosary-st-josephs-2/2025-07-16/
LOCATION:St Joseph’s RC Church\, 15 Hill Street\, Kilmarnock\, KA31HB
CATEGORIES:Prayer & Confession
ATTACH;FMTTYPE=image/jpeg:https://rckilmarnock.org.uk/wp-content/uploads/2023/09/StJosephs_Rosary.jpg
END:VEVENT
BEGIN:VEVENT
DTSTART;TZID=Europe/London:20250717T093000
DTEND;TZID=Europe/London:20250717T100000
DTSTAMP:20260424T132833
CREATED:20231111T221534Z
LAST-MODIFIED:20240403T223634Z
UID:10008718-1752744600-1752746400@rckilmarnock.org.uk
SUMMARY:Rosary (St Matthew's)
DESCRIPTION:
URL:https://rckilmarnock.org.uk/event/rosary-st-matthews-2/2025-07-17/
LOCATION:St Matthew’s RC Church\, St Matthew's RC Church\, Kilmarnock\, KA10 6NJ
CATEGORIES:Prayer & Confession
ATTACH;FMTTYPE=image/jpeg:https://rckilmarnock.org.uk/wp-content/uploads/2023/09/St-Matthews-Rosary-scaled-e1712179705170.jpg
END:VEVENT
BEGIN:VEVENT
DTSTART;TZID=Europe/London:20250718T093000
DTEND;TZID=Europe/London:20250718T100000
DTSTAMP:20260424T132833
CREATED:20230910T153551Z
LAST-MODIFIED:20230919T215027Z
UID:10005582-1752831000-1752832800@rckilmarnock.org.uk
SUMMARY:Rosary (OLMC)
DESCRIPTION:
URL:https://rckilmarnock.org.uk/event/rosary-olmc-2/2025-07-18/
LOCATION:Our Lady of Mount Carmel\, Our Lady of Mount Carmel\, Kirkton Road\, Kilmarnock\, KA32DF
CATEGORIES:Prayer & Confession
ATTACH;FMTTYPE=image/jpeg:https://rckilmarnock.org.uk/wp-content/uploads/2023/09/IMG_20230919_104711-scaled.webp
END:VEVENT
BEGIN:VEVENT
DTSTART;TZID=Europe/London:20250719T093000
DTEND;TZID=Europe/London:20250719T094500
DTSTAMP:20260424T132833
CREATED:20231111T222012Z
LAST-MODIFIED:20240403T213453Z
UID:10009294-1752917400-1752918300@rckilmarnock.org.uk
SUMMARY:Confession (St Matthew's)
DESCRIPTION:
URL:https://rckilmarnock.org.uk/event/confession-st-matthews/2025-07-19/
LOCATION:St Matthew’s RC Church\, St Matthew's RC Church\, Kilmarnock\, KA10 6NJ
CATEGORIES:Prayer & Confession
ATTACH;FMTTYPE=image/jpeg:https://rckilmarnock.org.uk/wp-content/uploads/2023/09/St-Matthews-Confession-scaled-e1712180060229.jpg
END:VEVENT
BEGIN:VEVENT
DTSTART;TZID=Europe/London:20250719T093000
DTEND;TZID=Europe/London:20250719T100000
DTSTAMP:20260424T132833
CREATED:20240413T215600Z
LAST-MODIFIED:20240413T215600Z
UID:10011067-1752917400-1752919200@rckilmarnock.org.uk
SUMMARY:Adoration (St Matthew's)
DESCRIPTION:
URL:https://rckilmarnock.org.uk/event/adoration-st-matthews-3/2025-07-19/
LOCATION:St Matthew’s RC Church\, St Matthew's RC Church\, Kilmarnock\, KA10 6NJ
CATEGORIES:Prayer & Confession
ATTACH;FMTTYPE=image/jpeg:https://rckilmarnock.org.uk/wp-content/uploads/2023/09/St-Matthews-Adoration-scaled.jpg
END:VEVENT
BEGIN:VEVENT
DTSTART;TZID=Europe/London:20250719T173000
DTEND;TZID=Europe/London:20250719T174500
DTSTAMP:20260424T132833
CREATED:20230910T151942Z
LAST-MODIFIED:20230919T215911Z
UID:10002189-1752946200-1752947100@rckilmarnock.org.uk
SUMMARY:Confession (St Joseph's)
DESCRIPTION:
URL:https://rckilmarnock.org.uk/event/confession-st-josephs/2025-07-19/
LOCATION:St Joseph’s RC Church\, 15 Hill Street\, Kilmarnock\, KA31HB
CATEGORIES:Prayer & Confession
ATTACH;FMTTYPE=image/jpeg:https://rckilmarnock.org.uk/wp-content/uploads/2023/09/StJosephs_Confession.jpg
END:VEVENT
BEGIN:VEVENT
DTSTART;TZID=Europe/London:20250721T103000
DTEND;TZID=Europe/London:20250721T104500
DTSTAMP:20260424T132833
CREATED:20230910T152040Z
LAST-MODIFIED:20230911T103048Z
UID:10002451-1753093800-1753094700@rckilmarnock.org.uk
SUMMARY:Confession (St Joseph's)
DESCRIPTION:
URL:https://rckilmarnock.org.uk/event/confession-st-josephs-2/2025-07-21/
LOCATION:St Joseph’s RC Church\, 15 Hill Street\, Kilmarnock\, KA31HB
CATEGORIES:Prayer & Confession
ATTACH;FMTTYPE=image/jpeg:https://rckilmarnock.org.uk/wp-content/uploads/2023/09/StJosephs_Confession.jpg
END:VEVENT
END:VCALENDAR