BEGIN:VCALENDAR
VERSION:2.0
PRODID:-//RC Kilmarnock - ECPv6.15.20//NONSGML v1.0//EN
CALSCALE:GREGORIAN
METHOD:PUBLISH
X-WR-CALNAME:RC Kilmarnock
X-ORIGINAL-URL:https://rckilmarnock.org.uk
X-WR-CALDESC:Events for RC Kilmarnock
REFRESH-INTERVAL;VALUE=DURATION:PT1H
X-Robots-Tag:noindex
X-PUBLISHED-TTL:PT1H
BEGIN:VTIMEZONE
TZID:Europe/London
BEGIN:DAYLIGHT
TZOFFSETFROM:+0000
TZOFFSETTO:+0100
TZNAME:BST
DTSTART:20240331T010000
END:DAYLIGHT
BEGIN:STANDARD
TZOFFSETFROM:+0100
TZOFFSETTO:+0000
TZNAME:GMT
DTSTART:20241027T010000
END:STANDARD
BEGIN:DAYLIGHT
TZOFFSETFROM:+0000
TZOFFSETTO:+0100
TZNAME:BST
DTSTART:20250330T010000
END:DAYLIGHT
BEGIN:STANDARD
TZOFFSETFROM:+0100
TZOFFSETTO:+0000
TZNAME:GMT
DTSTART:20251026T010000
END:STANDARD
BEGIN:DAYLIGHT
TZOFFSETFROM:+0000
TZOFFSETTO:+0100
TZNAME:BST
DTSTART:20260329T010000
END:DAYLIGHT
BEGIN:STANDARD
TZOFFSETFROM:+0100
TZOFFSETTO:+0000
TZNAME:GMT
DTSTART:20261025T010000
END:STANDARD
END:VTIMEZONE
BEGIN:VTIMEZONE
TZID:UTC
BEGIN:STANDARD
TZOFFSETFROM:+0000
TZOFFSETTO:+0000
TZNAME:UTC
DTSTART:20240101T000000
END:STANDARD
END:VTIMEZONE
BEGIN:VEVENT
DTSTART;TZID=Europe/London:20250520T160000
DTEND;TZID=Europe/London:20250520T180000
DTSTAMP:20260424T224002
CREATED:20230910T154517Z
LAST-MODIFIED:20240403T213038Z
UID:10007489-1747756800-1747764000@rckilmarnock.org.uk
SUMMARY:Foodbank (St Matthew's)
DESCRIPTION:
URL:https://rckilmarnock.org.uk/event/foodbank-st-matthews/2025-05-20/
LOCATION:St Matthew’s RC Church\, St Matthew's RC Church\, Kilmarnock\, KA10 6NJ
CATEGORIES:Activities
ATTACH;FMTTYPE=image/jpeg:https://rckilmarnock.org.uk/wp-content/uploads/2023/09/St-Matthews-Foodbank-scaled-e1712179825171.jpg
END:VEVENT
BEGIN:VEVENT
DTSTART;TZID=Europe/London:20250520T110000
DTEND;TZID=Europe/London:20250520T130000
DTSTAMP:20260424T224002
CREATED:20240406T224423Z
LAST-MODIFIED:20240406T224423Z
UID:10002702-1747738800-1747746000@rckilmarnock.org.uk
SUMMARY:Community Café (St Joseph's)
DESCRIPTION:
URL:https://rckilmarnock.org.uk/event/community-cafe-2/2025-05-20/
LOCATION:St Joseph’s RC Church\, 15 Hill Street\, Kilmarnock\, KA31HB
CATEGORIES:Activities
ATTACH;FMTTYPE=image/jpeg:https://rckilmarnock.org.uk/wp-content/uploads/2023/09/Cafe-Icon-e1712443453593.jpg
END:VEVENT
BEGIN:VEVENT
DTSTART;TZID=Europe/London:20250520T103000
DTEND;TZID=Europe/London:20250520T110000
DTSTAMP:20260424T224002
CREATED:20230910T152530Z
LAST-MODIFIED:20240413T215742Z
UID:10003224-1747737000-1747738800@rckilmarnock.org.uk
SUMMARY:Adoration (St Joseph's)
DESCRIPTION:
URL:https://rckilmarnock.org.uk/event/adoration-st-josephs/2025-05-20/
LOCATION:St Joseph’s RC Church\, 15 Hill Street\, Kilmarnock\, KA31HB
CATEGORIES:Prayer & Confession
ATTACH;FMTTYPE=image/jpeg:https://rckilmarnock.org.uk/wp-content/uploads/2024/04/IMG_7814-scaled-e1713045441966.jpg
END:VEVENT
BEGIN:VEVENT
DTSTART;TZID=Europe/London:20250520T100000
DTEND;TZID=Europe/London:20250520T103000
DTSTAMP:20260424T224002
CREATED:20230910T152950Z
LAST-MODIFIED:20230919T215336Z
UID:10004095-1747735200-1747737000@rckilmarnock.org.uk
SUMMARY:Morning Mass (OLMC)
DESCRIPTION:
URL:https://rckilmarnock.org.uk/event/morning-mass-olmc/2025-05-20/
LOCATION:Our Lady of Mount Carmel\, Our Lady of Mount Carmel\, Kirkton Road\, Kilmarnock\, KA32DF
CATEGORIES:Mass
ATTACH;FMTTYPE=image/jpeg:https://rckilmarnock.org.uk/wp-content/uploads/2023/09/IMG_20230919_103638-scaled.webp
END:VEVENT
BEGIN:VEVENT
DTSTART;TZID=UTC:20250520T100000
DTEND;TZID=UTC:20250520T103000
DTSTAMP:20260424T224002
CREATED:20230910T134715Z
LAST-MODIFIED:20230911T103208Z
UID:10000616-1747735200-1747737000@rckilmarnock.org.uk
SUMMARY:Morning Mass (St Joseph’s)
DESCRIPTION:
URL:https://rckilmarnock.org.uk/event/morning-mass-st-josephs/2025-05-20/
LOCATION:St Joseph’s RC Church\, 15 Hill Street\, Kilmarnock\, KA31HB
CATEGORIES:Mass
ATTACH;FMTTYPE=image/jpeg:https://rckilmarnock.org.uk/wp-content/uploads/2023/09/StJosephs_Mass.jpg
END:VEVENT
BEGIN:VEVENT
DTSTART;TZID=Europe/London:20250520T093000
DTEND;TZID=Europe/London:20250520T100000
DTSTAMP:20260424T224002
CREATED:20230910T153709Z
LAST-MODIFIED:20230919T214805Z
UID:10005313-1747733400-1747735200@rckilmarnock.org.uk
SUMMARY:Adoration (OLMC)
DESCRIPTION:
URL:https://rckilmarnock.org.uk/event/adoration-olmc/2025-05-20/
LOCATION:Our Lady of Mount Carmel\, Our Lady of Mount Carmel\, Kirkton Road\, Kilmarnock\, KA32DF
CATEGORIES:Prayer & Confession
ATTACH;FMTTYPE=image/jpeg:https://rckilmarnock.org.uk/wp-content/uploads/2023/09/IMG_20230919_104005-scaled.webp
END:VEVENT
BEGIN:VEVENT
DTSTART;TZID=Europe/London:20250520T093000
DTEND;TZID=Europe/London:20250520T094500
DTSTAMP:20260424T224002
CREATED:20240406T221638Z
LAST-MODIFIED:20240406T221638Z
UID:10009817-1747733400-1747734300@rckilmarnock.org.uk
SUMMARY:Confession (OLMC)
DESCRIPTION:
URL:https://rckilmarnock.org.uk/event/confession-olmc-2/2025-05-20/
LOCATION:Our Lady of Mount Carmel\, Our Lady of Mount Carmel\, Kirkton Road\, Kilmarnock\, KA32DF
CATEGORIES:Prayer & Confession
ATTACH;FMTTYPE=image/jpeg:https://rckilmarnock.org.uk/wp-content/uploads/2023/11/OLMC-Confession-Banner-scaled-e1712441781286.jpg
END:VEVENT
BEGIN:VEVENT
DTSTART;TZID=Europe/London:20250519T193000
DTEND;TZID=Europe/London:20250519T201500
DTSTAMP:20260424T224002
CREATED:20240406T225320Z
LAST-MODIFIED:20240406T225320Z
UID:10008457-1747683000-1747685700@rckilmarnock.org.uk
SUMMARY:Foodbank (OLMC)
DESCRIPTION:
URL:https://rckilmarnock.org.uk/event/foodbank-olmc-2/2025-05-19/
LOCATION:Our Lady of Mount Carmel\, Our Lady of Mount Carmel\, Kirkton Road\, Kilmarnock\, KA32DF
CATEGORIES:Activities
ATTACH;FMTTYPE=image/jpeg:https://rckilmarnock.org.uk/wp-content/uploads/2023/09/OLMC-Foodbank-Icon-scaled-e1712443982662.jpg
END:VEVENT
BEGIN:VEVENT
DTSTART;TZID=Europe/London:20250519T103000
DTEND;TZID=Europe/London:20250519T104500
DTSTAMP:20260424T224002
CREATED:20230910T152040Z
LAST-MODIFIED:20230911T103048Z
UID:10002442-1747650600-1747651500@rckilmarnock.org.uk
SUMMARY:Confession (St Joseph's)
DESCRIPTION:
URL:https://rckilmarnock.org.uk/event/confession-st-josephs-2/2025-05-19/
LOCATION:St Joseph’s RC Church\, 15 Hill Street\, Kilmarnock\, KA31HB
CATEGORIES:Prayer & Confession
ATTACH;FMTTYPE=image/jpeg:https://rckilmarnock.org.uk/wp-content/uploads/2023/09/StJosephs_Confession.jpg
END:VEVENT
BEGIN:VEVENT
DTSTART;TZID=UTC:20250519T100000
DTEND;TZID=UTC:20250519T103000
DTSTAMP:20260424T224002
CREATED:20230910T134715Z
LAST-MODIFIED:20230911T103208Z
UID:10000615-1747648800-1747650600@rckilmarnock.org.uk
SUMMARY:Morning Mass (St Joseph’s)
DESCRIPTION:
URL:https://rckilmarnock.org.uk/event/morning-mass-st-josephs/2025-05-19/
LOCATION:St Joseph’s RC Church\, 15 Hill Street\, Kilmarnock\, KA31HB
CATEGORIES:Mass
ATTACH;FMTTYPE=image/jpeg:https://rckilmarnock.org.uk/wp-content/uploads/2023/09/StJosephs_Mass.jpg
END:VEVENT
BEGIN:VEVENT
DTSTART;TZID=Europe/London:20250518T113000
DTEND;TZID=Europe/London:20250518T123000
DTSTAMP:20260424T224002
CREATED:20231111T222308Z
LAST-MODIFIED:20231111T222309Z
UID:10010076-1747567800-1747571400@rckilmarnock.org.uk
SUMMARY:Sunday Mass (OLMC)
DESCRIPTION:
URL:https://rckilmarnock.org.uk/event/sunday-mass-olmc-2/2025-05-18/
LOCATION:Our Lady of Mount Carmel\, Our Lady of Mount Carmel\, Kirkton Road\, Kilmarnock\, KA32DF
CATEGORIES:Mass
ATTACH;FMTTYPE=image/jpeg:https://rckilmarnock.org.uk/wp-content/uploads/2023/09/IMG_20230919_103638-scaled.webp
END:VEVENT
BEGIN:VEVENT
DTSTART;TZID=UTC:20250518T110000
DTEND;TZID=UTC:20250518T120000
DTSTAMP:20260424T224002
CREATED:20230909T220758Z
LAST-MODIFIED:20230919T215820Z
UID:10000089-1747566000-1747569600@rckilmarnock.org.uk
SUMMARY:Sunday Mass (St Joseph's)
DESCRIPTION:
URL:https://rckilmarnock.org.uk/event/mass-st-josephs/2025-05-18/
LOCATION:St Joseph’s RC Church\, 15 Hill Street\, Kilmarnock\, KA31HB
CATEGORIES:Mass
ATTACH;FMTTYPE=image/jpeg:https://rckilmarnock.org.uk/wp-content/uploads/2023/09/StJosephs_Mass.jpg
END:VEVENT
BEGIN:VEVENT
DTSTART;TZID=Europe/London:20250518T093000
DTEND;TZID=Europe/London:20250518T103000
DTSTAMP:20260424T224002
CREATED:20230910T145347Z
LAST-MODIFIED:20240403T213443Z
UID:10001656-1747560600-1747564200@rckilmarnock.org.uk
SUMMARY:Sunday Mass (St Matthew's)
DESCRIPTION:
URL:https://rckilmarnock.org.uk/event/sunday-mass-st-matthews/2025-05-18/
LOCATION:St Matthew’s RC Church\, St Matthew's RC Church\, Kilmarnock\, KA10 6NJ
CATEGORIES:Mass
ATTACH;FMTTYPE=image/jpeg:https://rckilmarnock.org.uk/wp-content/uploads/2023/09/St-Matthews-Mass-scaled-e1712179768239.jpg
END:VEVENT
BEGIN:VEVENT
DTSTART;TZID=Europe/London:20250517T180000
DTEND;TZID=Europe/London:20250517T190000
DTSTAMP:20260424T224002
CREATED:20230910T151740Z
LAST-MODIFIED:20230919T215702Z
UID:10001918-1747504800-1747508400@rckilmarnock.org.uk
SUMMARY:Vigil Mass (St Joseph's)
DESCRIPTION:
URL:https://rckilmarnock.org.uk/event/vigil-mass-st-josephs/2025-05-17/
LOCATION:St Joseph’s RC Church\, 15 Hill Street\, Kilmarnock\, KA31HB
CATEGORIES:Mass
ATTACH;FMTTYPE=image/jpeg:https://rckilmarnock.org.uk/wp-content/uploads/2023/09/StJosephs_Mass.jpg
END:VEVENT
BEGIN:VEVENT
DTSTART;TZID=Europe/London:20250517T173000
DTEND;TZID=Europe/London:20250517T174500
DTSTAMP:20260424T224002
CREATED:20230910T151942Z
LAST-MODIFIED:20230919T215911Z
UID:10002180-1747503000-1747503900@rckilmarnock.org.uk
SUMMARY:Confession (St Joseph's)
DESCRIPTION:
URL:https://rckilmarnock.org.uk/event/confession-st-josephs/2025-05-17/
LOCATION:St Joseph’s RC Church\, 15 Hill Street\, Kilmarnock\, KA31HB
CATEGORIES:Prayer & Confession
ATTACH;FMTTYPE=image/jpeg:https://rckilmarnock.org.uk/wp-content/uploads/2023/09/StJosephs_Confession.jpg
END:VEVENT
BEGIN:VEVENT
DTSTART;TZID=Europe/London:20250517T100000
DTEND;TZID=Europe/London:20250517T103000
DTSTAMP:20260424T224002
CREATED:20230910T154325Z
LAST-MODIFIED:20240403T212941Z
UID:10006793-1747476000-1747477800@rckilmarnock.org.uk
SUMMARY:Morning Mass (St Matthew's)
DESCRIPTION:
URL:https://rckilmarnock.org.uk/event/morning-mass-st-matthews/2025-05-17/
LOCATION:St Matthew’s RC Church\, St Matthew's RC Church\, Kilmarnock\, KA10 6NJ
CATEGORIES:Mass
ATTACH;FMTTYPE=image/jpeg:https://rckilmarnock.org.uk/wp-content/uploads/2023/09/St-Matthews-Mass-scaled-e1712179768239.jpg
END:VEVENT
BEGIN:VEVENT
DTSTART;TZID=Europe/London:20250517T093000
DTEND;TZID=Europe/London:20250517T100000
DTSTAMP:20260424T224002
CREATED:20240413T215600Z
LAST-MODIFIED:20240413T215600Z
UID:10011058-1747474200-1747476000@rckilmarnock.org.uk
SUMMARY:Adoration (St Matthew's)
DESCRIPTION:
URL:https://rckilmarnock.org.uk/event/adoration-st-matthews-3/2025-05-17/
LOCATION:St Matthew’s RC Church\, St Matthew's RC Church\, Kilmarnock\, KA10 6NJ
CATEGORIES:Prayer & Confession
ATTACH;FMTTYPE=image/jpeg:https://rckilmarnock.org.uk/wp-content/uploads/2023/09/St-Matthews-Adoration-scaled.jpg
END:VEVENT
BEGIN:VEVENT
DTSTART;TZID=Europe/London:20250517T093000
DTEND;TZID=Europe/London:20250517T094500
DTSTAMP:20260424T224002
CREATED:20231111T222012Z
LAST-MODIFIED:20240403T213453Z
UID:10009285-1747474200-1747475100@rckilmarnock.org.uk
SUMMARY:Confession (St Matthew's)
DESCRIPTION:
URL:https://rckilmarnock.org.uk/event/confession-st-matthews/2025-05-17/
LOCATION:St Matthew’s RC Church\, St Matthew's RC Church\, Kilmarnock\, KA10 6NJ
CATEGORIES:Prayer & Confession
ATTACH;FMTTYPE=image/jpeg:https://rckilmarnock.org.uk/wp-content/uploads/2023/09/St-Matthews-Confession-scaled-e1712180060229.jpg
END:VEVENT
BEGIN:VEVENT
DTSTART;TZID=Europe/London:20250516T100000
DTEND;TZID=Europe/London:20250516T103000
DTSTAMP:20260424T224002
CREATED:20230910T152950Z
LAST-MODIFIED:20230919T215336Z
UID:10004094-1747389600-1747391400@rckilmarnock.org.uk
SUMMARY:Morning Mass (OLMC)
DESCRIPTION:
URL:https://rckilmarnock.org.uk/event/morning-mass-olmc/2025-05-16/
LOCATION:Our Lady of Mount Carmel\, Our Lady of Mount Carmel\, Kirkton Road\, Kilmarnock\, KA32DF
CATEGORIES:Mass
ATTACH;FMTTYPE=image/jpeg:https://rckilmarnock.org.uk/wp-content/uploads/2023/09/IMG_20230919_103638-scaled.webp
END:VEVENT
BEGIN:VEVENT
DTSTART;TZID=UTC:20250516T100000
DTEND;TZID=UTC:20250516T103000
DTSTAMP:20260424T224002
CREATED:20230910T134715Z
LAST-MODIFIED:20230911T103208Z
UID:10000614-1747389600-1747391400@rckilmarnock.org.uk
SUMMARY:Morning Mass (St Joseph’s)
DESCRIPTION:
URL:https://rckilmarnock.org.uk/event/morning-mass-st-josephs/2025-05-16/
LOCATION:St Joseph’s RC Church\, 15 Hill Street\, Kilmarnock\, KA31HB
CATEGORIES:Mass
ATTACH;FMTTYPE=image/jpeg:https://rckilmarnock.org.uk/wp-content/uploads/2023/09/StJosephs_Mass.jpg
END:VEVENT
BEGIN:VEVENT
DTSTART;TZID=Europe/London:20250516T093000
DTEND;TZID=Europe/London:20250516T100000
DTSTAMP:20260424T224002
CREATED:20230910T153551Z
LAST-MODIFIED:20230919T215027Z
UID:10005573-1747387800-1747389600@rckilmarnock.org.uk
SUMMARY:Rosary (OLMC)
DESCRIPTION:
URL:https://rckilmarnock.org.uk/event/rosary-olmc-2/2025-05-16/
LOCATION:Our Lady of Mount Carmel\, Our Lady of Mount Carmel\, Kirkton Road\, Kilmarnock\, KA32DF
CATEGORIES:Prayer & Confession
ATTACH;FMTTYPE=image/jpeg:https://rckilmarnock.org.uk/wp-content/uploads/2023/09/IMG_20230919_104711-scaled.webp
END:VEVENT
BEGIN:VEVENT
DTSTART;TZID=Europe/London:20250515T180000
DTEND;TZID=Europe/London:20250515T183000
DTSTAMP:20260424T224002
CREATED:20230910T134742Z
LAST-MODIFIED:20240814T165945Z
UID:10012605-1747332000-1747333800@rckilmarnock.org.uk
SUMMARY:Evening Mass (St Joseph's)
DESCRIPTION:
URL:https://rckilmarnock.org.uk/event/__trashed/2025-05-15/
LOCATION:St Joseph’s RC Church\, 15 Hill Street\, Kilmarnock\, KA31HB
CATEGORIES:Mass
ATTACH;FMTTYPE=image/jpeg:https://rckilmarnock.org.uk/wp-content/uploads/2023/09/StJosephs_Mass.jpg
END:VEVENT
BEGIN:VEVENT
DTSTART;TZID=Europe/London:20250515T160000
DTEND;TZID=Europe/London:20250515T180000
DTSTAMP:20260424T224002
CREATED:20230910T154517Z
LAST-MODIFIED:20240403T213038Z
UID:10007488-1747324800-1747332000@rckilmarnock.org.uk
SUMMARY:Foodbank (St Matthew's)
DESCRIPTION:
URL:https://rckilmarnock.org.uk/event/foodbank-st-matthews/2025-05-15/
LOCATION:St Matthew’s RC Church\, St Matthew's RC Church\, Kilmarnock\, KA10 6NJ
CATEGORIES:Activities
ATTACH;FMTTYPE=image/jpeg:https://rckilmarnock.org.uk/wp-content/uploads/2023/09/St-Matthews-Foodbank-scaled-e1712179825171.jpg
END:VEVENT
BEGIN:VEVENT
DTSTART;TZID=Europe/London:20250515T100000
DTEND;TZID=Europe/London:20250515T103000
DTSTAMP:20260424T224002
CREATED:20230910T154325Z
LAST-MODIFIED:20240403T212941Z
UID:10006792-1747303200-1747305000@rckilmarnock.org.uk
SUMMARY:Morning Mass (St Matthew's)
DESCRIPTION:
URL:https://rckilmarnock.org.uk/event/morning-mass-st-matthews/2025-05-15/
LOCATION:St Matthew’s RC Church\, St Matthew's RC Church\, Kilmarnock\, KA10 6NJ
CATEGORIES:Mass
ATTACH;FMTTYPE=image/jpeg:https://rckilmarnock.org.uk/wp-content/uploads/2023/09/St-Matthews-Mass-scaled-e1712179768239.jpg
END:VEVENT
BEGIN:VEVENT
DTSTART;TZID=Europe/London:20250515T093000
DTEND;TZID=Europe/London:20250515T100000
DTSTAMP:20260424T224002
CREATED:20231111T221534Z
LAST-MODIFIED:20240403T223634Z
UID:10008709-1747301400-1747303200@rckilmarnock.org.uk
SUMMARY:Rosary (St Matthew's)
DESCRIPTION:
URL:https://rckilmarnock.org.uk/event/rosary-st-matthews-2/2025-05-15/
LOCATION:St Matthew’s RC Church\, St Matthew's RC Church\, Kilmarnock\, KA10 6NJ
CATEGORIES:Prayer & Confession
ATTACH;FMTTYPE=image/jpeg:https://rckilmarnock.org.uk/wp-content/uploads/2023/09/St-Matthews-Rosary-scaled-e1712179705170.jpg
END:VEVENT
BEGIN:VEVENT
DTSTART;TZID=Europe/London:20250514T103000
DTEND;TZID=Europe/London:20250514T113000
DTSTAMP:20260424T224002
CREATED:20240406T225544Z
LAST-MODIFIED:20240406T225544Z
UID:10003745-1747218600-1747222200@rckilmarnock.org.uk
SUMMARY:Foodbank (St Joseph's)
DESCRIPTION:
URL:https://rckilmarnock.org.uk/event/foodbank-st-josephs-2-2/2025-05-14/
LOCATION:St Joseph’s RC Church\, 15 Hill Street\, Kilmarnock\, KA31HB
CATEGORIES:Activities
ATTACH;FMTTYPE=image/jpeg:https://rckilmarnock.org.uk/wp-content/uploads/2023/09/St-Josephs-Foodbank-Icon-scaled-e1712444130185.jpg
END:VEVENT
BEGIN:VEVENT
DTSTART;TZID=Europe/London:20250514T103000
DTEND;TZID=Europe/London:20250514T110000
DTSTAMP:20260424T224002
CREATED:20230917T235910Z
LAST-MODIFIED:20230917T235910Z
UID:10008184-1747218600-1747220400@rckilmarnock.org.uk
SUMMARY:Rosary (St Joseph's)
DESCRIPTION:
URL:https://rckilmarnock.org.uk/event/rosary-st-josephs-2/2025-05-14/
LOCATION:St Joseph’s RC Church\, 15 Hill Street\, Kilmarnock\, KA31HB
CATEGORIES:Prayer & Confession
ATTACH;FMTTYPE=image/jpeg:https://rckilmarnock.org.uk/wp-content/uploads/2023/09/StJosephs_Rosary.jpg
END:VEVENT
BEGIN:VEVENT
DTSTART;TZID=Europe/London:20250514T100000
DTEND;TZID=Europe/London:20250514T103000
DTSTAMP:20260424T224002
CREATED:20230910T154325Z
LAST-MODIFIED:20240403T212941Z
UID:10006791-1747216800-1747218600@rckilmarnock.org.uk
SUMMARY:Morning Mass (St Matthew's)
DESCRIPTION:
URL:https://rckilmarnock.org.uk/event/morning-mass-st-matthews/2025-05-14/
LOCATION:St Matthew’s RC Church\, St Matthew's RC Church\, Kilmarnock\, KA10 6NJ
CATEGORIES:Mass
ATTACH;FMTTYPE=image/jpeg:https://rckilmarnock.org.uk/wp-content/uploads/2023/09/St-Matthews-Mass-scaled-e1712179768239.jpg
END:VEVENT
BEGIN:VEVENT
DTSTART;TZID=UTC:20250514T100000
DTEND;TZID=UTC:20250514T103000
DTSTAMP:20260424T224002
CREATED:20230910T134715Z
LAST-MODIFIED:20230911T103208Z
UID:10000613-1747216800-1747218600@rckilmarnock.org.uk
SUMMARY:Morning Mass (St Joseph’s)
DESCRIPTION:
URL:https://rckilmarnock.org.uk/event/morning-mass-st-josephs/2025-05-14/
LOCATION:St Joseph’s RC Church\, 15 Hill Street\, Kilmarnock\, KA31HB
CATEGORIES:Mass
ATTACH;FMTTYPE=image/jpeg:https://rckilmarnock.org.uk/wp-content/uploads/2023/09/StJosephs_Mass.jpg
END:VEVENT
BEGIN:VEVENT
DTSTART;TZID=Europe/London:20250513T160000
DTEND;TZID=Europe/London:20250513T180000
DTSTAMP:20260424T224002
CREATED:20230910T154517Z
LAST-MODIFIED:20240403T213038Z
UID:10007487-1747152000-1747159200@rckilmarnock.org.uk
SUMMARY:Foodbank (St Matthew's)
DESCRIPTION:
URL:https://rckilmarnock.org.uk/event/foodbank-st-matthews/2025-05-13/
LOCATION:St Matthew’s RC Church\, St Matthew's RC Church\, Kilmarnock\, KA10 6NJ
CATEGORIES:Activities
ATTACH;FMTTYPE=image/jpeg:https://rckilmarnock.org.uk/wp-content/uploads/2023/09/St-Matthews-Foodbank-scaled-e1712179825171.jpg
END:VEVENT
END:VCALENDAR