BEGIN:VCALENDAR
VERSION:2.0
PRODID:-//RC Kilmarnock - ECPv6.15.20//NONSGML v1.0//EN
CALSCALE:GREGORIAN
METHOD:PUBLISH
X-WR-CALNAME:RC Kilmarnock
X-ORIGINAL-URL:https://rckilmarnock.org.uk
X-WR-CALDESC:Events for RC Kilmarnock
REFRESH-INTERVAL;VALUE=DURATION:PT1H
X-Robots-Tag:noindex
X-PUBLISHED-TTL:PT1H
BEGIN:VTIMEZONE
TZID:Europe/London
BEGIN:DAYLIGHT
TZOFFSETFROM:+0000
TZOFFSETTO:+0100
TZNAME:BST
DTSTART:20260329T010000
END:DAYLIGHT
BEGIN:STANDARD
TZOFFSETFROM:+0100
TZOFFSETTO:+0000
TZNAME:GMT
DTSTART:20261025T010000
END:STANDARD
BEGIN:DAYLIGHT
TZOFFSETFROM:+0000
TZOFFSETTO:+0100
TZNAME:BST
DTSTART:20270328T010000
END:DAYLIGHT
BEGIN:STANDARD
TZOFFSETFROM:+0100
TZOFFSETTO:+0000
TZNAME:GMT
DTSTART:20271031T010000
END:STANDARD
BEGIN:DAYLIGHT
TZOFFSETFROM:+0000
TZOFFSETTO:+0100
TZNAME:BST
DTSTART:20280326T010000
END:DAYLIGHT
BEGIN:STANDARD
TZOFFSETFROM:+0100
TZOFFSETTO:+0000
TZNAME:GMT
DTSTART:20281029T010000
END:STANDARD
END:VTIMEZONE
BEGIN:VTIMEZONE
TZID:UTC
BEGIN:STANDARD
TZOFFSETFROM:+0000
TZOFFSETTO:+0000
TZNAME:UTC
DTSTART:20260101T000000
END:STANDARD
END:VTIMEZONE
BEGIN:VEVENT
DTSTART;TZID=Europe/London:20270325T160000
DTEND;TZID=Europe/London:20270325T180000
DTSTAMP:20260420T143603
CREATED:20230910T154517Z
LAST-MODIFIED:20240403T213038Z
UID:10007682-1805990400-1805997600@rckilmarnock.org.uk
SUMMARY:Foodbank (St Matthew's)
DESCRIPTION:
URL:https://rckilmarnock.org.uk/event/foodbank-st-matthews/2027-03-25/
LOCATION:St Matthew’s RC Church\, St Matthew's RC Church\, Kilmarnock\, KA10 6NJ
CATEGORIES:Activities
ATTACH;FMTTYPE=image/jpeg:https://rckilmarnock.org.uk/wp-content/uploads/2023/09/St-Matthews-Foodbank-scaled-e1712179825171.jpg
END:VEVENT
BEGIN:VEVENT
DTSTART;TZID=Europe/London:20270325T180000
DTEND;TZID=Europe/London:20270325T183000
DTSTAMP:20260420T143603
CREATED:20230910T134742Z
LAST-MODIFIED:20240814T165945Z
UID:10012702-1805997600-1805999400@rckilmarnock.org.uk
SUMMARY:Evening Mass (St Joseph's)
DESCRIPTION:
URL:https://rckilmarnock.org.uk/event/__trashed/2027-03-25/
LOCATION:St Joseph’s RC Church\, 15 Hill Street\, Kilmarnock\, KA31HB
CATEGORIES:Mass
ATTACH;FMTTYPE=image/jpeg:https://rckilmarnock.org.uk/wp-content/uploads/2023/09/StJosephs_Mass.jpg
END:VEVENT
BEGIN:VEVENT
DTSTART;TZID=UTC:20270326T100000
DTEND;TZID=UTC:20270326T103000
DTSTAMP:20260420T143603
CREATED:20230910T134715Z
LAST-MODIFIED:20230911T103208Z
UID:10001002-1806055200-1806057000@rckilmarnock.org.uk
SUMMARY:Morning Mass (St Joseph’s)
DESCRIPTION:
URL:https://rckilmarnock.org.uk/event/morning-mass-st-josephs/2027-03-26/
LOCATION:St Joseph’s RC Church\, 15 Hill Street\, Kilmarnock\, KA31HB
CATEGORIES:Mass
ATTACH;FMTTYPE=image/jpeg:https://rckilmarnock.org.uk/wp-content/uploads/2023/09/StJosephs_Mass.jpg
END:VEVENT
BEGIN:VEVENT
DTSTART;TZID=Europe/London:20270327T173000
DTEND;TZID=Europe/London:20270327T174500
DTSTAMP:20260420T143603
CREATED:20230910T151942Z
LAST-MODIFIED:20230919T215911Z
UID:10002277-1806168600-1806169500@rckilmarnock.org.uk
SUMMARY:Confession (St Joseph's)
DESCRIPTION:
URL:https://rckilmarnock.org.uk/event/confession-st-josephs/2027-03-27/
LOCATION:St Joseph’s RC Church\, 15 Hill Street\, Kilmarnock\, KA31HB
CATEGORIES:Prayer & Confession
ATTACH;FMTTYPE=image/jpeg:https://rckilmarnock.org.uk/wp-content/uploads/2023/09/StJosephs_Confession.jpg
END:VEVENT
BEGIN:VEVENT
DTSTART;TZID=Europe/London:20270327T180000
DTEND;TZID=Europe/London:20270327T190000
DTSTAMP:20260420T143603
CREATED:20230910T151740Z
LAST-MODIFIED:20230919T215702Z
UID:10002015-1806170400-1806174000@rckilmarnock.org.uk
SUMMARY:Vigil Mass (St Joseph's)
DESCRIPTION:
URL:https://rckilmarnock.org.uk/event/vigil-mass-st-josephs/2027-03-27/
LOCATION:St Joseph’s RC Church\, 15 Hill Street\, Kilmarnock\, KA31HB
CATEGORIES:Mass
ATTACH;FMTTYPE=image/jpeg:https://rckilmarnock.org.uk/wp-content/uploads/2023/09/StJosephs_Mass.jpg
END:VEVENT
BEGIN:VEVENT
DTSTART;TZID=Europe/London:20270328T093000
DTEND;TZID=Europe/London:20270328T103000
DTSTAMP:20260420T143603
CREATED:20230910T145347Z
LAST-MODIFIED:20240403T213443Z
UID:10001753-1806226200-1806229800@rckilmarnock.org.uk
SUMMARY:Sunday Mass (St Matthew's)
DESCRIPTION:
URL:https://rckilmarnock.org.uk/event/sunday-mass-st-matthews/2027-03-28/
LOCATION:St Matthew’s RC Church\, St Matthew's RC Church\, Kilmarnock\, KA10 6NJ
CATEGORIES:Mass
ATTACH;FMTTYPE=image/jpeg:https://rckilmarnock.org.uk/wp-content/uploads/2023/09/St-Matthews-Mass-scaled-e1712179768239.jpg
END:VEVENT
BEGIN:VEVENT
DTSTART;TZID=UTC:20270328T110000
DTEND;TZID=UTC:20270328T120000
DTSTAMP:20260420T143603
CREATED:20230909T220758Z
LAST-MODIFIED:20230919T215820Z
UID:10000186-1806231600-1806235200@rckilmarnock.org.uk
SUMMARY:Sunday Mass (St Joseph's)
DESCRIPTION:
URL:https://rckilmarnock.org.uk/event/mass-st-josephs/2027-03-28/
LOCATION:St Joseph’s RC Church\, 15 Hill Street\, Kilmarnock\, KA31HB
CATEGORIES:Mass
ATTACH;FMTTYPE=image/jpeg:https://rckilmarnock.org.uk/wp-content/uploads/2023/09/StJosephs_Mass.jpg
END:VEVENT
BEGIN:VEVENT
DTSTART;TZID=Europe/London:20270328T113000
DTEND;TZID=Europe/London:20270328T123000
DTSTAMP:20260420T143603
CREATED:20231111T222308Z
LAST-MODIFIED:20231111T222309Z
UID:10010173-1806233400-1806237000@rckilmarnock.org.uk
SUMMARY:Sunday Mass (OLMC)
DESCRIPTION:
URL:https://rckilmarnock.org.uk/event/sunday-mass-olmc-2/2027-03-28/
LOCATION:Our Lady of Mount Carmel\, Our Lady of Mount Carmel\, Kirkton Road\, Kilmarnock\, KA32DF
CATEGORIES:Mass
ATTACH;FMTTYPE=image/jpeg:https://rckilmarnock.org.uk/wp-content/uploads/2023/09/IMG_20230919_103638-scaled.webp
END:VEVENT
BEGIN:VEVENT
DTSTART;TZID=UTC:20270329T100000
DTEND;TZID=UTC:20270329T103000
DTSTAMP:20260420T143603
CREATED:20230910T134715Z
LAST-MODIFIED:20230911T103208Z
UID:10001003-1806314400-1806316200@rckilmarnock.org.uk
SUMMARY:Morning Mass (St Joseph’s)
DESCRIPTION:
URL:https://rckilmarnock.org.uk/event/morning-mass-st-josephs/2027-03-29/
LOCATION:St Joseph’s RC Church\, 15 Hill Street\, Kilmarnock\, KA31HB
CATEGORIES:Mass
ATTACH;FMTTYPE=image/jpeg:https://rckilmarnock.org.uk/wp-content/uploads/2023/09/StJosephs_Mass.jpg
END:VEVENT
BEGIN:VEVENT
DTSTART;TZID=Europe/London:20270329T100000
DTEND;TZID=Europe/London:20270329T103000
DTSTAMP:20260420T143603
CREATED:20251223T222817Z
LAST-MODIFIED:20251223T224929Z
UID:10016336-1806314400-1806316200@rckilmarnock.org.uk
SUMMARY:Morning Mass (St Matthew's)
DESCRIPTION:
URL:https://rckilmarnock.org.uk/event/morning-mass-st-matthews-10/2027-03-29/
LOCATION:St Matthew’s RC Church\, St Matthew's RC Church\, Kilmarnock\, KA10 6NJ
CATEGORIES:Mass
ATTACH;FMTTYPE=image/jpeg:https://rckilmarnock.org.uk/wp-content/uploads/2023/09/St-Matthews-Mass-scaled-e1712179768239.jpg
END:VEVENT
BEGIN:VEVENT
DTSTART;TZID=Europe/London:20270329T103000
DTEND;TZID=Europe/London:20270329T104500
DTSTAMP:20260420T143603
CREATED:20230910T152040Z
LAST-MODIFIED:20230911T103048Z
UID:10002539-1806316200-1806317100@rckilmarnock.org.uk
SUMMARY:Confession (St Joseph's)
DESCRIPTION:
URL:https://rckilmarnock.org.uk/event/confession-st-josephs-2/2027-03-29/
LOCATION:St Joseph’s RC Church\, 15 Hill Street\, Kilmarnock\, KA31HB
CATEGORIES:Prayer & Confession
ATTACH;FMTTYPE=image/jpeg:https://rckilmarnock.org.uk/wp-content/uploads/2023/09/StJosephs_Confession.jpg
END:VEVENT
BEGIN:VEVENT
DTSTART;TZID=Europe/London:20270329T193000
DTEND;TZID=Europe/London:20270329T201500
DTSTAMP:20260420T143603
CREATED:20240406T225320Z
LAST-MODIFIED:20240406T225320Z
UID:10008554-1806348600-1806351300@rckilmarnock.org.uk
SUMMARY:Foodbank (OLMC)
DESCRIPTION:
URL:https://rckilmarnock.org.uk/event/foodbank-olmc-2/2027-03-29/
LOCATION:Our Lady of Mount Carmel\, Our Lady of Mount Carmel\, Kirkton Road\, Kilmarnock\, KA32DF
CATEGORIES:Activities
ATTACH;FMTTYPE=image/jpeg:https://rckilmarnock.org.uk/wp-content/uploads/2023/09/OLMC-Foodbank-Icon-scaled-e1712443982662.jpg
END:VEVENT
BEGIN:VEVENT
DTSTART;TZID=UTC:20270330T100000
DTEND;TZID=UTC:20270330T103000
DTSTAMP:20260420T143603
CREATED:20230910T134715Z
LAST-MODIFIED:20230911T103208Z
UID:10001004-1806400800-1806402600@rckilmarnock.org.uk
SUMMARY:Morning Mass (St Joseph’s)
DESCRIPTION:
URL:https://rckilmarnock.org.uk/event/morning-mass-st-josephs/2027-03-30/
LOCATION:St Joseph’s RC Church\, 15 Hill Street\, Kilmarnock\, KA31HB
CATEGORIES:Mass
ATTACH;FMTTYPE=image/jpeg:https://rckilmarnock.org.uk/wp-content/uploads/2023/09/StJosephs_Mass.jpg
END:VEVENT
BEGIN:VEVENT
DTSTART;TZID=Europe/London:20270330T103000
DTEND;TZID=Europe/London:20270330T110000
DTSTAMP:20260420T143603
CREATED:20230910T152530Z
LAST-MODIFIED:20240413T215742Z
UID:10003321-1806402600-1806404400@rckilmarnock.org.uk
SUMMARY:Adoration (St Joseph's)
DESCRIPTION:
URL:https://rckilmarnock.org.uk/event/adoration-st-josephs/2027-03-30/
LOCATION:St Joseph’s RC Church\, 15 Hill Street\, Kilmarnock\, KA31HB
CATEGORIES:Prayer & Confession
ATTACH;FMTTYPE=image/jpeg:https://rckilmarnock.org.uk/wp-content/uploads/2024/04/IMG_7814-scaled-e1713045441966.jpg
END:VEVENT
BEGIN:VEVENT
DTSTART;TZID=Europe/London:20270330T103000
DTEND;TZID=Europe/London:20270330T110000
DTSTAMP:20260420T143603
CREATED:20251223T224143Z
LAST-MODIFIED:20251223T224143Z
UID:10017295-1806402600-1806404400@rckilmarnock.org.uk
SUMMARY:Adoration & Confessions (OLMC)
DESCRIPTION:
URL:https://rckilmarnock.org.uk/event/adoration-confessions-olmc/2027-03-30/
LOCATION:Our Lady of Mount Carmel\, Our Lady of Mount Carmel\, Kirkton Road\, Kilmarnock\, KA32DF
CATEGORIES:Prayer & Confession
ATTACH;FMTTYPE=image/jpeg:https://rckilmarnock.org.uk/wp-content/uploads/2023/09/IMG_20230919_104005-scaled.webp
END:VEVENT
BEGIN:VEVENT
DTSTART;TZID=Europe/London:20270330T110000
DTEND;TZID=Europe/London:20270330T130000
DTSTAMP:20260420T143603
CREATED:20250720T201733Z
LAST-MODIFIED:20250720T201733Z
UID:10002799-1806404400-1806411600@rckilmarnock.org.uk
SUMMARY:Community Café (St Joseph's)
DESCRIPTION:
URL:https://rckilmarnock.org.uk/event/community-cafe-2-2/2027-03-30/
LOCATION:St Joseph’s RC Church\, 15 Hill Street\, Kilmarnock\, KA31HB
CATEGORIES:Activities
ATTACH;FMTTYPE=image/jpeg:https://rckilmarnock.org.uk/wp-content/uploads/2023/09/Cafe-Icon-e1712443453593.jpg
END:VEVENT
BEGIN:VEVENT
DTSTART;TZID=Europe/London:20270330T160000
DTEND;TZID=Europe/London:20270330T180000
DTSTAMP:20260420T143603
CREATED:20230910T154517Z
LAST-MODIFIED:20240403T213038Z
UID:10007683-1806422400-1806429600@rckilmarnock.org.uk
SUMMARY:Foodbank (St Matthew's)
DESCRIPTION:
URL:https://rckilmarnock.org.uk/event/foodbank-st-matthews/2027-03-30/
LOCATION:St Matthew’s RC Church\, St Matthew's RC Church\, Kilmarnock\, KA10 6NJ
CATEGORIES:Activities
ATTACH;FMTTYPE=image/jpeg:https://rckilmarnock.org.uk/wp-content/uploads/2023/09/St-Matthews-Foodbank-scaled-e1712179825171.jpg
END:VEVENT
BEGIN:VEVENT
DTSTART;TZID=UTC:20270331T100000
DTEND;TZID=UTC:20270331T103000
DTSTAMP:20260420T143603
CREATED:20230910T134715Z
LAST-MODIFIED:20230911T103208Z
UID:10001005-1806487200-1806489000@rckilmarnock.org.uk
SUMMARY:Morning Mass (St Joseph’s)
DESCRIPTION:
URL:https://rckilmarnock.org.uk/event/morning-mass-st-josephs/2027-03-31/
LOCATION:St Joseph’s RC Church\, 15 Hill Street\, Kilmarnock\, KA31HB
CATEGORIES:Mass
ATTACH;FMTTYPE=image/jpeg:https://rckilmarnock.org.uk/wp-content/uploads/2023/09/StJosephs_Mass.jpg
END:VEVENT
BEGIN:VEVENT
DTSTART;TZID=Europe/London:20270331T100000
DTEND;TZID=Europe/London:20270331T103000
DTSTAMP:20260420T143603
CREATED:20251223T222817Z
LAST-MODIFIED:20251223T224929Z
UID:10016337-1806487200-1806489000@rckilmarnock.org.uk
SUMMARY:Morning Mass (St Matthew's)
DESCRIPTION:
URL:https://rckilmarnock.org.uk/event/morning-mass-st-matthews-10/2027-03-31/
LOCATION:St Matthew’s RC Church\, St Matthew's RC Church\, Kilmarnock\, KA10 6NJ
CATEGORIES:Mass
ATTACH;FMTTYPE=image/jpeg:https://rckilmarnock.org.uk/wp-content/uploads/2023/09/St-Matthews-Mass-scaled-e1712179768239.jpg
END:VEVENT
BEGIN:VEVENT
DTSTART;TZID=Europe/London:20270331T103000
DTEND;TZID=Europe/London:20270331T110000
DTSTAMP:20260420T143603
CREATED:20251223T223236Z
LAST-MODIFIED:20251223T223253Z
UID:10017009-1806489000-1806490800@rckilmarnock.org.uk
SUMMARY:Adoration & Confession (St Matthew's)
DESCRIPTION:
URL:https://rckilmarnock.org.uk/event/adoration-confession-st-matthews/2027-03-31/
LOCATION:St Matthew’s RC Church\, St Matthew's RC Church\, Kilmarnock\, KA10 6NJ
CATEGORIES:Prayer & Confession
ATTACH;FMTTYPE=image/jpeg:https://rckilmarnock.org.uk/wp-content/uploads/2023/09/St-Matthews-Adoration-scaled.jpg
END:VEVENT
BEGIN:VEVENT
DTSTART;TZID=Europe/London:20270331T103000
DTEND;TZID=Europe/London:20270331T113000
DTSTAMP:20260420T143603
CREATED:20240406T225544Z
LAST-MODIFIED:20240406T225544Z
UID:10003843-1806489000-1806492600@rckilmarnock.org.uk
SUMMARY:Foodbank (St Joseph's)
DESCRIPTION:
URL:https://rckilmarnock.org.uk/event/foodbank-st-josephs-2-2/2027-03-31/
LOCATION:St Joseph’s RC Church\, 15 Hill Street\, Kilmarnock\, KA31HB
CATEGORIES:Activities
ATTACH;FMTTYPE=image/jpeg:https://rckilmarnock.org.uk/wp-content/uploads/2023/09/St-Josephs-Foodbank-Icon-scaled-e1712444130185.jpg
END:VEVENT
BEGIN:VEVENT
DTSTART;TZID=Europe/London:20270401T160000
DTEND;TZID=Europe/London:20270401T180000
DTSTAMP:20260420T143603
CREATED:20230910T154517Z
LAST-MODIFIED:20240403T213038Z
UID:10007684-1806595200-1806602400@rckilmarnock.org.uk
SUMMARY:Foodbank (St Matthew's)
DESCRIPTION:
URL:https://rckilmarnock.org.uk/event/foodbank-st-matthews/2027-04-01/
LOCATION:St Matthew’s RC Church\, St Matthew's RC Church\, Kilmarnock\, KA10 6NJ
CATEGORIES:Activities
ATTACH;FMTTYPE=image/jpeg:https://rckilmarnock.org.uk/wp-content/uploads/2023/09/St-Matthews-Foodbank-scaled-e1712179825171.jpg
END:VEVENT
BEGIN:VEVENT
DTSTART;TZID=Europe/London:20270401T180000
DTEND;TZID=Europe/London:20270401T183000
DTSTAMP:20260420T143603
CREATED:20230910T134742Z
LAST-MODIFIED:20240814T165945Z
UID:10012703-1806602400-1806604200@rckilmarnock.org.uk
SUMMARY:Evening Mass (St Joseph's)
DESCRIPTION:
URL:https://rckilmarnock.org.uk/event/__trashed/2027-04-01/
LOCATION:St Joseph’s RC Church\, 15 Hill Street\, Kilmarnock\, KA31HB
CATEGORIES:Mass
ATTACH;FMTTYPE=image/jpeg:https://rckilmarnock.org.uk/wp-content/uploads/2023/09/StJosephs_Mass.jpg
END:VEVENT
BEGIN:VEVENT
DTSTART;TZID=UTC:20270402T100000
DTEND;TZID=UTC:20270402T103000
DTSTAMP:20260420T143603
CREATED:20230910T134715Z
LAST-MODIFIED:20230911T103208Z
UID:10001006-1806660000-1806661800@rckilmarnock.org.uk
SUMMARY:Morning Mass (St Joseph’s)
DESCRIPTION:
URL:https://rckilmarnock.org.uk/event/morning-mass-st-josephs/2027-04-02/
LOCATION:St Joseph’s RC Church\, 15 Hill Street\, Kilmarnock\, KA31HB
CATEGORIES:Mass
ATTACH;FMTTYPE=image/jpeg:https://rckilmarnock.org.uk/wp-content/uploads/2023/09/StJosephs_Mass.jpg
END:VEVENT
BEGIN:VEVENT
DTSTART;TZID=Europe/London:20270403T173000
DTEND;TZID=Europe/London:20270403T174500
DTSTAMP:20260420T143603
CREATED:20230910T151942Z
LAST-MODIFIED:20230919T215911Z
UID:10002278-1806773400-1806774300@rckilmarnock.org.uk
SUMMARY:Confession (St Joseph's)
DESCRIPTION:
URL:https://rckilmarnock.org.uk/event/confession-st-josephs/2027-04-03/
LOCATION:St Joseph’s RC Church\, 15 Hill Street\, Kilmarnock\, KA31HB
CATEGORIES:Prayer & Confession
ATTACH;FMTTYPE=image/jpeg:https://rckilmarnock.org.uk/wp-content/uploads/2023/09/StJosephs_Confession.jpg
END:VEVENT
BEGIN:VEVENT
DTSTART;TZID=Europe/London:20270403T180000
DTEND;TZID=Europe/London:20270403T190000
DTSTAMP:20260420T143603
CREATED:20230910T151740Z
LAST-MODIFIED:20230919T215702Z
UID:10002016-1806775200-1806778800@rckilmarnock.org.uk
SUMMARY:Vigil Mass (St Joseph's)
DESCRIPTION:
URL:https://rckilmarnock.org.uk/event/vigil-mass-st-josephs/2027-04-03/
LOCATION:St Joseph’s RC Church\, 15 Hill Street\, Kilmarnock\, KA31HB
CATEGORIES:Mass
ATTACH;FMTTYPE=image/jpeg:https://rckilmarnock.org.uk/wp-content/uploads/2023/09/StJosephs_Mass.jpg
END:VEVENT
BEGIN:VEVENT
DTSTART;TZID=Europe/London:20270404T093000
DTEND;TZID=Europe/London:20270404T103000
DTSTAMP:20260420T143603
CREATED:20230910T145347Z
LAST-MODIFIED:20240403T213443Z
UID:10001754-1806831000-1806834600@rckilmarnock.org.uk
SUMMARY:Sunday Mass (St Matthew's)
DESCRIPTION:
URL:https://rckilmarnock.org.uk/event/sunday-mass-st-matthews/2027-04-04/
LOCATION:St Matthew’s RC Church\, St Matthew's RC Church\, Kilmarnock\, KA10 6NJ
CATEGORIES:Mass
ATTACH;FMTTYPE=image/jpeg:https://rckilmarnock.org.uk/wp-content/uploads/2023/09/St-Matthews-Mass-scaled-e1712179768239.jpg
END:VEVENT
BEGIN:VEVENT
DTSTART;TZID=UTC:20270404T110000
DTEND;TZID=UTC:20270404T120000
DTSTAMP:20260420T143603
CREATED:20230909T220758Z
LAST-MODIFIED:20230919T215820Z
UID:10000187-1806836400-1806840000@rckilmarnock.org.uk
SUMMARY:Sunday Mass (St Joseph's)
DESCRIPTION:
URL:https://rckilmarnock.org.uk/event/mass-st-josephs/2027-04-04/
LOCATION:St Joseph’s RC Church\, 15 Hill Street\, Kilmarnock\, KA31HB
CATEGORIES:Mass
ATTACH;FMTTYPE=image/jpeg:https://rckilmarnock.org.uk/wp-content/uploads/2023/09/StJosephs_Mass.jpg
END:VEVENT
BEGIN:VEVENT
DTSTART;TZID=Europe/London:20270404T113000
DTEND;TZID=Europe/London:20270404T123000
DTSTAMP:20260420T143603
CREATED:20231111T222308Z
LAST-MODIFIED:20231111T222309Z
UID:10010174-1806838200-1806841800@rckilmarnock.org.uk
SUMMARY:Sunday Mass (OLMC)
DESCRIPTION:
URL:https://rckilmarnock.org.uk/event/sunday-mass-olmc-2/2027-04-04/
LOCATION:Our Lady of Mount Carmel\, Our Lady of Mount Carmel\, Kirkton Road\, Kilmarnock\, KA32DF
CATEGORIES:Mass
ATTACH;FMTTYPE=image/jpeg:https://rckilmarnock.org.uk/wp-content/uploads/2023/09/IMG_20230919_103638-scaled.webp
END:VEVENT
BEGIN:VEVENT
DTSTART;TZID=UTC:20270405T100000
DTEND;TZID=UTC:20270405T103000
DTSTAMP:20260420T143603
CREATED:20230910T134715Z
LAST-MODIFIED:20230911T103208Z
UID:10001007-1806919200-1806921000@rckilmarnock.org.uk
SUMMARY:Morning Mass (St Joseph’s)
DESCRIPTION:
URL:https://rckilmarnock.org.uk/event/morning-mass-st-josephs/2027-04-05/
LOCATION:St Joseph’s RC Church\, 15 Hill Street\, Kilmarnock\, KA31HB
CATEGORIES:Mass
ATTACH;FMTTYPE=image/jpeg:https://rckilmarnock.org.uk/wp-content/uploads/2023/09/StJosephs_Mass.jpg
END:VEVENT
END:VCALENDAR