BEGIN:VCALENDAR
VERSION:2.0
PRODID:-//RC Kilmarnock - ECPv6.15.20//NONSGML v1.0//EN
CALSCALE:GREGORIAN
METHOD:PUBLISH
X-ORIGINAL-URL:https://rckilmarnock.org.uk
X-WR-CALDESC:Events for RC Kilmarnock
REFRESH-INTERVAL;VALUE=DURATION:PT1H
X-Robots-Tag:noindex
X-PUBLISHED-TTL:PT1H
BEGIN:VTIMEZONE
TZID:Europe/London
BEGIN:DAYLIGHT
TZOFFSETFROM:+0000
TZOFFSETTO:+0100
TZNAME:BST
DTSTART:20230326T010000
END:DAYLIGHT
BEGIN:STANDARD
TZOFFSETFROM:+0100
TZOFFSETTO:+0000
TZNAME:GMT
DTSTART:20231029T010000
END:STANDARD
BEGIN:DAYLIGHT
TZOFFSETFROM:+0000
TZOFFSETTO:+0100
TZNAME:BST
DTSTART:20240331T010000
END:DAYLIGHT
BEGIN:STANDARD
TZOFFSETFROM:+0100
TZOFFSETTO:+0000
TZNAME:GMT
DTSTART:20241027T010000
END:STANDARD
BEGIN:DAYLIGHT
TZOFFSETFROM:+0000
TZOFFSETTO:+0100
TZNAME:BST
DTSTART:20250330T010000
END:DAYLIGHT
BEGIN:STANDARD
TZOFFSETFROM:+0100
TZOFFSETTO:+0000
TZNAME:GMT
DTSTART:20251026T010000
END:STANDARD
END:VTIMEZONE
BEGIN:VTIMEZONE
TZID:UTC
BEGIN:STANDARD
TZOFFSETFROM:+0000
TZOFFSETTO:+0000
TZNAME:UTC
DTSTART:20230101T000000
END:STANDARD
END:VTIMEZONE
BEGIN:VEVENT
DTSTART;TZID=Europe/London:20241213T093000
DTEND;TZID=Europe/London:20241213T100000
DTSTAMP:20260426T050330
CREATED:20230910T153551Z
LAST-MODIFIED:20230919T215027Z
UID:10005551-1734082200-1734084000@rckilmarnock.org.uk
SUMMARY:Rosary (OLMC)
DESCRIPTION:
URL:https://rckilmarnock.org.uk/event/rosary-olmc-2/2024-12-13/
LOCATION:Our Lady of Mount Carmel\, Our Lady of Mount Carmel\, Kirkton Road\, Kilmarnock\, KA32DF
CATEGORIES:Prayer & Confession
ATTACH;FMTTYPE=image/jpeg:https://rckilmarnock.org.uk/wp-content/uploads/2023/09/IMG_20230919_104711-scaled.webp
END:VEVENT
BEGIN:VEVENT
DTSTART;TZID=UTC:20241213T100000
DTEND;TZID=UTC:20241213T103000
DTSTAMP:20260426T050330
CREATED:20230910T134715Z
LAST-MODIFIED:20230911T103208Z
UID:10000526-1734084000-1734085800@rckilmarnock.org.uk
SUMMARY:Morning Mass (St Joseph’s)
DESCRIPTION:
URL:https://rckilmarnock.org.uk/event/morning-mass-st-josephs/2024-12-13/
LOCATION:St Joseph’s RC Church\, 15 Hill Street\, Kilmarnock\, KA31HB
CATEGORIES:Mass
ATTACH;FMTTYPE=image/jpeg:https://rckilmarnock.org.uk/wp-content/uploads/2023/09/StJosephs_Mass.jpg
END:VEVENT
BEGIN:VEVENT
DTSTART;TZID=Europe/London:20241213T100000
DTEND;TZID=Europe/London:20241213T103000
DTSTAMP:20260426T050330
CREATED:20230910T152950Z
LAST-MODIFIED:20230919T215336Z
UID:10004050-1734084000-1734085800@rckilmarnock.org.uk
SUMMARY:Morning Mass (OLMC)
DESCRIPTION:
URL:https://rckilmarnock.org.uk/event/morning-mass-olmc/2024-12-13/
LOCATION:Our Lady of Mount Carmel\, Our Lady of Mount Carmel\, Kirkton Road\, Kilmarnock\, KA32DF
CATEGORIES:Mass
ATTACH;FMTTYPE=image/jpeg:https://rckilmarnock.org.uk/wp-content/uploads/2023/09/IMG_20230919_103638-scaled.webp
END:VEVENT
BEGIN:VEVENT
DTSTART;TZID=Europe/London:20241214T093000
DTEND;TZID=Europe/London:20241214T094500
DTSTAMP:20260426T050330
CREATED:20231111T222012Z
LAST-MODIFIED:20240403T213453Z
UID:10009263-1734168600-1734169500@rckilmarnock.org.uk
SUMMARY:Confession (St Matthew's)
DESCRIPTION:
URL:https://rckilmarnock.org.uk/event/confession-st-matthews/2024-12-14/
LOCATION:St Matthew’s RC Church\, St Matthew's RC Church\, Kilmarnock\, KA10 6NJ
CATEGORIES:Prayer & Confession
ATTACH;FMTTYPE=image/jpeg:https://rckilmarnock.org.uk/wp-content/uploads/2023/09/St-Matthews-Confession-scaled-e1712180060229.jpg
END:VEVENT
BEGIN:VEVENT
DTSTART;TZID=Europe/London:20241214T093000
DTEND;TZID=Europe/London:20241214T100000
DTSTAMP:20260426T050330
CREATED:20240413T215600Z
LAST-MODIFIED:20240413T215600Z
UID:10011036-1734168600-1734170400@rckilmarnock.org.uk
SUMMARY:Adoration (St Matthew's)
DESCRIPTION:
URL:https://rckilmarnock.org.uk/event/adoration-st-matthews-3/2024-12-14/
LOCATION:St Matthew’s RC Church\, St Matthew's RC Church\, Kilmarnock\, KA10 6NJ
CATEGORIES:Prayer & Confession
ATTACH;FMTTYPE=image/jpeg:https://rckilmarnock.org.uk/wp-content/uploads/2023/09/St-Matthews-Adoration-scaled.jpg
END:VEVENT
BEGIN:VEVENT
DTSTART;TZID=Europe/London:20241214T100000
DTEND;TZID=Europe/London:20241214T103000
DTSTAMP:20260426T050330
CREATED:20230910T154325Z
LAST-MODIFIED:20240403T212941Z
UID:10006727-1734170400-1734172200@rckilmarnock.org.uk
SUMMARY:Morning Mass (St Matthew's)
DESCRIPTION:
URL:https://rckilmarnock.org.uk/event/morning-mass-st-matthews/2024-12-14/
LOCATION:St Matthew’s RC Church\, St Matthew's RC Church\, Kilmarnock\, KA10 6NJ
CATEGORIES:Mass
ATTACH;FMTTYPE=image/jpeg:https://rckilmarnock.org.uk/wp-content/uploads/2023/09/St-Matthews-Mass-scaled-e1712179768239.jpg
END:VEVENT
BEGIN:VEVENT
DTSTART;TZID=Europe/London:20241214T173000
DTEND;TZID=Europe/London:20241214T174500
DTSTAMP:20260426T050330
CREATED:20230910T151942Z
LAST-MODIFIED:20230919T215911Z
UID:10002158-1734197400-1734198300@rckilmarnock.org.uk
SUMMARY:Confession (St Joseph's)
DESCRIPTION:
URL:https://rckilmarnock.org.uk/event/confession-st-josephs/2024-12-14/
LOCATION:St Joseph’s RC Church\, 15 Hill Street\, Kilmarnock\, KA31HB
CATEGORIES:Prayer & Confession
ATTACH;FMTTYPE=image/jpeg:https://rckilmarnock.org.uk/wp-content/uploads/2023/09/StJosephs_Confession.jpg
END:VEVENT
BEGIN:VEVENT
DTSTART;TZID=Europe/London:20241214T180000
DTEND;TZID=Europe/London:20241214T190000
DTSTAMP:20260426T050330
CREATED:20230910T151740Z
LAST-MODIFIED:20230919T215702Z
UID:10001896-1734199200-1734202800@rckilmarnock.org.uk
SUMMARY:Vigil Mass (St Joseph's)
DESCRIPTION:
URL:https://rckilmarnock.org.uk/event/vigil-mass-st-josephs/2024-12-14/
LOCATION:St Joseph’s RC Church\, 15 Hill Street\, Kilmarnock\, KA31HB
CATEGORIES:Mass
ATTACH;FMTTYPE=image/jpeg:https://rckilmarnock.org.uk/wp-content/uploads/2023/09/StJosephs_Mass.jpg
END:VEVENT
BEGIN:VEVENT
DTSTART;TZID=Europe/London:20241215T093000
DTEND;TZID=Europe/London:20241215T103000
DTSTAMP:20260426T050330
CREATED:20230910T145347Z
LAST-MODIFIED:20240403T213443Z
UID:10001634-1734255000-1734258600@rckilmarnock.org.uk
SUMMARY:Sunday Mass (St Matthew's)
DESCRIPTION:
URL:https://rckilmarnock.org.uk/event/sunday-mass-st-matthews/2024-12-15/
LOCATION:St Matthew’s RC Church\, St Matthew's RC Church\, Kilmarnock\, KA10 6NJ
CATEGORIES:Mass
ATTACH;FMTTYPE=image/jpeg:https://rckilmarnock.org.uk/wp-content/uploads/2023/09/St-Matthews-Mass-scaled-e1712179768239.jpg
END:VEVENT
BEGIN:VEVENT
DTSTART;TZID=UTC:20241215T110000
DTEND;TZID=UTC:20241215T120000
DTSTAMP:20260426T050330
CREATED:20230909T220758Z
LAST-MODIFIED:20230919T215820Z
UID:10000067-1734260400-1734264000@rckilmarnock.org.uk
SUMMARY:Sunday Mass (St Joseph's)
DESCRIPTION:
URL:https://rckilmarnock.org.uk/event/mass-st-josephs/2024-12-15/
LOCATION:St Joseph’s RC Church\, 15 Hill Street\, Kilmarnock\, KA31HB
CATEGORIES:Mass
ATTACH;FMTTYPE=image/jpeg:https://rckilmarnock.org.uk/wp-content/uploads/2023/09/StJosephs_Mass.jpg
END:VEVENT
BEGIN:VEVENT
DTSTART;TZID=Europe/London:20241215T113000
DTEND;TZID=Europe/London:20241215T123000
DTSTAMP:20260426T050330
CREATED:20231111T222308Z
LAST-MODIFIED:20231111T222309Z
UID:10010054-1734262200-1734265800@rckilmarnock.org.uk
SUMMARY:Sunday Mass (OLMC)
DESCRIPTION:
URL:https://rckilmarnock.org.uk/event/sunday-mass-olmc-2/2024-12-15/
LOCATION:Our Lady of Mount Carmel\, Our Lady of Mount Carmel\, Kirkton Road\, Kilmarnock\, KA32DF
CATEGORIES:Mass
ATTACH;FMTTYPE=image/jpeg:https://rckilmarnock.org.uk/wp-content/uploads/2023/09/IMG_20230919_103638-scaled.webp
END:VEVENT
BEGIN:VEVENT
DTSTART;TZID=UTC:20241216T100000
DTEND;TZID=UTC:20241216T103000
DTSTAMP:20260426T050330
CREATED:20230910T134715Z
LAST-MODIFIED:20230911T103208Z
UID:10000527-1734343200-1734345000@rckilmarnock.org.uk
SUMMARY:Morning Mass (St Joseph’s)
DESCRIPTION:
URL:https://rckilmarnock.org.uk/event/morning-mass-st-josephs/2024-12-16/
LOCATION:St Joseph’s RC Church\, 15 Hill Street\, Kilmarnock\, KA31HB
CATEGORIES:Mass
ATTACH;FMTTYPE=image/jpeg:https://rckilmarnock.org.uk/wp-content/uploads/2023/09/StJosephs_Mass.jpg
END:VEVENT
BEGIN:VEVENT
DTSTART;TZID=Europe/London:20241216T103000
DTEND;TZID=Europe/London:20241216T104500
DTSTAMP:20260426T050330
CREATED:20230910T152040Z
LAST-MODIFIED:20230911T103048Z
UID:10002420-1734345000-1734345900@rckilmarnock.org.uk
SUMMARY:Confession (St Joseph's)
DESCRIPTION:
URL:https://rckilmarnock.org.uk/event/confession-st-josephs-2/2024-12-16/
LOCATION:St Joseph’s RC Church\, 15 Hill Street\, Kilmarnock\, KA31HB
CATEGORIES:Prayer & Confession
ATTACH;FMTTYPE=image/jpeg:https://rckilmarnock.org.uk/wp-content/uploads/2023/09/StJosephs_Confession.jpg
END:VEVENT
BEGIN:VEVENT
DTSTART;TZID=Europe/London:20241216T193000
DTEND;TZID=Europe/London:20241216T201500
DTSTAMP:20260426T050330
CREATED:20240406T225320Z
LAST-MODIFIED:20240406T225320Z
UID:10008435-1734377400-1734380100@rckilmarnock.org.uk
SUMMARY:Foodbank (OLMC)
DESCRIPTION:
URL:https://rckilmarnock.org.uk/event/foodbank-olmc-2/2024-12-16/
LOCATION:Our Lady of Mount Carmel\, Our Lady of Mount Carmel\, Kirkton Road\, Kilmarnock\, KA32DF
CATEGORIES:Activities
ATTACH;FMTTYPE=image/jpeg:https://rckilmarnock.org.uk/wp-content/uploads/2023/09/OLMC-Foodbank-Icon-scaled-e1712443982662.jpg
END:VEVENT
BEGIN:VEVENT
DTSTART;TZID=Europe/London:20241217T093000
DTEND;TZID=Europe/London:20241217T094500
DTSTAMP:20260426T050330
CREATED:20240406T221638Z
LAST-MODIFIED:20240406T221638Z
UID:10009795-1734427800-1734428700@rckilmarnock.org.uk
SUMMARY:Confession (OLMC)
DESCRIPTION:
URL:https://rckilmarnock.org.uk/event/confession-olmc-2/2024-12-17/
LOCATION:Our Lady of Mount Carmel\, Our Lady of Mount Carmel\, Kirkton Road\, Kilmarnock\, KA32DF
CATEGORIES:Prayer & Confession
ATTACH;FMTTYPE=image/jpeg:https://rckilmarnock.org.uk/wp-content/uploads/2023/11/OLMC-Confession-Banner-scaled-e1712441781286.jpg
END:VEVENT
BEGIN:VEVENT
DTSTART;TZID=Europe/London:20241217T093000
DTEND;TZID=Europe/London:20241217T100000
DTSTAMP:20260426T050330
CREATED:20230910T153709Z
LAST-MODIFIED:20230919T214805Z
UID:10005291-1734427800-1734429600@rckilmarnock.org.uk
SUMMARY:Adoration (OLMC)
DESCRIPTION:
URL:https://rckilmarnock.org.uk/event/adoration-olmc/2024-12-17/
LOCATION:Our Lady of Mount Carmel\, Our Lady of Mount Carmel\, Kirkton Road\, Kilmarnock\, KA32DF
CATEGORIES:Prayer & Confession
ATTACH;FMTTYPE=image/jpeg:https://rckilmarnock.org.uk/wp-content/uploads/2023/09/IMG_20230919_104005-scaled.webp
END:VEVENT
BEGIN:VEVENT
DTSTART;TZID=UTC:20241217T100000
DTEND;TZID=UTC:20241217T103000
DTSTAMP:20260426T050330
CREATED:20230910T134715Z
LAST-MODIFIED:20230911T103208Z
UID:10000528-1734429600-1734431400@rckilmarnock.org.uk
SUMMARY:Morning Mass (St Joseph’s)
DESCRIPTION:
URL:https://rckilmarnock.org.uk/event/morning-mass-st-josephs/2024-12-17/
LOCATION:St Joseph’s RC Church\, 15 Hill Street\, Kilmarnock\, KA31HB
CATEGORIES:Mass
ATTACH;FMTTYPE=image/jpeg:https://rckilmarnock.org.uk/wp-content/uploads/2023/09/StJosephs_Mass.jpg
END:VEVENT
BEGIN:VEVENT
DTSTART;TZID=Europe/London:20241217T100000
DTEND;TZID=Europe/London:20241217T103000
DTSTAMP:20260426T050330
CREATED:20230910T152950Z
LAST-MODIFIED:20230919T215336Z
UID:10004051-1734429600-1734431400@rckilmarnock.org.uk
SUMMARY:Morning Mass (OLMC)
DESCRIPTION:
URL:https://rckilmarnock.org.uk/event/morning-mass-olmc/2024-12-17/
LOCATION:Our Lady of Mount Carmel\, Our Lady of Mount Carmel\, Kirkton Road\, Kilmarnock\, KA32DF
CATEGORIES:Mass
ATTACH;FMTTYPE=image/jpeg:https://rckilmarnock.org.uk/wp-content/uploads/2023/09/IMG_20230919_103638-scaled.webp
END:VEVENT
BEGIN:VEVENT
DTSTART;TZID=Europe/London:20241217T103000
DTEND;TZID=Europe/London:20241217T110000
DTSTAMP:20260426T050330
CREATED:20230910T152530Z
LAST-MODIFIED:20240413T215742Z
UID:10003202-1734431400-1734433200@rckilmarnock.org.uk
SUMMARY:Adoration (St Joseph's)
DESCRIPTION:
URL:https://rckilmarnock.org.uk/event/adoration-st-josephs/2024-12-17/
LOCATION:St Joseph’s RC Church\, 15 Hill Street\, Kilmarnock\, KA31HB
CATEGORIES:Prayer & Confession
ATTACH;FMTTYPE=image/jpeg:https://rckilmarnock.org.uk/wp-content/uploads/2024/04/IMG_7814-scaled-e1713045441966.jpg
END:VEVENT
BEGIN:VEVENT
DTSTART;TZID=Europe/London:20241217T110000
DTEND;TZID=Europe/London:20241217T130000
DTSTAMP:20260426T050330
CREATED:20240406T224423Z
LAST-MODIFIED:20240406T224423Z
UID:10002680-1734433200-1734440400@rckilmarnock.org.uk
SUMMARY:Community Café (St Joseph's)
DESCRIPTION:
URL:https://rckilmarnock.org.uk/event/community-cafe-2/2024-12-17/
LOCATION:St Joseph’s RC Church\, 15 Hill Street\, Kilmarnock\, KA31HB
CATEGORIES:Activities
ATTACH;FMTTYPE=image/jpeg:https://rckilmarnock.org.uk/wp-content/uploads/2023/09/Cafe-Icon-e1712443453593.jpg
END:VEVENT
BEGIN:VEVENT
DTSTART;TZID=Europe/London:20241217T160000
DTEND;TZID=Europe/London:20241217T180000
DTSTAMP:20260426T050330
CREATED:20230910T154517Z
LAST-MODIFIED:20240403T213038Z
UID:10007445-1734451200-1734458400@rckilmarnock.org.uk
SUMMARY:Foodbank (St Matthew's)
DESCRIPTION:
URL:https://rckilmarnock.org.uk/event/foodbank-st-matthews/2024-12-17/
LOCATION:St Matthew’s RC Church\, St Matthew's RC Church\, Kilmarnock\, KA10 6NJ
CATEGORIES:Activities
ATTACH;FMTTYPE=image/jpeg:https://rckilmarnock.org.uk/wp-content/uploads/2023/09/St-Matthews-Foodbank-scaled-e1712179825171.jpg
END:VEVENT
BEGIN:VEVENT
DTSTART;TZID=UTC:20241218T100000
DTEND;TZID=UTC:20241218T103000
DTSTAMP:20260426T050330
CREATED:20230910T134715Z
LAST-MODIFIED:20230911T103208Z
UID:10000529-1734516000-1734517800@rckilmarnock.org.uk
SUMMARY:Morning Mass (St Joseph’s)
DESCRIPTION:
URL:https://rckilmarnock.org.uk/event/morning-mass-st-josephs/2024-12-18/
LOCATION:St Joseph’s RC Church\, 15 Hill Street\, Kilmarnock\, KA31HB
CATEGORIES:Mass
ATTACH;FMTTYPE=image/jpeg:https://rckilmarnock.org.uk/wp-content/uploads/2023/09/StJosephs_Mass.jpg
END:VEVENT
BEGIN:VEVENT
DTSTART;TZID=Europe/London:20241218T100000
DTEND;TZID=Europe/London:20241218T103000
DTSTAMP:20260426T050330
CREATED:20230910T154325Z
LAST-MODIFIED:20240403T212941Z
UID:10006728-1734516000-1734517800@rckilmarnock.org.uk
SUMMARY:Morning Mass (St Matthew's)
DESCRIPTION:
URL:https://rckilmarnock.org.uk/event/morning-mass-st-matthews/2024-12-18/
LOCATION:St Matthew’s RC Church\, St Matthew's RC Church\, Kilmarnock\, KA10 6NJ
CATEGORIES:Mass
ATTACH;FMTTYPE=image/jpeg:https://rckilmarnock.org.uk/wp-content/uploads/2023/09/St-Matthews-Mass-scaled-e1712179768239.jpg
END:VEVENT
BEGIN:VEVENT
DTSTART;TZID=Europe/London:20241218T103000
DTEND;TZID=Europe/London:20241218T110000
DTSTAMP:20260426T050330
CREATED:20230917T235910Z
LAST-MODIFIED:20230917T235910Z
UID:10008163-1734517800-1734519600@rckilmarnock.org.uk
SUMMARY:Rosary (St Joseph's)
DESCRIPTION:
URL:https://rckilmarnock.org.uk/event/rosary-st-josephs-2/2024-12-18/
LOCATION:St Joseph’s RC Church\, 15 Hill Street\, Kilmarnock\, KA31HB
CATEGORIES:Prayer & Confession
ATTACH;FMTTYPE=image/jpeg:https://rckilmarnock.org.uk/wp-content/uploads/2023/09/StJosephs_Rosary.jpg
END:VEVENT
BEGIN:VEVENT
DTSTART;TZID=Europe/London:20241218T103000
DTEND;TZID=Europe/London:20241218T113000
DTSTAMP:20260426T050330
CREATED:20240406T225544Z
LAST-MODIFIED:20240406T225544Z
UID:10003724-1734517800-1734521400@rckilmarnock.org.uk
SUMMARY:Foodbank (St Joseph's)
DESCRIPTION:
URL:https://rckilmarnock.org.uk/event/foodbank-st-josephs-2-2/2024-12-18/
LOCATION:St Joseph’s RC Church\, 15 Hill Street\, Kilmarnock\, KA31HB
CATEGORIES:Activities
ATTACH;FMTTYPE=image/jpeg:https://rckilmarnock.org.uk/wp-content/uploads/2023/09/St-Josephs-Foodbank-Icon-scaled-e1712444130185.jpg
END:VEVENT
BEGIN:VEVENT
DTSTART;TZID=Europe/London:20241219T093000
DTEND;TZID=Europe/London:20241219T100000
DTSTAMP:20260426T050330
CREATED:20231111T221534Z
LAST-MODIFIED:20240403T223634Z
UID:10008688-1734600600-1734602400@rckilmarnock.org.uk
SUMMARY:Rosary (St Matthew's)
DESCRIPTION:
URL:https://rckilmarnock.org.uk/event/rosary-st-matthews-2/2024-12-19/
LOCATION:St Matthew’s RC Church\, St Matthew's RC Church\, Kilmarnock\, KA10 6NJ
CATEGORIES:Prayer & Confession
ATTACH;FMTTYPE=image/jpeg:https://rckilmarnock.org.uk/wp-content/uploads/2023/09/St-Matthews-Rosary-scaled-e1712179705170.jpg
END:VEVENT
BEGIN:VEVENT
DTSTART;TZID=Europe/London:20241219T100000
DTEND;TZID=Europe/London:20241219T103000
DTSTAMP:20260426T050330
CREATED:20230910T154325Z
LAST-MODIFIED:20240403T212941Z
UID:10006729-1734602400-1734604200@rckilmarnock.org.uk
SUMMARY:Morning Mass (St Matthew's)
DESCRIPTION:
URL:https://rckilmarnock.org.uk/event/morning-mass-st-matthews/2024-12-19/
LOCATION:St Matthew’s RC Church\, St Matthew's RC Church\, Kilmarnock\, KA10 6NJ
CATEGORIES:Mass
ATTACH;FMTTYPE=image/jpeg:https://rckilmarnock.org.uk/wp-content/uploads/2023/09/St-Matthews-Mass-scaled-e1712179768239.jpg
END:VEVENT
BEGIN:VEVENT
DTSTART;TZID=Europe/London:20241219T160000
DTEND;TZID=Europe/London:20241219T180000
DTSTAMP:20260426T050330
CREATED:20230910T154517Z
LAST-MODIFIED:20240403T213038Z
UID:10007446-1734624000-1734631200@rckilmarnock.org.uk
SUMMARY:Foodbank (St Matthew's)
DESCRIPTION:
URL:https://rckilmarnock.org.uk/event/foodbank-st-matthews/2024-12-19/
LOCATION:St Matthew’s RC Church\, St Matthew's RC Church\, Kilmarnock\, KA10 6NJ
CATEGORIES:Activities
ATTACH;FMTTYPE=image/jpeg:https://rckilmarnock.org.uk/wp-content/uploads/2023/09/St-Matthews-Foodbank-scaled-e1712179825171.jpg
END:VEVENT
BEGIN:VEVENT
DTSTART;TZID=Europe/London:20241219T180000
DTEND;TZID=Europe/London:20241219T183000
DTSTAMP:20260426T050330
CREATED:20230910T134742Z
LAST-MODIFIED:20240814T165945Z
UID:10012584-1734631200-1734633000@rckilmarnock.org.uk
SUMMARY:Evening Mass (St Joseph's)
DESCRIPTION:
URL:https://rckilmarnock.org.uk/event/__trashed/2024-12-19/
LOCATION:St Joseph’s RC Church\, 15 Hill Street\, Kilmarnock\, KA31HB
CATEGORIES:Mass
ATTACH;FMTTYPE=image/jpeg:https://rckilmarnock.org.uk/wp-content/uploads/2023/09/StJosephs_Mass.jpg
END:VEVENT
BEGIN:VEVENT
DTSTART;TZID=Europe/London:20241219T183000
DTEND;TZID=Europe/London:20241219T193000
DTSTAMP:20260426T050330
CREATED:20240824T183611Z
LAST-MODIFIED:20240824T183611Z
UID:10012878-1734633000-1734636600@rckilmarnock.org.uk
SUMMARY:RCIA (St Joseph's)
DESCRIPTION:
URL:https://rckilmarnock.org.uk/event/rcia-st-josephs/2024-12-19/
LOCATION:St Joseph’s RC Church\, 15 Hill Street\, Kilmarnock\, KA31HB
CATEGORIES:Activities
ATTACH;FMTTYPE=image/jpeg:https://rckilmarnock.org.uk/wp-content/uploads/2024/04/IMG_7815-scaled.jpg
END:VEVENT
END:VCALENDAR