BEGIN:VCALENDAR
VERSION:2.0
PRODID:-//RC Kilmarnock - ECPv6.15.20//NONSGML v1.0//EN
CALSCALE:GREGORIAN
METHOD:PUBLISH
X-WR-CALNAME:RC Kilmarnock
X-ORIGINAL-URL:https://rckilmarnock.org.uk
X-WR-CALDESC:Events for RC Kilmarnock
REFRESH-INTERVAL;VALUE=DURATION:PT1H
X-Robots-Tag:noindex
X-PUBLISHED-TTL:PT1H
BEGIN:VTIMEZONE
TZID:Europe/London
BEGIN:DAYLIGHT
TZOFFSETFROM:+0000
TZOFFSETTO:+0100
TZNAME:BST
DTSTART:20260329T010000
END:DAYLIGHT
BEGIN:STANDARD
TZOFFSETFROM:+0100
TZOFFSETTO:+0000
TZNAME:GMT
DTSTART:20261025T010000
END:STANDARD
BEGIN:DAYLIGHT
TZOFFSETFROM:+0000
TZOFFSETTO:+0100
TZNAME:BST
DTSTART:20270328T010000
END:DAYLIGHT
BEGIN:STANDARD
TZOFFSETFROM:+0100
TZOFFSETTO:+0000
TZNAME:GMT
DTSTART:20271031T010000
END:STANDARD
BEGIN:DAYLIGHT
TZOFFSETFROM:+0000
TZOFFSETTO:+0100
TZNAME:BST
DTSTART:20280326T010000
END:DAYLIGHT
BEGIN:STANDARD
TZOFFSETFROM:+0100
TZOFFSETTO:+0000
TZNAME:GMT
DTSTART:20281029T010000
END:STANDARD
END:VTIMEZONE
BEGIN:VEVENT
DTSTART;TZID=Europe/London:20270805T160000
DTEND;TZID=Europe/London:20270805T180000
DTSTAMP:20260422T063442
CREATED:20230910T154517Z
LAST-MODIFIED:20240403T213038Z
UID:10007720-1817481600-1817488800@rckilmarnock.org.uk
SUMMARY:Foodbank (St Matthew's)
DESCRIPTION:
URL:https://rckilmarnock.org.uk/event/foodbank-st-matthews/2027-08-05/
LOCATION:St Matthew’s RC Church\, St Matthew's RC Church\, Kilmarnock\, KA10 6NJ
CATEGORIES:Activities
ATTACH;FMTTYPE=image/jpeg:https://rckilmarnock.org.uk/wp-content/uploads/2023/09/St-Matthews-Foodbank-scaled-e1712179825171.jpg
END:VEVENT
BEGIN:VEVENT
DTSTART;TZID=Europe/London:20270809T193000
DTEND;TZID=Europe/London:20270809T201500
DTSTAMP:20260422T063442
CREATED:20240406T225320Z
LAST-MODIFIED:20240406T225320Z
UID:10008573-1817839800-1817842500@rckilmarnock.org.uk
SUMMARY:Foodbank (OLMC)
DESCRIPTION:
URL:https://rckilmarnock.org.uk/event/foodbank-olmc-2/2027-08-09/
LOCATION:Our Lady of Mount Carmel\, Our Lady of Mount Carmel\, Kirkton Road\, Kilmarnock\, KA32DF
CATEGORIES:Activities
ATTACH;FMTTYPE=image/jpeg:https://rckilmarnock.org.uk/wp-content/uploads/2023/09/OLMC-Foodbank-Icon-scaled-e1712443982662.jpg
END:VEVENT
BEGIN:VEVENT
DTSTART;TZID=Europe/London:20270810T160000
DTEND;TZID=Europe/London:20270810T180000
DTSTAMP:20260422T063442
CREATED:20230910T154517Z
LAST-MODIFIED:20240403T213038Z
UID:10007721-1817913600-1817920800@rckilmarnock.org.uk
SUMMARY:Foodbank (St Matthew's)
DESCRIPTION:
URL:https://rckilmarnock.org.uk/event/foodbank-st-matthews/2027-08-10/
LOCATION:St Matthew’s RC Church\, St Matthew's RC Church\, Kilmarnock\, KA10 6NJ
CATEGORIES:Activities
ATTACH;FMTTYPE=image/jpeg:https://rckilmarnock.org.uk/wp-content/uploads/2023/09/St-Matthews-Foodbank-scaled-e1712179825171.jpg
END:VEVENT
BEGIN:VEVENT
DTSTART;TZID=Europe/London:20270811T103000
DTEND;TZID=Europe/London:20270811T113000
DTSTAMP:20260422T063442
CREATED:20240406T225544Z
LAST-MODIFIED:20240406T225544Z
UID:10003862-1817980200-1817983800@rckilmarnock.org.uk
SUMMARY:Foodbank (St Joseph's)
DESCRIPTION:
URL:https://rckilmarnock.org.uk/event/foodbank-st-josephs-2-2/2027-08-11/
LOCATION:St Joseph’s RC Church\, 15 Hill Street\, Kilmarnock\, KA31HB
CATEGORIES:Activities
ATTACH;FMTTYPE=image/jpeg:https://rckilmarnock.org.uk/wp-content/uploads/2023/09/St-Josephs-Foodbank-Icon-scaled-e1712444130185.jpg
END:VEVENT
BEGIN:VEVENT
DTSTART;TZID=Europe/London:20270812T160000
DTEND;TZID=Europe/London:20270812T180000
DTSTAMP:20260422T063442
CREATED:20230910T154517Z
LAST-MODIFIED:20240403T213038Z
UID:10007722-1818086400-1818093600@rckilmarnock.org.uk
SUMMARY:Foodbank (St Matthew's)
DESCRIPTION:
URL:https://rckilmarnock.org.uk/event/foodbank-st-matthews/2027-08-12/
LOCATION:St Matthew’s RC Church\, St Matthew's RC Church\, Kilmarnock\, KA10 6NJ
CATEGORIES:Activities
ATTACH;FMTTYPE=image/jpeg:https://rckilmarnock.org.uk/wp-content/uploads/2023/09/St-Matthews-Foodbank-scaled-e1712179825171.jpg
END:VEVENT
BEGIN:VEVENT
DTSTART;TZID=Europe/London:20270816T193000
DTEND;TZID=Europe/London:20270816T201500
DTSTAMP:20260422T063442
CREATED:20240406T225320Z
LAST-MODIFIED:20240406T225320Z
UID:10008574-1818444600-1818447300@rckilmarnock.org.uk
SUMMARY:Foodbank (OLMC)
DESCRIPTION:
URL:https://rckilmarnock.org.uk/event/foodbank-olmc-2/2027-08-16/
LOCATION:Our Lady of Mount Carmel\, Our Lady of Mount Carmel\, Kirkton Road\, Kilmarnock\, KA32DF
CATEGORIES:Activities
ATTACH;FMTTYPE=image/jpeg:https://rckilmarnock.org.uk/wp-content/uploads/2023/09/OLMC-Foodbank-Icon-scaled-e1712443982662.jpg
END:VEVENT
BEGIN:VEVENT
DTSTART;TZID=Europe/London:20270817T160000
DTEND;TZID=Europe/London:20270817T180000
DTSTAMP:20260422T063442
CREATED:20230910T154517Z
LAST-MODIFIED:20240403T213038Z
UID:10007723-1818518400-1818525600@rckilmarnock.org.uk
SUMMARY:Foodbank (St Matthew's)
DESCRIPTION:
URL:https://rckilmarnock.org.uk/event/foodbank-st-matthews/2027-08-17/
LOCATION:St Matthew’s RC Church\, St Matthew's RC Church\, Kilmarnock\, KA10 6NJ
CATEGORIES:Activities
ATTACH;FMTTYPE=image/jpeg:https://rckilmarnock.org.uk/wp-content/uploads/2023/09/St-Matthews-Foodbank-scaled-e1712179825171.jpg
END:VEVENT
BEGIN:VEVENT
DTSTART;TZID=Europe/London:20270818T103000
DTEND;TZID=Europe/London:20270818T113000
DTSTAMP:20260422T063442
CREATED:20240406T225544Z
LAST-MODIFIED:20240406T225544Z
UID:10003863-1818585000-1818588600@rckilmarnock.org.uk
SUMMARY:Foodbank (St Joseph's)
DESCRIPTION:
URL:https://rckilmarnock.org.uk/event/foodbank-st-josephs-2-2/2027-08-18/
LOCATION:St Joseph’s RC Church\, 15 Hill Street\, Kilmarnock\, KA31HB
CATEGORIES:Activities
ATTACH;FMTTYPE=image/jpeg:https://rckilmarnock.org.uk/wp-content/uploads/2023/09/St-Josephs-Foodbank-Icon-scaled-e1712444130185.jpg
END:VEVENT
BEGIN:VEVENT
DTSTART;TZID=Europe/London:20270819T160000
DTEND;TZID=Europe/London:20270819T180000
DTSTAMP:20260422T063442
CREATED:20230910T154517Z
LAST-MODIFIED:20240403T213038Z
UID:10007724-1818691200-1818698400@rckilmarnock.org.uk
SUMMARY:Foodbank (St Matthew's)
DESCRIPTION:
URL:https://rckilmarnock.org.uk/event/foodbank-st-matthews/2027-08-19/
LOCATION:St Matthew’s RC Church\, St Matthew's RC Church\, Kilmarnock\, KA10 6NJ
CATEGORIES:Activities
ATTACH;FMTTYPE=image/jpeg:https://rckilmarnock.org.uk/wp-content/uploads/2023/09/St-Matthews-Foodbank-scaled-e1712179825171.jpg
END:VEVENT
BEGIN:VEVENT
DTSTART;TZID=Europe/London:20270823T193000
DTEND;TZID=Europe/London:20270823T201500
DTSTAMP:20260422T063442
CREATED:20240406T225320Z
LAST-MODIFIED:20240406T225320Z
UID:10008575-1819049400-1819052100@rckilmarnock.org.uk
SUMMARY:Foodbank (OLMC)
DESCRIPTION:
URL:https://rckilmarnock.org.uk/event/foodbank-olmc-2/2027-08-23/
LOCATION:Our Lady of Mount Carmel\, Our Lady of Mount Carmel\, Kirkton Road\, Kilmarnock\, KA32DF
CATEGORIES:Activities
ATTACH;FMTTYPE=image/jpeg:https://rckilmarnock.org.uk/wp-content/uploads/2023/09/OLMC-Foodbank-Icon-scaled-e1712443982662.jpg
END:VEVENT
BEGIN:VEVENT
DTSTART;TZID=Europe/London:20270824T160000
DTEND;TZID=Europe/London:20270824T180000
DTSTAMP:20260422T063442
CREATED:20230910T154517Z
LAST-MODIFIED:20240403T213038Z
UID:10007725-1819123200-1819130400@rckilmarnock.org.uk
SUMMARY:Foodbank (St Matthew's)
DESCRIPTION:
URL:https://rckilmarnock.org.uk/event/foodbank-st-matthews/2027-08-24/
LOCATION:St Matthew’s RC Church\, St Matthew's RC Church\, Kilmarnock\, KA10 6NJ
CATEGORIES:Activities
ATTACH;FMTTYPE=image/jpeg:https://rckilmarnock.org.uk/wp-content/uploads/2023/09/St-Matthews-Foodbank-scaled-e1712179825171.jpg
END:VEVENT
BEGIN:VEVENT
DTSTART;TZID=Europe/London:20270825T103000
DTEND;TZID=Europe/London:20270825T113000
DTSTAMP:20260422T063442
CREATED:20240406T225544Z
LAST-MODIFIED:20240406T225544Z
UID:10003864-1819189800-1819193400@rckilmarnock.org.uk
SUMMARY:Foodbank (St Joseph's)
DESCRIPTION:
URL:https://rckilmarnock.org.uk/event/foodbank-st-josephs-2-2/2027-08-25/
LOCATION:St Joseph’s RC Church\, 15 Hill Street\, Kilmarnock\, KA31HB
CATEGORIES:Activities
ATTACH;FMTTYPE=image/jpeg:https://rckilmarnock.org.uk/wp-content/uploads/2023/09/St-Josephs-Foodbank-Icon-scaled-e1712444130185.jpg
END:VEVENT
BEGIN:VEVENT
DTSTART;TZID=Europe/London:20270826T160000
DTEND;TZID=Europe/London:20270826T180000
DTSTAMP:20260422T063442
CREATED:20230910T154517Z
LAST-MODIFIED:20240403T213038Z
UID:10007726-1819296000-1819303200@rckilmarnock.org.uk
SUMMARY:Foodbank (St Matthew's)
DESCRIPTION:
URL:https://rckilmarnock.org.uk/event/foodbank-st-matthews/2027-08-26/
LOCATION:St Matthew’s RC Church\, St Matthew's RC Church\, Kilmarnock\, KA10 6NJ
CATEGORIES:Activities
ATTACH;FMTTYPE=image/jpeg:https://rckilmarnock.org.uk/wp-content/uploads/2023/09/St-Matthews-Foodbank-scaled-e1712179825171.jpg
END:VEVENT
BEGIN:VEVENT
DTSTART;TZID=Europe/London:20270830T193000
DTEND;TZID=Europe/London:20270830T201500
DTSTAMP:20260422T063442
CREATED:20240406T225320Z
LAST-MODIFIED:20240406T225320Z
UID:10008576-1819654200-1819656900@rckilmarnock.org.uk
SUMMARY:Foodbank (OLMC)
DESCRIPTION:
URL:https://rckilmarnock.org.uk/event/foodbank-olmc-2/2027-08-30/
LOCATION:Our Lady of Mount Carmel\, Our Lady of Mount Carmel\, Kirkton Road\, Kilmarnock\, KA32DF
CATEGORIES:Activities
ATTACH;FMTTYPE=image/jpeg:https://rckilmarnock.org.uk/wp-content/uploads/2023/09/OLMC-Foodbank-Icon-scaled-e1712443982662.jpg
END:VEVENT
BEGIN:VEVENT
DTSTART;TZID=Europe/London:20270831T160000
DTEND;TZID=Europe/London:20270831T180000
DTSTAMP:20260422T063442
CREATED:20230910T154517Z
LAST-MODIFIED:20240403T213038Z
UID:10007727-1819728000-1819735200@rckilmarnock.org.uk
SUMMARY:Foodbank (St Matthew's)
DESCRIPTION:
URL:https://rckilmarnock.org.uk/event/foodbank-st-matthews/2027-08-31/
LOCATION:St Matthew’s RC Church\, St Matthew's RC Church\, Kilmarnock\, KA10 6NJ
CATEGORIES:Activities
ATTACH;FMTTYPE=image/jpeg:https://rckilmarnock.org.uk/wp-content/uploads/2023/09/St-Matthews-Foodbank-scaled-e1712179825171.jpg
END:VEVENT
BEGIN:VEVENT
DTSTART;TZID=Europe/London:20270901T103000
DTEND;TZID=Europe/London:20270901T113000
DTSTAMP:20260422T063442
CREATED:20240406T225544Z
LAST-MODIFIED:20240406T225544Z
UID:10003865-1819794600-1819798200@rckilmarnock.org.uk
SUMMARY:Foodbank (St Joseph's)
DESCRIPTION:
URL:https://rckilmarnock.org.uk/event/foodbank-st-josephs-2-2/2027-09-01/
LOCATION:St Joseph’s RC Church\, 15 Hill Street\, Kilmarnock\, KA31HB
CATEGORIES:Activities
ATTACH;FMTTYPE=image/jpeg:https://rckilmarnock.org.uk/wp-content/uploads/2023/09/St-Josephs-Foodbank-Icon-scaled-e1712444130185.jpg
END:VEVENT
BEGIN:VEVENT
DTSTART;TZID=Europe/London:20270902T160000
DTEND;TZID=Europe/London:20270902T180000
DTSTAMP:20260422T063442
CREATED:20230910T154517Z
LAST-MODIFIED:20240403T213038Z
UID:10007728-1819900800-1819908000@rckilmarnock.org.uk
SUMMARY:Foodbank (St Matthew's)
DESCRIPTION:
URL:https://rckilmarnock.org.uk/event/foodbank-st-matthews/2027-09-02/
LOCATION:St Matthew’s RC Church\, St Matthew's RC Church\, Kilmarnock\, KA10 6NJ
CATEGORIES:Activities
ATTACH;FMTTYPE=image/jpeg:https://rckilmarnock.org.uk/wp-content/uploads/2023/09/St-Matthews-Foodbank-scaled-e1712179825171.jpg
END:VEVENT
BEGIN:VEVENT
DTSTART;TZID=Europe/London:20270906T193000
DTEND;TZID=Europe/London:20270906T201500
DTSTAMP:20260422T063442
CREATED:20240406T225320Z
LAST-MODIFIED:20240406T225320Z
UID:10008577-1820259000-1820261700@rckilmarnock.org.uk
SUMMARY:Foodbank (OLMC)
DESCRIPTION:
URL:https://rckilmarnock.org.uk/event/foodbank-olmc-2/2027-09-06/
LOCATION:Our Lady of Mount Carmel\, Our Lady of Mount Carmel\, Kirkton Road\, Kilmarnock\, KA32DF
CATEGORIES:Activities
ATTACH;FMTTYPE=image/jpeg:https://rckilmarnock.org.uk/wp-content/uploads/2023/09/OLMC-Foodbank-Icon-scaled-e1712443982662.jpg
END:VEVENT
BEGIN:VEVENT
DTSTART;TZID=Europe/London:20270907T160000
DTEND;TZID=Europe/London:20270907T180000
DTSTAMP:20260422T063442
CREATED:20230910T154517Z
LAST-MODIFIED:20240403T213038Z
UID:10007729-1820332800-1820340000@rckilmarnock.org.uk
SUMMARY:Foodbank (St Matthew's)
DESCRIPTION:
URL:https://rckilmarnock.org.uk/event/foodbank-st-matthews/2027-09-07/
LOCATION:St Matthew’s RC Church\, St Matthew's RC Church\, Kilmarnock\, KA10 6NJ
CATEGORIES:Activities
ATTACH;FMTTYPE=image/jpeg:https://rckilmarnock.org.uk/wp-content/uploads/2023/09/St-Matthews-Foodbank-scaled-e1712179825171.jpg
END:VEVENT
BEGIN:VEVENT
DTSTART;TZID=Europe/London:20270908T103000
DTEND;TZID=Europe/London:20270908T113000
DTSTAMP:20260422T063442
CREATED:20240406T225544Z
LAST-MODIFIED:20240406T225544Z
UID:10003866-1820399400-1820403000@rckilmarnock.org.uk
SUMMARY:Foodbank (St Joseph's)
DESCRIPTION:
URL:https://rckilmarnock.org.uk/event/foodbank-st-josephs-2-2/2027-09-08/
LOCATION:St Joseph’s RC Church\, 15 Hill Street\, Kilmarnock\, KA31HB
CATEGORIES:Activities
ATTACH;FMTTYPE=image/jpeg:https://rckilmarnock.org.uk/wp-content/uploads/2023/09/St-Josephs-Foodbank-Icon-scaled-e1712444130185.jpg
END:VEVENT
BEGIN:VEVENT
DTSTART;TZID=Europe/London:20270909T160000
DTEND;TZID=Europe/London:20270909T180000
DTSTAMP:20260422T063442
CREATED:20230910T154517Z
LAST-MODIFIED:20240403T213038Z
UID:10007730-1820505600-1820512800@rckilmarnock.org.uk
SUMMARY:Foodbank (St Matthew's)
DESCRIPTION:
URL:https://rckilmarnock.org.uk/event/foodbank-st-matthews/2027-09-09/
LOCATION:St Matthew’s RC Church\, St Matthew's RC Church\, Kilmarnock\, KA10 6NJ
CATEGORIES:Activities
ATTACH;FMTTYPE=image/jpeg:https://rckilmarnock.org.uk/wp-content/uploads/2023/09/St-Matthews-Foodbank-scaled-e1712179825171.jpg
END:VEVENT
BEGIN:VEVENT
DTSTART;TZID=Europe/London:20270913T193000
DTEND;TZID=Europe/London:20270913T201500
DTSTAMP:20260422T063442
CREATED:20240406T225320Z
LAST-MODIFIED:20240406T225320Z
UID:10008578-1820863800-1820866500@rckilmarnock.org.uk
SUMMARY:Foodbank (OLMC)
DESCRIPTION:
URL:https://rckilmarnock.org.uk/event/foodbank-olmc-2/2027-09-13/
LOCATION:Our Lady of Mount Carmel\, Our Lady of Mount Carmel\, Kirkton Road\, Kilmarnock\, KA32DF
CATEGORIES:Activities
ATTACH;FMTTYPE=image/jpeg:https://rckilmarnock.org.uk/wp-content/uploads/2023/09/OLMC-Foodbank-Icon-scaled-e1712443982662.jpg
END:VEVENT
BEGIN:VEVENT
DTSTART;TZID=Europe/London:20270914T160000
DTEND;TZID=Europe/London:20270914T180000
DTSTAMP:20260422T063442
CREATED:20230910T154517Z
LAST-MODIFIED:20240403T213038Z
UID:10007731-1820937600-1820944800@rckilmarnock.org.uk
SUMMARY:Foodbank (St Matthew's)
DESCRIPTION:
URL:https://rckilmarnock.org.uk/event/foodbank-st-matthews/2027-09-14/
LOCATION:St Matthew’s RC Church\, St Matthew's RC Church\, Kilmarnock\, KA10 6NJ
CATEGORIES:Activities
ATTACH;FMTTYPE=image/jpeg:https://rckilmarnock.org.uk/wp-content/uploads/2023/09/St-Matthews-Foodbank-scaled-e1712179825171.jpg
END:VEVENT
BEGIN:VEVENT
DTSTART;TZID=Europe/London:20270915T103000
DTEND;TZID=Europe/London:20270915T113000
DTSTAMP:20260422T063442
CREATED:20240406T225544Z
LAST-MODIFIED:20240406T225544Z
UID:10003867-1821004200-1821007800@rckilmarnock.org.uk
SUMMARY:Foodbank (St Joseph's)
DESCRIPTION:
URL:https://rckilmarnock.org.uk/event/foodbank-st-josephs-2-2/2027-09-15/
LOCATION:St Joseph’s RC Church\, 15 Hill Street\, Kilmarnock\, KA31HB
CATEGORIES:Activities
ATTACH;FMTTYPE=image/jpeg:https://rckilmarnock.org.uk/wp-content/uploads/2023/09/St-Josephs-Foodbank-Icon-scaled-e1712444130185.jpg
END:VEVENT
BEGIN:VEVENT
DTSTART;TZID=Europe/London:20270916T160000
DTEND;TZID=Europe/London:20270916T180000
DTSTAMP:20260422T063442
CREATED:20230910T154517Z
LAST-MODIFIED:20240403T213038Z
UID:10007732-1821110400-1821117600@rckilmarnock.org.uk
SUMMARY:Foodbank (St Matthew's)
DESCRIPTION:
URL:https://rckilmarnock.org.uk/event/foodbank-st-matthews/2027-09-16/
LOCATION:St Matthew’s RC Church\, St Matthew's RC Church\, Kilmarnock\, KA10 6NJ
CATEGORIES:Activities
ATTACH;FMTTYPE=image/jpeg:https://rckilmarnock.org.uk/wp-content/uploads/2023/09/St-Matthews-Foodbank-scaled-e1712179825171.jpg
END:VEVENT
BEGIN:VEVENT
DTSTART;TZID=Europe/London:20270920T193000
DTEND;TZID=Europe/London:20270920T201500
DTSTAMP:20260422T063442
CREATED:20240406T225320Z
LAST-MODIFIED:20240406T225320Z
UID:10008579-1821468600-1821471300@rckilmarnock.org.uk
SUMMARY:Foodbank (OLMC)
DESCRIPTION:
URL:https://rckilmarnock.org.uk/event/foodbank-olmc-2/2027-09-20/
LOCATION:Our Lady of Mount Carmel\, Our Lady of Mount Carmel\, Kirkton Road\, Kilmarnock\, KA32DF
CATEGORIES:Activities
ATTACH;FMTTYPE=image/jpeg:https://rckilmarnock.org.uk/wp-content/uploads/2023/09/OLMC-Foodbank-Icon-scaled-e1712443982662.jpg
END:VEVENT
BEGIN:VEVENT
DTSTART;TZID=Europe/London:20270921T160000
DTEND;TZID=Europe/London:20270921T180000
DTSTAMP:20260422T063442
CREATED:20230910T154517Z
LAST-MODIFIED:20240403T213038Z
UID:10007733-1821542400-1821549600@rckilmarnock.org.uk
SUMMARY:Foodbank (St Matthew's)
DESCRIPTION:
URL:https://rckilmarnock.org.uk/event/foodbank-st-matthews/2027-09-21/
LOCATION:St Matthew’s RC Church\, St Matthew's RC Church\, Kilmarnock\, KA10 6NJ
CATEGORIES:Activities
ATTACH;FMTTYPE=image/jpeg:https://rckilmarnock.org.uk/wp-content/uploads/2023/09/St-Matthews-Foodbank-scaled-e1712179825171.jpg
END:VEVENT
BEGIN:VEVENT
DTSTART;TZID=Europe/London:20270922T103000
DTEND;TZID=Europe/London:20270922T113000
DTSTAMP:20260422T063442
CREATED:20240406T225544Z
LAST-MODIFIED:20240406T225544Z
UID:10003868-1821609000-1821612600@rckilmarnock.org.uk
SUMMARY:Foodbank (St Joseph's)
DESCRIPTION:
URL:https://rckilmarnock.org.uk/event/foodbank-st-josephs-2-2/2027-09-22/
LOCATION:St Joseph’s RC Church\, 15 Hill Street\, Kilmarnock\, KA31HB
CATEGORIES:Activities
ATTACH;FMTTYPE=image/jpeg:https://rckilmarnock.org.uk/wp-content/uploads/2023/09/St-Josephs-Foodbank-Icon-scaled-e1712444130185.jpg
END:VEVENT
BEGIN:VEVENT
DTSTART;TZID=Europe/London:20270923T160000
DTEND;TZID=Europe/London:20270923T180000
DTSTAMP:20260422T063442
CREATED:20230910T154517Z
LAST-MODIFIED:20240403T213038Z
UID:10007734-1821715200-1821722400@rckilmarnock.org.uk
SUMMARY:Foodbank (St Matthew's)
DESCRIPTION:
URL:https://rckilmarnock.org.uk/event/foodbank-st-matthews/2027-09-23/
LOCATION:St Matthew’s RC Church\, St Matthew's RC Church\, Kilmarnock\, KA10 6NJ
CATEGORIES:Activities
ATTACH;FMTTYPE=image/jpeg:https://rckilmarnock.org.uk/wp-content/uploads/2023/09/St-Matthews-Foodbank-scaled-e1712179825171.jpg
END:VEVENT
BEGIN:VEVENT
DTSTART;TZID=Europe/London:20270927T193000
DTEND;TZID=Europe/London:20270927T201500
DTSTAMP:20260422T063442
CREATED:20240406T225320Z
LAST-MODIFIED:20240406T225320Z
UID:10008580-1822073400-1822076100@rckilmarnock.org.uk
SUMMARY:Foodbank (OLMC)
DESCRIPTION:
URL:https://rckilmarnock.org.uk/event/foodbank-olmc-2/2027-09-27/
LOCATION:Our Lady of Mount Carmel\, Our Lady of Mount Carmel\, Kirkton Road\, Kilmarnock\, KA32DF
CATEGORIES:Activities
ATTACH;FMTTYPE=image/jpeg:https://rckilmarnock.org.uk/wp-content/uploads/2023/09/OLMC-Foodbank-Icon-scaled-e1712443982662.jpg
END:VEVENT
END:VCALENDAR