BEGIN:VCALENDAR
VERSION:2.0
PRODID:-//RC Kilmarnock - ECPv6.15.20//NONSGML v1.0//EN
CALSCALE:GREGORIAN
METHOD:PUBLISH
X-WR-CALNAME:RC Kilmarnock
X-ORIGINAL-URL:https://rckilmarnock.org.uk
X-WR-CALDESC:Events for RC Kilmarnock
REFRESH-INTERVAL;VALUE=DURATION:PT1H
X-Robots-Tag:noindex
X-PUBLISHED-TTL:PT1H
BEGIN:VTIMEZONE
TZID:Europe/London
BEGIN:DAYLIGHT
TZOFFSETFROM:+0000
TZOFFSETTO:+0100
TZNAME:BST
DTSTART:20240331T010000
END:DAYLIGHT
BEGIN:STANDARD
TZOFFSETFROM:+0100
TZOFFSETTO:+0000
TZNAME:GMT
DTSTART:20241027T010000
END:STANDARD
BEGIN:DAYLIGHT
TZOFFSETFROM:+0000
TZOFFSETTO:+0100
TZNAME:BST
DTSTART:20250330T010000
END:DAYLIGHT
BEGIN:STANDARD
TZOFFSETFROM:+0100
TZOFFSETTO:+0000
TZNAME:GMT
DTSTART:20251026T010000
END:STANDARD
BEGIN:DAYLIGHT
TZOFFSETFROM:+0000
TZOFFSETTO:+0100
TZNAME:BST
DTSTART:20260329T010000
END:DAYLIGHT
BEGIN:STANDARD
TZOFFSETFROM:+0100
TZOFFSETTO:+0000
TZNAME:GMT
DTSTART:20261025T010000
END:STANDARD
END:VTIMEZONE
BEGIN:VTIMEZONE
TZID:UTC
BEGIN:STANDARD
TZOFFSETFROM:+0000
TZOFFSETTO:+0000
TZNAME:UTC
DTSTART:20240101T000000
END:STANDARD
END:VTIMEZONE
BEGIN:VEVENT
DTSTART;TZID=Europe/London:20250418T190000
DTEND;TZID=Europe/London:20250418T193000
DTSTAMP:20260425T045707
CREATED:20250418T101659Z
LAST-MODIFIED:20250418T101659Z
UID:10013444-1745002800-1745004600@rckilmarnock.org.uk
SUMMARY:Stations of the Cross (St Joseph's)
DESCRIPTION:
URL:https://rckilmarnock.org.uk/event/stations-of-the-cross-st-josephs-2/
LOCATION:St Joseph’s RC Church\, 15 Hill Street\, Kilmarnock\, KA31HB
CATEGORIES:Prayer & Confession
ATTACH;FMTTYPE=image/jpeg:https://rckilmarnock.org.uk/wp-content/uploads/2025/04/Passion-1-scaled.jpg
END:VEVENT
BEGIN:VEVENT
DTSTART;TZID=Europe/London:20250418T180000
DTEND;TZID=Europe/London:20250418T190000
DTSTAMP:20260425T045707
CREATED:20250418T101613Z
LAST-MODIFIED:20250418T101835Z
UID:10013443-1744999200-1745002800@rckilmarnock.org.uk
SUMMARY:Confession (St Joseph's)
DESCRIPTION:
URL:https://rckilmarnock.org.uk/event/confession-st-josephs-5/
LOCATION:St Joseph’s RC Church\, 15 Hill Street\, Kilmarnock\, KA31HB
CATEGORIES:Prayer & Confession
ATTACH;FMTTYPE=image/jpeg:https://rckilmarnock.org.uk/wp-content/uploads/2023/09/StJosephs_Confession.jpg
END:VEVENT
BEGIN:VEVENT
DTSTART;TZID=UTC:20250418T150000
DTEND;TZID=UTC:20250418T163000
DTSTAMP:20260425T045707
CREATED:20250418T093509Z
LAST-MODIFIED:20250418T102200Z
UID:10000598-1744988400-1744993800@rckilmarnock.org.uk
SUMMARY:The Commemoration of the Passion (St Joseph’s)
DESCRIPTION:
URL:https://rckilmarnock.org.uk/event/morning-mass-st-josephs-18/
LOCATION:St Joseph’s RC Church\, 15 Hill Street\, Kilmarnock\, KA31HB
CATEGORIES:Mass
ATTACH;FMTTYPE=image/jpeg:https://rckilmarnock.org.uk/wp-content/uploads/2025/04/IMG_20240329_164140-scaled.jpg
END:VEVENT
BEGIN:VEVENT
DTSTART;TZID=Europe/London:20250418T120000
DTEND;TZID=Europe/London:20250418T123000
DTSTAMP:20260425T045707
CREATED:20250418T095115Z
LAST-MODIFIED:20250418T101031Z
UID:10013417-1744977600-1744979400@rckilmarnock.org.uk
SUMMARY:Stations of the Cross for children (St Joseph's)
DESCRIPTION:
URL:https://rckilmarnock.org.uk/event/stations-of-the-cross-for-children-st-josephs/
LOCATION:St Joseph’s RC Church\, 15 Hill Street\, Kilmarnock\, KA31HB
CATEGORIES:Prayer & Confession
ATTACH;FMTTYPE=image/jpeg:https://rckilmarnock.org.uk/wp-content/uploads/2025/04/Passion-scaled.jpg
END:VEVENT
BEGIN:VEVENT
DTSTART;TZID=Europe/London:20250418T100000
DTEND;TZID=Europe/London:20250418T103000
DTSTAMP:20260425T045707
CREATED:20230910T152950Z
LAST-MODIFIED:20230919T215336Z
UID:10004086-1744970400-1744972200@rckilmarnock.org.uk
SUMMARY:Morning Mass (OLMC)
DESCRIPTION:
URL:https://rckilmarnock.org.uk/event/morning-mass-olmc/2025-04-18/
LOCATION:Our Lady of Mount Carmel\, Our Lady of Mount Carmel\, Kirkton Road\, Kilmarnock\, KA32DF
CATEGORIES:Mass
ATTACH;FMTTYPE=image/jpeg:https://rckilmarnock.org.uk/wp-content/uploads/2023/09/IMG_20230919_103638-scaled.webp
END:VEVENT
BEGIN:VEVENT
DTSTART;TZID=Europe/London:20250418T093000
DTEND;TZID=Europe/London:20250418T100000
DTSTAMP:20260425T045707
CREATED:20230910T153551Z
LAST-MODIFIED:20230919T215027Z
UID:10005569-1744968600-1744970400@rckilmarnock.org.uk
SUMMARY:Rosary (OLMC)
DESCRIPTION:
URL:https://rckilmarnock.org.uk/event/rosary-olmc-2/2025-04-18/
LOCATION:Our Lady of Mount Carmel\, Our Lady of Mount Carmel\, Kirkton Road\, Kilmarnock\, KA32DF
CATEGORIES:Prayer & Confession
ATTACH;FMTTYPE=image/jpeg:https://rckilmarnock.org.uk/wp-content/uploads/2023/09/IMG_20230919_104711-scaled.webp
END:VEVENT
BEGIN:VEVENT
DTSTART;TZID=Europe/London:20250417T190000
DTEND;TZID=Europe/London:20250417T210000
DTSTAMP:20260425T045707
CREATED:20250418T093440Z
LAST-MODIFIED:20250418T093441Z
UID:10012601-1744916400-1744923600@rckilmarnock.org.uk
SUMMARY:The Mass of the Lord's Supper (St Joseph's)
DESCRIPTION:
URL:https://rckilmarnock.org.uk/event/__trashed-6/
LOCATION:St Joseph’s RC Church\, 15 Hill Street\, Kilmarnock\, KA31HB
CATEGORIES:Mass
ATTACH;FMTTYPE=image/jpeg:https://rckilmarnock.org.uk/wp-content/uploads/2023/09/StJosephs_Mass.jpg
END:VEVENT
BEGIN:VEVENT
DTSTART;TZID=Europe/London:20250417T160000
DTEND;TZID=Europe/London:20250417T180000
DTSTAMP:20260425T045707
CREATED:20230910T154517Z
LAST-MODIFIED:20240403T213038Z
UID:10007480-1744905600-1744912800@rckilmarnock.org.uk
SUMMARY:Foodbank (St Matthew's)
DESCRIPTION:
URL:https://rckilmarnock.org.uk/event/foodbank-st-matthews/2025-04-17/
LOCATION:St Matthew’s RC Church\, St Matthew's RC Church\, Kilmarnock\, KA10 6NJ
CATEGORIES:Activities
ATTACH;FMTTYPE=image/jpeg:https://rckilmarnock.org.uk/wp-content/uploads/2023/09/St-Matthews-Foodbank-scaled-e1712179825171.jpg
END:VEVENT
BEGIN:VEVENT
DTSTART;TZID=Europe/London:20250417T100000
DTEND;TZID=Europe/London:20250417T103000
DTSTAMP:20260425T045707
CREATED:20230910T154325Z
LAST-MODIFIED:20240403T212941Z
UID:10006780-1744884000-1744885800@rckilmarnock.org.uk
SUMMARY:Morning Mass (St Matthew's)
DESCRIPTION:
URL:https://rckilmarnock.org.uk/event/morning-mass-st-matthews/2025-04-17/
LOCATION:St Matthew’s RC Church\, St Matthew's RC Church\, Kilmarnock\, KA10 6NJ
CATEGORIES:Mass
ATTACH;FMTTYPE=image/jpeg:https://rckilmarnock.org.uk/wp-content/uploads/2023/09/St-Matthews-Mass-scaled-e1712179768239.jpg
END:VEVENT
BEGIN:VEVENT
DTSTART;TZID=Europe/London:20250417T093000
DTEND;TZID=Europe/London:20250417T100000
DTSTAMP:20260425T045707
CREATED:20231111T221534Z
LAST-MODIFIED:20240403T223634Z
UID:10008705-1744882200-1744884000@rckilmarnock.org.uk
SUMMARY:Rosary (St Matthew's)
DESCRIPTION:
URL:https://rckilmarnock.org.uk/event/rosary-st-matthews-2/2025-04-17/
LOCATION:St Matthew’s RC Church\, St Matthew's RC Church\, Kilmarnock\, KA10 6NJ
CATEGORIES:Prayer & Confession
ATTACH;FMTTYPE=image/jpeg:https://rckilmarnock.org.uk/wp-content/uploads/2023/09/St-Matthews-Rosary-scaled-e1712179705170.jpg
END:VEVENT
BEGIN:VEVENT
DTSTART;TZID=Europe/London:20250416T103000
DTEND;TZID=Europe/London:20250416T113000
DTSTAMP:20260425T045707
CREATED:20240406T225544Z
LAST-MODIFIED:20240406T225544Z
UID:10003741-1744799400-1744803000@rckilmarnock.org.uk
SUMMARY:Foodbank (St Joseph's)
DESCRIPTION:
URL:https://rckilmarnock.org.uk/event/foodbank-st-josephs-2-2/2025-04-16/
LOCATION:St Joseph’s RC Church\, 15 Hill Street\, Kilmarnock\, KA31HB
CATEGORIES:Activities
ATTACH;FMTTYPE=image/jpeg:https://rckilmarnock.org.uk/wp-content/uploads/2023/09/St-Josephs-Foodbank-Icon-scaled-e1712444130185.jpg
END:VEVENT
BEGIN:VEVENT
DTSTART;TZID=Europe/London:20250416T103000
DTEND;TZID=Europe/London:20250416T110000
DTSTAMP:20260425T045707
CREATED:20230917T235910Z
LAST-MODIFIED:20230917T235910Z
UID:10008180-1744799400-1744801200@rckilmarnock.org.uk
SUMMARY:Rosary (St Joseph's)
DESCRIPTION:
URL:https://rckilmarnock.org.uk/event/rosary-st-josephs-2/2025-04-16/
LOCATION:St Joseph’s RC Church\, 15 Hill Street\, Kilmarnock\, KA31HB
CATEGORIES:Prayer & Confession
ATTACH;FMTTYPE=image/jpeg:https://rckilmarnock.org.uk/wp-content/uploads/2023/09/StJosephs_Rosary.jpg
END:VEVENT
BEGIN:VEVENT
DTSTART;TZID=Europe/London:20250416T100000
DTEND;TZID=Europe/London:20250416T103000
DTSTAMP:20260425T045707
CREATED:20230910T154325Z
LAST-MODIFIED:20240403T212941Z
UID:10006779-1744797600-1744799400@rckilmarnock.org.uk
SUMMARY:Morning Mass (St Matthew's)
DESCRIPTION:
URL:https://rckilmarnock.org.uk/event/morning-mass-st-matthews/2025-04-16/
LOCATION:St Matthew’s RC Church\, St Matthew's RC Church\, Kilmarnock\, KA10 6NJ
CATEGORIES:Mass
ATTACH;FMTTYPE=image/jpeg:https://rckilmarnock.org.uk/wp-content/uploads/2023/09/St-Matthews-Mass-scaled-e1712179768239.jpg
END:VEVENT
BEGIN:VEVENT
DTSTART;TZID=UTC:20250416T100000
DTEND;TZID=UTC:20250416T103000
DTSTAMP:20260425T045707
CREATED:20230910T134715Z
LAST-MODIFIED:20230911T103208Z
UID:10000597-1744797600-1744799400@rckilmarnock.org.uk
SUMMARY:Morning Mass (St Joseph’s)
DESCRIPTION:
URL:https://rckilmarnock.org.uk/event/morning-mass-st-josephs/2025-04-16/
LOCATION:St Joseph’s RC Church\, 15 Hill Street\, Kilmarnock\, KA31HB
CATEGORIES:Mass
ATTACH;FMTTYPE=image/jpeg:https://rckilmarnock.org.uk/wp-content/uploads/2023/09/StJosephs_Mass.jpg
END:VEVENT
BEGIN:VEVENT
DTSTART;TZID=Europe/London:20250415T160000
DTEND;TZID=Europe/London:20250415T180000
DTSTAMP:20260425T045707
CREATED:20230910T154517Z
LAST-MODIFIED:20240403T213038Z
UID:10007479-1744732800-1744740000@rckilmarnock.org.uk
SUMMARY:Foodbank (St Matthew's)
DESCRIPTION:
URL:https://rckilmarnock.org.uk/event/foodbank-st-matthews/2025-04-15/
LOCATION:St Matthew’s RC Church\, St Matthew's RC Church\, Kilmarnock\, KA10 6NJ
CATEGORIES:Activities
ATTACH;FMTTYPE=image/jpeg:https://rckilmarnock.org.uk/wp-content/uploads/2023/09/St-Matthews-Foodbank-scaled-e1712179825171.jpg
END:VEVENT
BEGIN:VEVENT
DTSTART;TZID=Europe/London:20250415T110000
DTEND;TZID=Europe/London:20250415T130000
DTSTAMP:20260425T045707
CREATED:20240406T224423Z
LAST-MODIFIED:20240406T224423Z
UID:10002697-1744714800-1744722000@rckilmarnock.org.uk
SUMMARY:Community Café (St Joseph's)
DESCRIPTION:
URL:https://rckilmarnock.org.uk/event/community-cafe-2/2025-04-15/
LOCATION:St Joseph’s RC Church\, 15 Hill Street\, Kilmarnock\, KA31HB
CATEGORIES:Activities
ATTACH;FMTTYPE=image/jpeg:https://rckilmarnock.org.uk/wp-content/uploads/2023/09/Cafe-Icon-e1712443453593.jpg
END:VEVENT
BEGIN:VEVENT
DTSTART;TZID=Europe/London:20250415T103000
DTEND;TZID=Europe/London:20250415T110000
DTSTAMP:20260425T045707
CREATED:20230910T152530Z
LAST-MODIFIED:20240413T215742Z
UID:10003219-1744713000-1744714800@rckilmarnock.org.uk
SUMMARY:Adoration (St Joseph's)
DESCRIPTION:
URL:https://rckilmarnock.org.uk/event/adoration-st-josephs/2025-04-15/
LOCATION:St Joseph’s RC Church\, 15 Hill Street\, Kilmarnock\, KA31HB
CATEGORIES:Prayer & Confession
ATTACH;FMTTYPE=image/jpeg:https://rckilmarnock.org.uk/wp-content/uploads/2024/04/IMG_7814-scaled-e1713045441966.jpg
END:VEVENT
BEGIN:VEVENT
DTSTART;TZID=Europe/London:20250415T100000
DTEND;TZID=Europe/London:20250415T103000
DTSTAMP:20260425T045707
CREATED:20230910T152950Z
LAST-MODIFIED:20230919T215336Z
UID:10004085-1744711200-1744713000@rckilmarnock.org.uk
SUMMARY:Morning Mass (OLMC)
DESCRIPTION:
URL:https://rckilmarnock.org.uk/event/morning-mass-olmc/2025-04-15/
LOCATION:Our Lady of Mount Carmel\, Our Lady of Mount Carmel\, Kirkton Road\, Kilmarnock\, KA32DF
CATEGORIES:Mass
ATTACH;FMTTYPE=image/jpeg:https://rckilmarnock.org.uk/wp-content/uploads/2023/09/IMG_20230919_103638-scaled.webp
END:VEVENT
BEGIN:VEVENT
DTSTART;TZID=UTC:20250415T100000
DTEND;TZID=UTC:20250415T103000
DTSTAMP:20260425T045707
CREATED:20230910T134715Z
LAST-MODIFIED:20230911T103208Z
UID:10000596-1744711200-1744713000@rckilmarnock.org.uk
SUMMARY:Morning Mass (St Joseph’s)
DESCRIPTION:
URL:https://rckilmarnock.org.uk/event/morning-mass-st-josephs/2025-04-15/
LOCATION:St Joseph’s RC Church\, 15 Hill Street\, Kilmarnock\, KA31HB
CATEGORIES:Mass
ATTACH;FMTTYPE=image/jpeg:https://rckilmarnock.org.uk/wp-content/uploads/2023/09/StJosephs_Mass.jpg
END:VEVENT
BEGIN:VEVENT
DTSTART;TZID=Europe/London:20250415T093000
DTEND;TZID=Europe/London:20250415T100000
DTSTAMP:20260425T045707
CREATED:20230910T153709Z
LAST-MODIFIED:20230919T214805Z
UID:10005308-1744709400-1744711200@rckilmarnock.org.uk
SUMMARY:Adoration (OLMC)
DESCRIPTION:
URL:https://rckilmarnock.org.uk/event/adoration-olmc/2025-04-15/
LOCATION:Our Lady of Mount Carmel\, Our Lady of Mount Carmel\, Kirkton Road\, Kilmarnock\, KA32DF
CATEGORIES:Prayer & Confession
ATTACH;FMTTYPE=image/jpeg:https://rckilmarnock.org.uk/wp-content/uploads/2023/09/IMG_20230919_104005-scaled.webp
END:VEVENT
BEGIN:VEVENT
DTSTART;TZID=Europe/London:20250415T093000
DTEND;TZID=Europe/London:20250415T094500
DTSTAMP:20260425T045707
CREATED:20240406T221638Z
LAST-MODIFIED:20240406T221638Z
UID:10009812-1744709400-1744710300@rckilmarnock.org.uk
SUMMARY:Confession (OLMC)
DESCRIPTION:
URL:https://rckilmarnock.org.uk/event/confession-olmc-2/2025-04-15/
LOCATION:Our Lady of Mount Carmel\, Our Lady of Mount Carmel\, Kirkton Road\, Kilmarnock\, KA32DF
CATEGORIES:Prayer & Confession
ATTACH;FMTTYPE=image/jpeg:https://rckilmarnock.org.uk/wp-content/uploads/2023/11/OLMC-Confession-Banner-scaled-e1712441781286.jpg
END:VEVENT
BEGIN:VEVENT
DTSTART;TZID=Europe/London:20250414T193000
DTEND;TZID=Europe/London:20250414T201500
DTSTAMP:20260425T045707
CREATED:20240406T225320Z
LAST-MODIFIED:20240406T225320Z
UID:10008452-1744659000-1744661700@rckilmarnock.org.uk
SUMMARY:Foodbank (OLMC)
DESCRIPTION:
URL:https://rckilmarnock.org.uk/event/foodbank-olmc-2/2025-04-14/
LOCATION:Our Lady of Mount Carmel\, Our Lady of Mount Carmel\, Kirkton Road\, Kilmarnock\, KA32DF
CATEGORIES:Activities
ATTACH;FMTTYPE=image/jpeg:https://rckilmarnock.org.uk/wp-content/uploads/2023/09/OLMC-Foodbank-Icon-scaled-e1712443982662.jpg
END:VEVENT
BEGIN:VEVENT
DTSTART;TZID=Europe/London:20250414T103000
DTEND;TZID=Europe/London:20250414T104500
DTSTAMP:20260425T045707
CREATED:20230910T152040Z
LAST-MODIFIED:20230911T103048Z
UID:10002437-1744626600-1744627500@rckilmarnock.org.uk
SUMMARY:Confession (St Joseph's)
DESCRIPTION:
URL:https://rckilmarnock.org.uk/event/confession-st-josephs-2/2025-04-14/
LOCATION:St Joseph’s RC Church\, 15 Hill Street\, Kilmarnock\, KA31HB
CATEGORIES:Prayer & Confession
ATTACH;FMTTYPE=image/jpeg:https://rckilmarnock.org.uk/wp-content/uploads/2023/09/StJosephs_Confession.jpg
END:VEVENT
BEGIN:VEVENT
DTSTART;TZID=UTC:20250414T100000
DTEND;TZID=UTC:20250414T103000
DTSTAMP:20260425T045707
CREATED:20230910T134715Z
LAST-MODIFIED:20230911T103208Z
UID:10000595-1744624800-1744626600@rckilmarnock.org.uk
SUMMARY:Morning Mass (St Joseph’s)
DESCRIPTION:
URL:https://rckilmarnock.org.uk/event/morning-mass-st-josephs/2025-04-14/
LOCATION:St Joseph’s RC Church\, 15 Hill Street\, Kilmarnock\, KA31HB
CATEGORIES:Mass
ATTACH;FMTTYPE=image/jpeg:https://rckilmarnock.org.uk/wp-content/uploads/2023/09/StJosephs_Mass.jpg
END:VEVENT
BEGIN:VEVENT
DTSTART;TZID=Europe/London:20250413T113000
DTEND;TZID=Europe/London:20250413T123000
DTSTAMP:20260425T045707
CREATED:20231111T222308Z
LAST-MODIFIED:20231111T222309Z
UID:10010071-1744543800-1744547400@rckilmarnock.org.uk
SUMMARY:Sunday Mass (OLMC)
DESCRIPTION:
URL:https://rckilmarnock.org.uk/event/sunday-mass-olmc-2/2025-04-13/
LOCATION:Our Lady of Mount Carmel\, Our Lady of Mount Carmel\, Kirkton Road\, Kilmarnock\, KA32DF
CATEGORIES:Mass
ATTACH;FMTTYPE=image/jpeg:https://rckilmarnock.org.uk/wp-content/uploads/2023/09/IMG_20230919_103638-scaled.webp
END:VEVENT
BEGIN:VEVENT
DTSTART;TZID=UTC:20250413T110000
DTEND;TZID=UTC:20250413T120000
DTSTAMP:20260425T045707
CREATED:20230909T220758Z
LAST-MODIFIED:20230919T215820Z
UID:10000084-1744542000-1744545600@rckilmarnock.org.uk
SUMMARY:Sunday Mass (St Joseph's)
DESCRIPTION:
URL:https://rckilmarnock.org.uk/event/mass-st-josephs/2025-04-13/
LOCATION:St Joseph’s RC Church\, 15 Hill Street\, Kilmarnock\, KA31HB
CATEGORIES:Mass
ATTACH;FMTTYPE=image/jpeg:https://rckilmarnock.org.uk/wp-content/uploads/2023/09/StJosephs_Mass.jpg
END:VEVENT
BEGIN:VEVENT
DTSTART;TZID=Europe/London:20250413T093000
DTEND;TZID=Europe/London:20250413T103000
DTSTAMP:20260425T045707
CREATED:20230910T145347Z
LAST-MODIFIED:20240403T213443Z
UID:10001651-1744536600-1744540200@rckilmarnock.org.uk
SUMMARY:Sunday Mass (St Matthew's)
DESCRIPTION:
URL:https://rckilmarnock.org.uk/event/sunday-mass-st-matthews/2025-04-13/
LOCATION:St Matthew’s RC Church\, St Matthew's RC Church\, Kilmarnock\, KA10 6NJ
CATEGORIES:Mass
ATTACH;FMTTYPE=image/jpeg:https://rckilmarnock.org.uk/wp-content/uploads/2023/09/St-Matthews-Mass-scaled-e1712179768239.jpg
END:VEVENT
BEGIN:VEVENT
DTSTART;TZID=Europe/London:20250412T180000
DTEND;TZID=Europe/London:20250412T190000
DTSTAMP:20260425T045707
CREATED:20230910T151740Z
LAST-MODIFIED:20230919T215702Z
UID:10001913-1744480800-1744484400@rckilmarnock.org.uk
SUMMARY:Vigil Mass (St Joseph's)
DESCRIPTION:
URL:https://rckilmarnock.org.uk/event/vigil-mass-st-josephs/2025-04-12/
LOCATION:St Joseph’s RC Church\, 15 Hill Street\, Kilmarnock\, KA31HB
CATEGORIES:Mass
ATTACH;FMTTYPE=image/jpeg:https://rckilmarnock.org.uk/wp-content/uploads/2023/09/StJosephs_Mass.jpg
END:VEVENT
BEGIN:VEVENT
DTSTART;TZID=Europe/London:20250412T173000
DTEND;TZID=Europe/London:20250412T174500
DTSTAMP:20260425T045707
CREATED:20230910T151942Z
LAST-MODIFIED:20230919T215911Z
UID:10002175-1744479000-1744479900@rckilmarnock.org.uk
SUMMARY:Confession (St Joseph's)
DESCRIPTION:
URL:https://rckilmarnock.org.uk/event/confession-st-josephs/2025-04-12/
LOCATION:St Joseph’s RC Church\, 15 Hill Street\, Kilmarnock\, KA31HB
CATEGORIES:Prayer & Confession
ATTACH;FMTTYPE=image/jpeg:https://rckilmarnock.org.uk/wp-content/uploads/2023/09/StJosephs_Confession.jpg
END:VEVENT
BEGIN:VEVENT
DTSTART;TZID=Europe/London:20250412T100000
DTEND;TZID=Europe/London:20250412T103000
DTSTAMP:20260425T045707
CREATED:20230910T154325Z
LAST-MODIFIED:20240403T212941Z
UID:10006778-1744452000-1744453800@rckilmarnock.org.uk
SUMMARY:Morning Mass (St Matthew's)
DESCRIPTION:
URL:https://rckilmarnock.org.uk/event/morning-mass-st-matthews/2025-04-12/
LOCATION:St Matthew’s RC Church\, St Matthew's RC Church\, Kilmarnock\, KA10 6NJ
CATEGORIES:Mass
ATTACH;FMTTYPE=image/jpeg:https://rckilmarnock.org.uk/wp-content/uploads/2023/09/St-Matthews-Mass-scaled-e1712179768239.jpg
END:VEVENT
END:VCALENDAR