BEGIN:VCALENDAR
VERSION:2.0
PRODID:-//RC Kilmarnock - ECPv6.15.20//NONSGML v1.0//EN
CALSCALE:GREGORIAN
METHOD:PUBLISH
X-ORIGINAL-URL:https://rckilmarnock.org.uk
X-WR-CALDESC:Events for RC Kilmarnock
REFRESH-INTERVAL;VALUE=DURATION:PT1H
X-Robots-Tag:noindex
X-PUBLISHED-TTL:PT1H
BEGIN:VTIMEZONE
TZID:UTC
BEGIN:STANDARD
TZOFFSETFROM:+0000
TZOFFSETTO:+0000
TZNAME:UTC
DTSTART:20260101T000000
END:STANDARD
END:VTIMEZONE
BEGIN:VTIMEZONE
TZID:Europe/London
BEGIN:DAYLIGHT
TZOFFSETFROM:+0000
TZOFFSETTO:+0100
TZNAME:BST
DTSTART:20260329T010000
END:DAYLIGHT
BEGIN:STANDARD
TZOFFSETFROM:+0100
TZOFFSETTO:+0000
TZNAME:GMT
DTSTART:20261025T010000
END:STANDARD
BEGIN:DAYLIGHT
TZOFFSETFROM:+0000
TZOFFSETTO:+0100
TZNAME:BST
DTSTART:20270328T010000
END:DAYLIGHT
BEGIN:STANDARD
TZOFFSETFROM:+0100
TZOFFSETTO:+0000
TZNAME:GMT
DTSTART:20271031T010000
END:STANDARD
BEGIN:DAYLIGHT
TZOFFSETFROM:+0000
TZOFFSETTO:+0100
TZNAME:BST
DTSTART:20280326T010000
END:DAYLIGHT
BEGIN:STANDARD
TZOFFSETFROM:+0100
TZOFFSETTO:+0000
TZNAME:GMT
DTSTART:20281029T010000
END:STANDARD
END:VTIMEZONE
BEGIN:VEVENT
DTSTART;TZID=UTC:20270511T100000
DTEND;TZID=UTC:20270511T103000
DTSTAMP:20260421T042715
CREATED:20230910T134715Z
LAST-MODIFIED:20230911T103208Z
UID:10001028-1810029600-1810031400@rckilmarnock.org.uk
SUMMARY:Morning Mass (St Joseph’s)
DESCRIPTION:
URL:https://rckilmarnock.org.uk/event/morning-mass-st-josephs/2027-05-11/
LOCATION:St Joseph’s RC Church\, 15 Hill Street\, Kilmarnock\, KA31HB
CATEGORIES:Mass
ATTACH;FMTTYPE=image/jpeg:https://rckilmarnock.org.uk/wp-content/uploads/2023/09/StJosephs_Mass.jpg
END:VEVENT
BEGIN:VEVENT
DTSTART;TZID=Europe/London:20270511T103000
DTEND;TZID=Europe/London:20270511T110000
DTSTAMP:20260421T042715
CREATED:20230910T152530Z
LAST-MODIFIED:20240413T215742Z
UID:10003327-1810031400-1810033200@rckilmarnock.org.uk
SUMMARY:Adoration (St Joseph's)
DESCRIPTION:
URL:https://rckilmarnock.org.uk/event/adoration-st-josephs/2027-05-11/
LOCATION:St Joseph’s RC Church\, 15 Hill Street\, Kilmarnock\, KA31HB
CATEGORIES:Prayer & Confession
ATTACH;FMTTYPE=image/jpeg:https://rckilmarnock.org.uk/wp-content/uploads/2024/04/IMG_7814-scaled-e1713045441966.jpg
END:VEVENT
BEGIN:VEVENT
DTSTART;TZID=Europe/London:20270511T103000
DTEND;TZID=Europe/London:20270511T110000
DTSTAMP:20260421T042715
CREATED:20251223T224143Z
LAST-MODIFIED:20251223T224143Z
UID:10017301-1810031400-1810033200@rckilmarnock.org.uk
SUMMARY:Adoration & Confessions (OLMC)
DESCRIPTION:
URL:https://rckilmarnock.org.uk/event/adoration-confessions-olmc/2027-05-11/
LOCATION:Our Lady of Mount Carmel\, Our Lady of Mount Carmel\, Kirkton Road\, Kilmarnock\, KA32DF
CATEGORIES:Prayer & Confession
ATTACH;FMTTYPE=image/jpeg:https://rckilmarnock.org.uk/wp-content/uploads/2023/09/IMG_20230919_104005-scaled.webp
END:VEVENT
BEGIN:VEVENT
DTSTART;TZID=Europe/London:20270511T110000
DTEND;TZID=Europe/London:20270511T130000
DTSTAMP:20260421T042715
CREATED:20250720T201733Z
LAST-MODIFIED:20250720T201733Z
UID:10002805-1810033200-1810040400@rckilmarnock.org.uk
SUMMARY:Community Café (St Joseph's)
DESCRIPTION:
URL:https://rckilmarnock.org.uk/event/community-cafe-2-2/2027-05-11/
LOCATION:St Joseph’s RC Church\, 15 Hill Street\, Kilmarnock\, KA31HB
CATEGORIES:Activities
ATTACH;FMTTYPE=image/jpeg:https://rckilmarnock.org.uk/wp-content/uploads/2023/09/Cafe-Icon-e1712443453593.jpg
END:VEVENT
BEGIN:VEVENT
DTSTART;TZID=Europe/London:20270511T160000
DTEND;TZID=Europe/London:20270511T180000
DTSTAMP:20260421T042715
CREATED:20230910T154517Z
LAST-MODIFIED:20240403T213038Z
UID:10007695-1810051200-1810058400@rckilmarnock.org.uk
SUMMARY:Foodbank (St Matthew's)
DESCRIPTION:
URL:https://rckilmarnock.org.uk/event/foodbank-st-matthews/2027-05-11/
LOCATION:St Matthew’s RC Church\, St Matthew's RC Church\, Kilmarnock\, KA10 6NJ
CATEGORIES:Activities
ATTACH;FMTTYPE=image/jpeg:https://rckilmarnock.org.uk/wp-content/uploads/2023/09/St-Matthews-Foodbank-scaled-e1712179825171.jpg
END:VEVENT
BEGIN:VEVENT
DTSTART;TZID=UTC:20270512T100000
DTEND;TZID=UTC:20270512T103000
DTSTAMP:20260421T042715
CREATED:20230910T134715Z
LAST-MODIFIED:20230911T103208Z
UID:10001029-1810116000-1810117800@rckilmarnock.org.uk
SUMMARY:Morning Mass (St Joseph’s)
DESCRIPTION:
URL:https://rckilmarnock.org.uk/event/morning-mass-st-josephs/2027-05-12/
LOCATION:St Joseph’s RC Church\, 15 Hill Street\, Kilmarnock\, KA31HB
CATEGORIES:Mass
ATTACH;FMTTYPE=image/jpeg:https://rckilmarnock.org.uk/wp-content/uploads/2023/09/StJosephs_Mass.jpg
END:VEVENT
BEGIN:VEVENT
DTSTART;TZID=Europe/London:20270512T100000
DTEND;TZID=Europe/London:20270512T103000
DTSTAMP:20260421T042715
CREATED:20251223T222817Z
LAST-MODIFIED:20251223T224929Z
UID:10016349-1810116000-1810117800@rckilmarnock.org.uk
SUMMARY:Morning Mass (St Matthew's)
DESCRIPTION:
URL:https://rckilmarnock.org.uk/event/morning-mass-st-matthews-10/2027-05-12/
LOCATION:St Matthew’s RC Church\, St Matthew's RC Church\, Kilmarnock\, KA10 6NJ
CATEGORIES:Mass
ATTACH;FMTTYPE=image/jpeg:https://rckilmarnock.org.uk/wp-content/uploads/2023/09/St-Matthews-Mass-scaled-e1712179768239.jpg
END:VEVENT
BEGIN:VEVENT
DTSTART;TZID=Europe/London:20270512T103000
DTEND;TZID=Europe/London:20270512T110000
DTSTAMP:20260421T042715
CREATED:20251223T223236Z
LAST-MODIFIED:20251223T223253Z
UID:10017015-1810117800-1810119600@rckilmarnock.org.uk
SUMMARY:Adoration & Confession (St Matthew's)
DESCRIPTION:
URL:https://rckilmarnock.org.uk/event/adoration-confession-st-matthews/2027-05-12/
LOCATION:St Matthew’s RC Church\, St Matthew's RC Church\, Kilmarnock\, KA10 6NJ
CATEGORIES:Prayer & Confession
ATTACH;FMTTYPE=image/jpeg:https://rckilmarnock.org.uk/wp-content/uploads/2023/09/St-Matthews-Adoration-scaled.jpg
END:VEVENT
BEGIN:VEVENT
DTSTART;TZID=Europe/London:20270512T103000
DTEND;TZID=Europe/London:20270512T113000
DTSTAMP:20260421T042715
CREATED:20240406T225544Z
LAST-MODIFIED:20240406T225544Z
UID:10003849-1810117800-1810121400@rckilmarnock.org.uk
SUMMARY:Foodbank (St Joseph's)
DESCRIPTION:
URL:https://rckilmarnock.org.uk/event/foodbank-st-josephs-2-2/2027-05-12/
LOCATION:St Joseph’s RC Church\, 15 Hill Street\, Kilmarnock\, KA31HB
CATEGORIES:Activities
ATTACH;FMTTYPE=image/jpeg:https://rckilmarnock.org.uk/wp-content/uploads/2023/09/St-Josephs-Foodbank-Icon-scaled-e1712444130185.jpg
END:VEVENT
BEGIN:VEVENT
DTSTART;TZID=Europe/London:20270513T160000
DTEND;TZID=Europe/London:20270513T180000
DTSTAMP:20260421T042715
CREATED:20230910T154517Z
LAST-MODIFIED:20240403T213038Z
UID:10007696-1810224000-1810231200@rckilmarnock.org.uk
SUMMARY:Foodbank (St Matthew's)
DESCRIPTION:
URL:https://rckilmarnock.org.uk/event/foodbank-st-matthews/2027-05-13/
LOCATION:St Matthew’s RC Church\, St Matthew's RC Church\, Kilmarnock\, KA10 6NJ
CATEGORIES:Activities
ATTACH;FMTTYPE=image/jpeg:https://rckilmarnock.org.uk/wp-content/uploads/2023/09/St-Matthews-Foodbank-scaled-e1712179825171.jpg
END:VEVENT
BEGIN:VEVENT
DTSTART;TZID=Europe/London:20270513T180000
DTEND;TZID=Europe/London:20270513T183000
DTSTAMP:20260421T042715
CREATED:20230910T134742Z
LAST-MODIFIED:20240814T165945Z
UID:10012709-1810231200-1810233000@rckilmarnock.org.uk
SUMMARY:Evening Mass (St Joseph's)
DESCRIPTION:
URL:https://rckilmarnock.org.uk/event/__trashed/2027-05-13/
LOCATION:St Joseph’s RC Church\, 15 Hill Street\, Kilmarnock\, KA31HB
CATEGORIES:Mass
ATTACH;FMTTYPE=image/jpeg:https://rckilmarnock.org.uk/wp-content/uploads/2023/09/StJosephs_Mass.jpg
END:VEVENT
BEGIN:VEVENT
DTSTART;TZID=UTC:20270514T100000
DTEND;TZID=UTC:20270514T103000
DTSTAMP:20260421T042715
CREATED:20230910T134715Z
LAST-MODIFIED:20230911T103208Z
UID:10001030-1810288800-1810290600@rckilmarnock.org.uk
SUMMARY:Morning Mass (St Joseph’s)
DESCRIPTION:
URL:https://rckilmarnock.org.uk/event/morning-mass-st-josephs/2027-05-14/
LOCATION:St Joseph’s RC Church\, 15 Hill Street\, Kilmarnock\, KA31HB
CATEGORIES:Mass
ATTACH;FMTTYPE=image/jpeg:https://rckilmarnock.org.uk/wp-content/uploads/2023/09/StJosephs_Mass.jpg
END:VEVENT
BEGIN:VEVENT
DTSTART;TZID=Europe/London:20270515T173000
DTEND;TZID=Europe/London:20270515T174500
DTSTAMP:20260421T042715
CREATED:20230910T151942Z
LAST-MODIFIED:20230919T215911Z
UID:10002284-1810402200-1810403100@rckilmarnock.org.uk
SUMMARY:Confession (St Joseph's)
DESCRIPTION:
URL:https://rckilmarnock.org.uk/event/confession-st-josephs/2027-05-15/
LOCATION:St Joseph’s RC Church\, 15 Hill Street\, Kilmarnock\, KA31HB
CATEGORIES:Prayer & Confession
ATTACH;FMTTYPE=image/jpeg:https://rckilmarnock.org.uk/wp-content/uploads/2023/09/StJosephs_Confession.jpg
END:VEVENT
BEGIN:VEVENT
DTSTART;TZID=Europe/London:20270515T180000
DTEND;TZID=Europe/London:20270515T190000
DTSTAMP:20260421T042715
CREATED:20230910T151740Z
LAST-MODIFIED:20230919T215702Z
UID:10002022-1810404000-1810407600@rckilmarnock.org.uk
SUMMARY:Vigil Mass (St Joseph's)
DESCRIPTION:
URL:https://rckilmarnock.org.uk/event/vigil-mass-st-josephs/2027-05-15/
LOCATION:St Joseph’s RC Church\, 15 Hill Street\, Kilmarnock\, KA31HB
CATEGORIES:Mass
ATTACH;FMTTYPE=image/jpeg:https://rckilmarnock.org.uk/wp-content/uploads/2023/09/StJosephs_Mass.jpg
END:VEVENT
BEGIN:VEVENT
DTSTART;TZID=Europe/London:20270516T093000
DTEND;TZID=Europe/London:20270516T103000
DTSTAMP:20260421T042715
CREATED:20230910T145347Z
LAST-MODIFIED:20240403T213443Z
UID:10001760-1810459800-1810463400@rckilmarnock.org.uk
SUMMARY:Sunday Mass (St Matthew's)
DESCRIPTION:
URL:https://rckilmarnock.org.uk/event/sunday-mass-st-matthews/2027-05-16/
LOCATION:St Matthew’s RC Church\, St Matthew's RC Church\, Kilmarnock\, KA10 6NJ
CATEGORIES:Mass
ATTACH;FMTTYPE=image/jpeg:https://rckilmarnock.org.uk/wp-content/uploads/2023/09/St-Matthews-Mass-scaled-e1712179768239.jpg
END:VEVENT
BEGIN:VEVENT
DTSTART;TZID=UTC:20270516T110000
DTEND;TZID=UTC:20270516T120000
DTSTAMP:20260421T042715
CREATED:20230909T220758Z
LAST-MODIFIED:20230919T215820Z
UID:10000193-1810465200-1810468800@rckilmarnock.org.uk
SUMMARY:Sunday Mass (St Joseph's)
DESCRIPTION:
URL:https://rckilmarnock.org.uk/event/mass-st-josephs/2027-05-16/
LOCATION:St Joseph’s RC Church\, 15 Hill Street\, Kilmarnock\, KA31HB
CATEGORIES:Mass
ATTACH;FMTTYPE=image/jpeg:https://rckilmarnock.org.uk/wp-content/uploads/2023/09/StJosephs_Mass.jpg
END:VEVENT
BEGIN:VEVENT
DTSTART;TZID=Europe/London:20270516T113000
DTEND;TZID=Europe/London:20270516T123000
DTSTAMP:20260421T042715
CREATED:20231111T222308Z
LAST-MODIFIED:20231111T222309Z
UID:10010180-1810467000-1810470600@rckilmarnock.org.uk
SUMMARY:Sunday Mass (OLMC)
DESCRIPTION:
URL:https://rckilmarnock.org.uk/event/sunday-mass-olmc-2/2027-05-16/
LOCATION:Our Lady of Mount Carmel\, Our Lady of Mount Carmel\, Kirkton Road\, Kilmarnock\, KA32DF
CATEGORIES:Mass
ATTACH;FMTTYPE=image/jpeg:https://rckilmarnock.org.uk/wp-content/uploads/2023/09/IMG_20230919_103638-scaled.webp
END:VEVENT
BEGIN:VEVENT
DTSTART;TZID=UTC:20270517T100000
DTEND;TZID=UTC:20270517T103000
DTSTAMP:20260421T042715
CREATED:20230910T134715Z
LAST-MODIFIED:20230911T103208Z
UID:10001031-1810548000-1810549800@rckilmarnock.org.uk
SUMMARY:Morning Mass (St Joseph’s)
DESCRIPTION:
URL:https://rckilmarnock.org.uk/event/morning-mass-st-josephs/2027-05-17/
LOCATION:St Joseph’s RC Church\, 15 Hill Street\, Kilmarnock\, KA31HB
CATEGORIES:Mass
ATTACH;FMTTYPE=image/jpeg:https://rckilmarnock.org.uk/wp-content/uploads/2023/09/StJosephs_Mass.jpg
END:VEVENT
BEGIN:VEVENT
DTSTART;TZID=Europe/London:20270517T100000
DTEND;TZID=Europe/London:20270517T103000
DTSTAMP:20260421T042715
CREATED:20251223T222817Z
LAST-MODIFIED:20251223T224929Z
UID:10016350-1810548000-1810549800@rckilmarnock.org.uk
SUMMARY:Morning Mass (St Matthew's)
DESCRIPTION:
URL:https://rckilmarnock.org.uk/event/morning-mass-st-matthews-10/2027-05-17/
LOCATION:St Matthew’s RC Church\, St Matthew's RC Church\, Kilmarnock\, KA10 6NJ
CATEGORIES:Mass
ATTACH;FMTTYPE=image/jpeg:https://rckilmarnock.org.uk/wp-content/uploads/2023/09/St-Matthews-Mass-scaled-e1712179768239.jpg
END:VEVENT
BEGIN:VEVENT
DTSTART;TZID=Europe/London:20270517T103000
DTEND;TZID=Europe/London:20270517T104500
DTSTAMP:20260421T042715
CREATED:20230910T152040Z
LAST-MODIFIED:20230911T103048Z
UID:10002546-1810549800-1810550700@rckilmarnock.org.uk
SUMMARY:Confession (St Joseph's)
DESCRIPTION:
URL:https://rckilmarnock.org.uk/event/confession-st-josephs-2/2027-05-17/
LOCATION:St Joseph’s RC Church\, 15 Hill Street\, Kilmarnock\, KA31HB
CATEGORIES:Prayer & Confession
ATTACH;FMTTYPE=image/jpeg:https://rckilmarnock.org.uk/wp-content/uploads/2023/09/StJosephs_Confession.jpg
END:VEVENT
BEGIN:VEVENT
DTSTART;TZID=Europe/London:20270517T193000
DTEND;TZID=Europe/London:20270517T201500
DTSTAMP:20260421T042715
CREATED:20240406T225320Z
LAST-MODIFIED:20240406T225320Z
UID:10008561-1810582200-1810584900@rckilmarnock.org.uk
SUMMARY:Foodbank (OLMC)
DESCRIPTION:
URL:https://rckilmarnock.org.uk/event/foodbank-olmc-2/2027-05-17/
LOCATION:Our Lady of Mount Carmel\, Our Lady of Mount Carmel\, Kirkton Road\, Kilmarnock\, KA32DF
CATEGORIES:Activities
ATTACH;FMTTYPE=image/jpeg:https://rckilmarnock.org.uk/wp-content/uploads/2023/09/OLMC-Foodbank-Icon-scaled-e1712443982662.jpg
END:VEVENT
BEGIN:VEVENT
DTSTART;TZID=UTC:20270518T100000
DTEND;TZID=UTC:20270518T103000
DTSTAMP:20260421T042715
CREATED:20230910T134715Z
LAST-MODIFIED:20230911T103208Z
UID:10001032-1810634400-1810636200@rckilmarnock.org.uk
SUMMARY:Morning Mass (St Joseph’s)
DESCRIPTION:
URL:https://rckilmarnock.org.uk/event/morning-mass-st-josephs/2027-05-18/
LOCATION:St Joseph’s RC Church\, 15 Hill Street\, Kilmarnock\, KA31HB
CATEGORIES:Mass
ATTACH;FMTTYPE=image/jpeg:https://rckilmarnock.org.uk/wp-content/uploads/2023/09/StJosephs_Mass.jpg
END:VEVENT
BEGIN:VEVENT
DTSTART;TZID=Europe/London:20270518T103000
DTEND;TZID=Europe/London:20270518T110000
DTSTAMP:20260421T042715
CREATED:20230910T152530Z
LAST-MODIFIED:20240413T215742Z
UID:10003328-1810636200-1810638000@rckilmarnock.org.uk
SUMMARY:Adoration (St Joseph's)
DESCRIPTION:
URL:https://rckilmarnock.org.uk/event/adoration-st-josephs/2027-05-18/
LOCATION:St Joseph’s RC Church\, 15 Hill Street\, Kilmarnock\, KA31HB
CATEGORIES:Prayer & Confession
ATTACH;FMTTYPE=image/jpeg:https://rckilmarnock.org.uk/wp-content/uploads/2024/04/IMG_7814-scaled-e1713045441966.jpg
END:VEVENT
BEGIN:VEVENT
DTSTART;TZID=Europe/London:20270518T103000
DTEND;TZID=Europe/London:20270518T110000
DTSTAMP:20260421T042715
CREATED:20251223T224143Z
LAST-MODIFIED:20251223T224143Z
UID:10017302-1810636200-1810638000@rckilmarnock.org.uk
SUMMARY:Adoration & Confessions (OLMC)
DESCRIPTION:
URL:https://rckilmarnock.org.uk/event/adoration-confessions-olmc/2027-05-18/
LOCATION:Our Lady of Mount Carmel\, Our Lady of Mount Carmel\, Kirkton Road\, Kilmarnock\, KA32DF
CATEGORIES:Prayer & Confession
ATTACH;FMTTYPE=image/jpeg:https://rckilmarnock.org.uk/wp-content/uploads/2023/09/IMG_20230919_104005-scaled.webp
END:VEVENT
BEGIN:VEVENT
DTSTART;TZID=Europe/London:20270518T110000
DTEND;TZID=Europe/London:20270518T130000
DTSTAMP:20260421T042715
CREATED:20250720T201733Z
LAST-MODIFIED:20250720T201733Z
UID:10002806-1810638000-1810645200@rckilmarnock.org.uk
SUMMARY:Community Café (St Joseph's)
DESCRIPTION:
URL:https://rckilmarnock.org.uk/event/community-cafe-2-2/2027-05-18/
LOCATION:St Joseph’s RC Church\, 15 Hill Street\, Kilmarnock\, KA31HB
CATEGORIES:Activities
ATTACH;FMTTYPE=image/jpeg:https://rckilmarnock.org.uk/wp-content/uploads/2023/09/Cafe-Icon-e1712443453593.jpg
END:VEVENT
BEGIN:VEVENT
DTSTART;TZID=Europe/London:20270518T160000
DTEND;TZID=Europe/London:20270518T180000
DTSTAMP:20260421T042715
CREATED:20230910T154517Z
LAST-MODIFIED:20240403T213038Z
UID:10007697-1810656000-1810663200@rckilmarnock.org.uk
SUMMARY:Foodbank (St Matthew's)
DESCRIPTION:
URL:https://rckilmarnock.org.uk/event/foodbank-st-matthews/2027-05-18/
LOCATION:St Matthew’s RC Church\, St Matthew's RC Church\, Kilmarnock\, KA10 6NJ
CATEGORIES:Activities
ATTACH;FMTTYPE=image/jpeg:https://rckilmarnock.org.uk/wp-content/uploads/2023/09/St-Matthews-Foodbank-scaled-e1712179825171.jpg
END:VEVENT
BEGIN:VEVENT
DTSTART;TZID=UTC:20270519T100000
DTEND;TZID=UTC:20270519T103000
DTSTAMP:20260421T042715
CREATED:20230910T134715Z
LAST-MODIFIED:20230911T103208Z
UID:10001033-1810720800-1810722600@rckilmarnock.org.uk
SUMMARY:Morning Mass (St Joseph’s)
DESCRIPTION:
URL:https://rckilmarnock.org.uk/event/morning-mass-st-josephs/2027-05-19/
LOCATION:St Joseph’s RC Church\, 15 Hill Street\, Kilmarnock\, KA31HB
CATEGORIES:Mass
ATTACH;FMTTYPE=image/jpeg:https://rckilmarnock.org.uk/wp-content/uploads/2023/09/StJosephs_Mass.jpg
END:VEVENT
BEGIN:VEVENT
DTSTART;TZID=Europe/London:20270519T100000
DTEND;TZID=Europe/London:20270519T103000
DTSTAMP:20260421T042715
CREATED:20251223T222817Z
LAST-MODIFIED:20251223T224929Z
UID:10016351-1810720800-1810722600@rckilmarnock.org.uk
SUMMARY:Morning Mass (St Matthew's)
DESCRIPTION:
URL:https://rckilmarnock.org.uk/event/morning-mass-st-matthews-10/2027-05-19/
LOCATION:St Matthew’s RC Church\, St Matthew's RC Church\, Kilmarnock\, KA10 6NJ
CATEGORIES:Mass
ATTACH;FMTTYPE=image/jpeg:https://rckilmarnock.org.uk/wp-content/uploads/2023/09/St-Matthews-Mass-scaled-e1712179768239.jpg
END:VEVENT
BEGIN:VEVENT
DTSTART;TZID=Europe/London:20270519T103000
DTEND;TZID=Europe/London:20270519T110000
DTSTAMP:20260421T042715
CREATED:20251223T223236Z
LAST-MODIFIED:20251223T223253Z
UID:10017016-1810722600-1810724400@rckilmarnock.org.uk
SUMMARY:Adoration & Confession (St Matthew's)
DESCRIPTION:
URL:https://rckilmarnock.org.uk/event/adoration-confession-st-matthews/2027-05-19/
LOCATION:St Matthew’s RC Church\, St Matthew's RC Church\, Kilmarnock\, KA10 6NJ
CATEGORIES:Prayer & Confession
ATTACH;FMTTYPE=image/jpeg:https://rckilmarnock.org.uk/wp-content/uploads/2023/09/St-Matthews-Adoration-scaled.jpg
END:VEVENT
BEGIN:VEVENT
DTSTART;TZID=Europe/London:20270519T103000
DTEND;TZID=Europe/London:20270519T113000
DTSTAMP:20260421T042715
CREATED:20240406T225544Z
LAST-MODIFIED:20240406T225544Z
UID:10003850-1810722600-1810726200@rckilmarnock.org.uk
SUMMARY:Foodbank (St Joseph's)
DESCRIPTION:
URL:https://rckilmarnock.org.uk/event/foodbank-st-josephs-2-2/2027-05-19/
LOCATION:St Joseph’s RC Church\, 15 Hill Street\, Kilmarnock\, KA31HB
CATEGORIES:Activities
ATTACH;FMTTYPE=image/jpeg:https://rckilmarnock.org.uk/wp-content/uploads/2023/09/St-Josephs-Foodbank-Icon-scaled-e1712444130185.jpg
END:VEVENT
END:VCALENDAR