BEGIN:VCALENDAR
VERSION:2.0
PRODID:-//RC Kilmarnock - ECPv6.15.20//NONSGML v1.0//EN
CALSCALE:GREGORIAN
METHOD:PUBLISH
X-WR-CALNAME:RC Kilmarnock
X-ORIGINAL-URL:https://rckilmarnock.org.uk
X-WR-CALDESC:Events for RC Kilmarnock
REFRESH-INTERVAL;VALUE=DURATION:PT1H
X-Robots-Tag:noindex
X-PUBLISHED-TTL:PT1H
BEGIN:VTIMEZONE
TZID:Europe/London
BEGIN:DAYLIGHT
TZOFFSETFROM:+0000
TZOFFSETTO:+0100
TZNAME:BST
DTSTART:20230326T010000
END:DAYLIGHT
BEGIN:STANDARD
TZOFFSETFROM:+0100
TZOFFSETTO:+0000
TZNAME:GMT
DTSTART:20231029T010000
END:STANDARD
BEGIN:DAYLIGHT
TZOFFSETFROM:+0000
TZOFFSETTO:+0100
TZNAME:BST
DTSTART:20240331T010000
END:DAYLIGHT
BEGIN:STANDARD
TZOFFSETFROM:+0100
TZOFFSETTO:+0000
TZNAME:GMT
DTSTART:20241027T010000
END:STANDARD
BEGIN:DAYLIGHT
TZOFFSETFROM:+0000
TZOFFSETTO:+0100
TZNAME:BST
DTSTART:20250330T010000
END:DAYLIGHT
BEGIN:STANDARD
TZOFFSETFROM:+0100
TZOFFSETTO:+0000
TZNAME:GMT
DTSTART:20251026T010000
END:STANDARD
END:VTIMEZONE
BEGIN:VTIMEZONE
TZID:UTC
BEGIN:STANDARD
TZOFFSETFROM:+0000
TZOFFSETTO:+0000
TZNAME:UTC
DTSTART:20230101T000000
END:STANDARD
END:VTIMEZONE
BEGIN:VEVENT
DTSTART;TZID=Europe/London:20241201T093000
DTEND;TZID=Europe/London:20241201T103000
DTSTAMP:20260426T010828
CREATED:20230910T145347Z
LAST-MODIFIED:20240403T213443Z
UID:10001632-1733045400-1733049000@rckilmarnock.org.uk
SUMMARY:Sunday Mass (St Matthew's)
DESCRIPTION:
URL:https://rckilmarnock.org.uk/event/sunday-mass-st-matthews/2024-12-01/
LOCATION:St Matthew’s RC Church\, St Matthew's RC Church\, Kilmarnock\, KA10 6NJ
CATEGORIES:Mass
ATTACH;FMTTYPE=image/jpeg:https://rckilmarnock.org.uk/wp-content/uploads/2023/09/St-Matthews-Mass-scaled-e1712179768239.jpg
END:VEVENT
BEGIN:VEVENT
DTSTART;TZID=UTC:20241201T110000
DTEND;TZID=UTC:20241201T120000
DTSTAMP:20260426T010828
CREATED:20230909T220758Z
LAST-MODIFIED:20230919T215820Z
UID:10000065-1733050800-1733054400@rckilmarnock.org.uk
SUMMARY:Sunday Mass (St Joseph's)
DESCRIPTION:
URL:https://rckilmarnock.org.uk/event/mass-st-josephs/2024-12-01/
LOCATION:St Joseph’s RC Church\, 15 Hill Street\, Kilmarnock\, KA31HB
CATEGORIES:Mass
ATTACH;FMTTYPE=image/jpeg:https://rckilmarnock.org.uk/wp-content/uploads/2023/09/StJosephs_Mass.jpg
END:VEVENT
BEGIN:VEVENT
DTSTART;TZID=Europe/London:20241201T113000
DTEND;TZID=Europe/London:20241201T123000
DTSTAMP:20260426T010828
CREATED:20231111T222308Z
LAST-MODIFIED:20231111T222309Z
UID:10010052-1733052600-1733056200@rckilmarnock.org.uk
SUMMARY:Sunday Mass (OLMC)
DESCRIPTION:
URL:https://rckilmarnock.org.uk/event/sunday-mass-olmc-2/2024-12-01/
LOCATION:Our Lady of Mount Carmel\, Our Lady of Mount Carmel\, Kirkton Road\, Kilmarnock\, KA32DF
CATEGORIES:Mass
ATTACH;FMTTYPE=image/jpeg:https://rckilmarnock.org.uk/wp-content/uploads/2023/09/IMG_20230919_103638-scaled.webp
END:VEVENT
BEGIN:VEVENT
DTSTART;TZID=UTC:20241202T100000
DTEND;TZID=UTC:20241202T103000
DTSTAMP:20260426T010828
CREATED:20230910T134715Z
LAST-MODIFIED:20230911T103208Z
UID:10000519-1733133600-1733135400@rckilmarnock.org.uk
SUMMARY:Morning Mass (St Joseph’s)
DESCRIPTION:
URL:https://rckilmarnock.org.uk/event/morning-mass-st-josephs/2024-12-02/
LOCATION:St Joseph’s RC Church\, 15 Hill Street\, Kilmarnock\, KA31HB
CATEGORIES:Mass
ATTACH;FMTTYPE=image/jpeg:https://rckilmarnock.org.uk/wp-content/uploads/2023/09/StJosephs_Mass.jpg
END:VEVENT
BEGIN:VEVENT
DTSTART;TZID=Europe/London:20241202T103000
DTEND;TZID=Europe/London:20241202T104500
DTSTAMP:20260426T010828
CREATED:20230910T152040Z
LAST-MODIFIED:20230911T103048Z
UID:10002418-1733135400-1733136300@rckilmarnock.org.uk
SUMMARY:Confession (St Joseph's)
DESCRIPTION:
URL:https://rckilmarnock.org.uk/event/confession-st-josephs-2/2024-12-02/
LOCATION:St Joseph’s RC Church\, 15 Hill Street\, Kilmarnock\, KA31HB
CATEGORIES:Prayer & Confession
ATTACH;FMTTYPE=image/jpeg:https://rckilmarnock.org.uk/wp-content/uploads/2023/09/StJosephs_Confession.jpg
END:VEVENT
BEGIN:VEVENT
DTSTART;TZID=Europe/London:20241202T193000
DTEND;TZID=Europe/London:20241202T201500
DTSTAMP:20260426T010828
CREATED:20240406T225320Z
LAST-MODIFIED:20240406T225320Z
UID:10008433-1733167800-1733170500@rckilmarnock.org.uk
SUMMARY:Foodbank (OLMC)
DESCRIPTION:
URL:https://rckilmarnock.org.uk/event/foodbank-olmc-2/2024-12-02/
LOCATION:Our Lady of Mount Carmel\, Our Lady of Mount Carmel\, Kirkton Road\, Kilmarnock\, KA32DF
CATEGORIES:Activities
ATTACH;FMTTYPE=image/jpeg:https://rckilmarnock.org.uk/wp-content/uploads/2023/09/OLMC-Foodbank-Icon-scaled-e1712443982662.jpg
END:VEVENT
BEGIN:VEVENT
DTSTART;TZID=Europe/London:20241203T093000
DTEND;TZID=Europe/London:20241203T094500
DTSTAMP:20260426T010828
CREATED:20240406T221638Z
LAST-MODIFIED:20240406T221638Z
UID:10009793-1733218200-1733219100@rckilmarnock.org.uk
SUMMARY:Confession (OLMC)
DESCRIPTION:
URL:https://rckilmarnock.org.uk/event/confession-olmc-2/2024-12-03/
LOCATION:Our Lady of Mount Carmel\, Our Lady of Mount Carmel\, Kirkton Road\, Kilmarnock\, KA32DF
CATEGORIES:Prayer & Confession
ATTACH;FMTTYPE=image/jpeg:https://rckilmarnock.org.uk/wp-content/uploads/2023/11/OLMC-Confession-Banner-scaled-e1712441781286.jpg
END:VEVENT
BEGIN:VEVENT
DTSTART;TZID=Europe/London:20241203T093000
DTEND;TZID=Europe/London:20241203T100000
DTSTAMP:20260426T010828
CREATED:20230910T153709Z
LAST-MODIFIED:20230919T214805Z
UID:10005289-1733218200-1733220000@rckilmarnock.org.uk
SUMMARY:Adoration (OLMC)
DESCRIPTION:
URL:https://rckilmarnock.org.uk/event/adoration-olmc/2024-12-03/
LOCATION:Our Lady of Mount Carmel\, Our Lady of Mount Carmel\, Kirkton Road\, Kilmarnock\, KA32DF
CATEGORIES:Prayer & Confession
ATTACH;FMTTYPE=image/jpeg:https://rckilmarnock.org.uk/wp-content/uploads/2023/09/IMG_20230919_104005-scaled.webp
END:VEVENT
BEGIN:VEVENT
DTSTART;TZID=UTC:20241203T100000
DTEND;TZID=UTC:20241203T103000
DTSTAMP:20260426T010828
CREATED:20230910T134715Z
LAST-MODIFIED:20230911T103208Z
UID:10000520-1733220000-1733221800@rckilmarnock.org.uk
SUMMARY:Morning Mass (St Joseph’s)
DESCRIPTION:
URL:https://rckilmarnock.org.uk/event/morning-mass-st-josephs/2024-12-03/
LOCATION:St Joseph’s RC Church\, 15 Hill Street\, Kilmarnock\, KA31HB
CATEGORIES:Mass
ATTACH;FMTTYPE=image/jpeg:https://rckilmarnock.org.uk/wp-content/uploads/2023/09/StJosephs_Mass.jpg
END:VEVENT
BEGIN:VEVENT
DTSTART;TZID=Europe/London:20241203T100000
DTEND;TZID=Europe/London:20241203T103000
DTSTAMP:20260426T010828
CREATED:20230910T152950Z
LAST-MODIFIED:20230919T215336Z
UID:10004047-1733220000-1733221800@rckilmarnock.org.uk
SUMMARY:Morning Mass (OLMC)
DESCRIPTION:
URL:https://rckilmarnock.org.uk/event/morning-mass-olmc/2024-12-03/
LOCATION:Our Lady of Mount Carmel\, Our Lady of Mount Carmel\, Kirkton Road\, Kilmarnock\, KA32DF
CATEGORIES:Mass
ATTACH;FMTTYPE=image/jpeg:https://rckilmarnock.org.uk/wp-content/uploads/2023/09/IMG_20230919_103638-scaled.webp
END:VEVENT
BEGIN:VEVENT
DTSTART;TZID=Europe/London:20241203T103000
DTEND;TZID=Europe/London:20241203T110000
DTSTAMP:20260426T010828
CREATED:20230910T152530Z
LAST-MODIFIED:20240413T215742Z
UID:10003200-1733221800-1733223600@rckilmarnock.org.uk
SUMMARY:Adoration (St Joseph's)
DESCRIPTION:
URL:https://rckilmarnock.org.uk/event/adoration-st-josephs/2024-12-03/
LOCATION:St Joseph’s RC Church\, 15 Hill Street\, Kilmarnock\, KA31HB
CATEGORIES:Prayer & Confession
ATTACH;FMTTYPE=image/jpeg:https://rckilmarnock.org.uk/wp-content/uploads/2024/04/IMG_7814-scaled-e1713045441966.jpg
END:VEVENT
BEGIN:VEVENT
DTSTART;TZID=Europe/London:20241203T110000
DTEND;TZID=Europe/London:20241203T130000
DTSTAMP:20260426T010828
CREATED:20240406T224423Z
LAST-MODIFIED:20240406T224423Z
UID:10002678-1733223600-1733230800@rckilmarnock.org.uk
SUMMARY:Community Café (St Joseph's)
DESCRIPTION:
URL:https://rckilmarnock.org.uk/event/community-cafe-2/2024-12-03/
LOCATION:St Joseph’s RC Church\, 15 Hill Street\, Kilmarnock\, KA31HB
CATEGORIES:Activities
ATTACH;FMTTYPE=image/jpeg:https://rckilmarnock.org.uk/wp-content/uploads/2023/09/Cafe-Icon-e1712443453593.jpg
END:VEVENT
BEGIN:VEVENT
DTSTART;TZID=Europe/London:20241203T160000
DTEND;TZID=Europe/London:20241203T180000
DTSTAMP:20260426T010828
CREATED:20230910T154517Z
LAST-MODIFIED:20240403T213038Z
UID:10007441-1733241600-1733248800@rckilmarnock.org.uk
SUMMARY:Foodbank (St Matthew's)
DESCRIPTION:
URL:https://rckilmarnock.org.uk/event/foodbank-st-matthews/2024-12-03/
LOCATION:St Matthew’s RC Church\, St Matthew's RC Church\, Kilmarnock\, KA10 6NJ
CATEGORIES:Activities
ATTACH;FMTTYPE=image/jpeg:https://rckilmarnock.org.uk/wp-content/uploads/2023/09/St-Matthews-Foodbank-scaled-e1712179825171.jpg
END:VEVENT
BEGIN:VEVENT
DTSTART;TZID=UTC:20241204T100000
DTEND;TZID=UTC:20241204T103000
DTSTAMP:20260426T010828
CREATED:20230910T134715Z
LAST-MODIFIED:20230911T103208Z
UID:10000521-1733306400-1733308200@rckilmarnock.org.uk
SUMMARY:Morning Mass (St Joseph’s)
DESCRIPTION:
URL:https://rckilmarnock.org.uk/event/morning-mass-st-josephs/2024-12-04/
LOCATION:St Joseph’s RC Church\, 15 Hill Street\, Kilmarnock\, KA31HB
CATEGORIES:Mass
ATTACH;FMTTYPE=image/jpeg:https://rckilmarnock.org.uk/wp-content/uploads/2023/09/StJosephs_Mass.jpg
END:VEVENT
BEGIN:VEVENT
DTSTART;TZID=Europe/London:20241204T100000
DTEND;TZID=Europe/London:20241204T103000
DTSTAMP:20260426T010828
CREATED:20230910T154325Z
LAST-MODIFIED:20240403T212941Z
UID:10006722-1733306400-1733308200@rckilmarnock.org.uk
SUMMARY:Morning Mass (St Matthew's)
DESCRIPTION:
URL:https://rckilmarnock.org.uk/event/morning-mass-st-matthews/2024-12-04/
LOCATION:St Matthew’s RC Church\, St Matthew's RC Church\, Kilmarnock\, KA10 6NJ
CATEGORIES:Mass
ATTACH;FMTTYPE=image/jpeg:https://rckilmarnock.org.uk/wp-content/uploads/2023/09/St-Matthews-Mass-scaled-e1712179768239.jpg
END:VEVENT
BEGIN:VEVENT
DTSTART;TZID=Europe/London:20241204T103000
DTEND;TZID=Europe/London:20241204T110000
DTSTAMP:20260426T010828
CREATED:20230917T235910Z
LAST-MODIFIED:20230917T235910Z
UID:10008161-1733308200-1733310000@rckilmarnock.org.uk
SUMMARY:Rosary (St Joseph's)
DESCRIPTION:
URL:https://rckilmarnock.org.uk/event/rosary-st-josephs-2/2024-12-04/
LOCATION:St Joseph’s RC Church\, 15 Hill Street\, Kilmarnock\, KA31HB
CATEGORIES:Prayer & Confession
ATTACH;FMTTYPE=image/jpeg:https://rckilmarnock.org.uk/wp-content/uploads/2023/09/StJosephs_Rosary.jpg
END:VEVENT
BEGIN:VEVENT
DTSTART;TZID=Europe/London:20241204T103000
DTEND;TZID=Europe/London:20241204T113000
DTSTAMP:20260426T010828
CREATED:20240406T225544Z
LAST-MODIFIED:20240406T225544Z
UID:10003722-1733308200-1733311800@rckilmarnock.org.uk
SUMMARY:Foodbank (St Joseph's)
DESCRIPTION:
URL:https://rckilmarnock.org.uk/event/foodbank-st-josephs-2-2/2024-12-04/
LOCATION:St Joseph’s RC Church\, 15 Hill Street\, Kilmarnock\, KA31HB
CATEGORIES:Activities
ATTACH;FMTTYPE=image/jpeg:https://rckilmarnock.org.uk/wp-content/uploads/2023/09/St-Josephs-Foodbank-Icon-scaled-e1712444130185.jpg
END:VEVENT
BEGIN:VEVENT
DTSTART;TZID=Europe/London:20241205T093000
DTEND;TZID=Europe/London:20241205T100000
DTSTAMP:20260426T010828
CREATED:20231111T221534Z
LAST-MODIFIED:20240403T223634Z
UID:10008686-1733391000-1733392800@rckilmarnock.org.uk
SUMMARY:Rosary (St Matthew's)
DESCRIPTION:
URL:https://rckilmarnock.org.uk/event/rosary-st-matthews-2/2024-12-05/
LOCATION:St Matthew’s RC Church\, St Matthew's RC Church\, Kilmarnock\, KA10 6NJ
CATEGORIES:Prayer & Confession
ATTACH;FMTTYPE=image/jpeg:https://rckilmarnock.org.uk/wp-content/uploads/2023/09/St-Matthews-Rosary-scaled-e1712179705170.jpg
END:VEVENT
BEGIN:VEVENT
DTSTART;TZID=Europe/London:20241205T100000
DTEND;TZID=Europe/London:20241205T103000
DTSTAMP:20260426T010828
CREATED:20230910T154325Z
LAST-MODIFIED:20240403T212941Z
UID:10006723-1733392800-1733394600@rckilmarnock.org.uk
SUMMARY:Morning Mass (St Matthew's)
DESCRIPTION:
URL:https://rckilmarnock.org.uk/event/morning-mass-st-matthews/2024-12-05/
LOCATION:St Matthew’s RC Church\, St Matthew's RC Church\, Kilmarnock\, KA10 6NJ
CATEGORIES:Mass
ATTACH;FMTTYPE=image/jpeg:https://rckilmarnock.org.uk/wp-content/uploads/2023/09/St-Matthews-Mass-scaled-e1712179768239.jpg
END:VEVENT
BEGIN:VEVENT
DTSTART;TZID=Europe/London:20241205T160000
DTEND;TZID=Europe/London:20241205T180000
DTSTAMP:20260426T010828
CREATED:20230910T154517Z
LAST-MODIFIED:20240403T213038Z
UID:10007442-1733414400-1733421600@rckilmarnock.org.uk
SUMMARY:Foodbank (St Matthew's)
DESCRIPTION:
URL:https://rckilmarnock.org.uk/event/foodbank-st-matthews/2024-12-05/
LOCATION:St Matthew’s RC Church\, St Matthew's RC Church\, Kilmarnock\, KA10 6NJ
CATEGORIES:Activities
ATTACH;FMTTYPE=image/jpeg:https://rckilmarnock.org.uk/wp-content/uploads/2023/09/St-Matthews-Foodbank-scaled-e1712179825171.jpg
END:VEVENT
BEGIN:VEVENT
DTSTART;TZID=Europe/London:20241205T180000
DTEND;TZID=Europe/London:20241205T183000
DTSTAMP:20260426T010828
CREATED:20230910T134742Z
LAST-MODIFIED:20240814T165945Z
UID:10012582-1733421600-1733423400@rckilmarnock.org.uk
SUMMARY:Evening Mass (St Joseph's)
DESCRIPTION:
URL:https://rckilmarnock.org.uk/event/__trashed/2024-12-05/
LOCATION:St Joseph’s RC Church\, 15 Hill Street\, Kilmarnock\, KA31HB
CATEGORIES:Mass
ATTACH;FMTTYPE=image/jpeg:https://rckilmarnock.org.uk/wp-content/uploads/2023/09/StJosephs_Mass.jpg
END:VEVENT
BEGIN:VEVENT
DTSTART;TZID=Europe/London:20241205T183000
DTEND;TZID=Europe/London:20241205T193000
DTSTAMP:20260426T010828
CREATED:20240824T183611Z
LAST-MODIFIED:20240824T183611Z
UID:10012876-1733423400-1733427000@rckilmarnock.org.uk
SUMMARY:RCIA (St Joseph's)
DESCRIPTION:
URL:https://rckilmarnock.org.uk/event/rcia-st-josephs/2024-12-05/
LOCATION:St Joseph’s RC Church\, 15 Hill Street\, Kilmarnock\, KA31HB
CATEGORIES:Activities
ATTACH;FMTTYPE=image/jpeg:https://rckilmarnock.org.uk/wp-content/uploads/2024/04/IMG_7815-scaled.jpg
END:VEVENT
BEGIN:VEVENT
DTSTART;TZID=Europe/London:20241206T093000
DTEND;TZID=Europe/London:20241206T100000
DTSTAMP:20260426T010828
CREATED:20230910T153551Z
LAST-MODIFIED:20230919T215027Z
UID:10005550-1733477400-1733479200@rckilmarnock.org.uk
SUMMARY:Rosary (OLMC)
DESCRIPTION:
URL:https://rckilmarnock.org.uk/event/rosary-olmc-2/2024-12-06/
LOCATION:Our Lady of Mount Carmel\, Our Lady of Mount Carmel\, Kirkton Road\, Kilmarnock\, KA32DF
CATEGORIES:Prayer & Confession
ATTACH;FMTTYPE=image/jpeg:https://rckilmarnock.org.uk/wp-content/uploads/2023/09/IMG_20230919_104711-scaled.webp
END:VEVENT
BEGIN:VEVENT
DTSTART;TZID=UTC:20241206T100000
DTEND;TZID=UTC:20241206T103000
DTSTAMP:20260426T010828
CREATED:20230910T134715Z
LAST-MODIFIED:20230911T103208Z
UID:10000522-1733479200-1733481000@rckilmarnock.org.uk
SUMMARY:Morning Mass (St Joseph’s)
DESCRIPTION:
URL:https://rckilmarnock.org.uk/event/morning-mass-st-josephs/2024-12-06/
LOCATION:St Joseph’s RC Church\, 15 Hill Street\, Kilmarnock\, KA31HB
CATEGORIES:Mass
ATTACH;FMTTYPE=image/jpeg:https://rckilmarnock.org.uk/wp-content/uploads/2023/09/StJosephs_Mass.jpg
END:VEVENT
BEGIN:VEVENT
DTSTART;TZID=Europe/London:20241206T100000
DTEND;TZID=Europe/London:20241206T103000
DTSTAMP:20260426T010828
CREATED:20230910T152950Z
LAST-MODIFIED:20230919T215336Z
UID:10004048-1733479200-1733481000@rckilmarnock.org.uk
SUMMARY:Morning Mass (OLMC)
DESCRIPTION:
URL:https://rckilmarnock.org.uk/event/morning-mass-olmc/2024-12-06/
LOCATION:Our Lady of Mount Carmel\, Our Lady of Mount Carmel\, Kirkton Road\, Kilmarnock\, KA32DF
CATEGORIES:Mass
ATTACH;FMTTYPE=image/jpeg:https://rckilmarnock.org.uk/wp-content/uploads/2023/09/IMG_20230919_103638-scaled.webp
END:VEVENT
BEGIN:VEVENT
DTSTART;TZID=Europe/London:20241207T093000
DTEND;TZID=Europe/London:20241207T094500
DTSTAMP:20260426T010828
CREATED:20231111T222012Z
LAST-MODIFIED:20240403T213453Z
UID:10009262-1733563800-1733564700@rckilmarnock.org.uk
SUMMARY:Confession (St Matthew's)
DESCRIPTION:
URL:https://rckilmarnock.org.uk/event/confession-st-matthews/2024-12-07/
LOCATION:St Matthew’s RC Church\, St Matthew's RC Church\, Kilmarnock\, KA10 6NJ
CATEGORIES:Prayer & Confession
ATTACH;FMTTYPE=image/jpeg:https://rckilmarnock.org.uk/wp-content/uploads/2023/09/St-Matthews-Confession-scaled-e1712180060229.jpg
END:VEVENT
BEGIN:VEVENT
DTSTART;TZID=Europe/London:20241207T093000
DTEND;TZID=Europe/London:20241207T100000
DTSTAMP:20260426T010828
CREATED:20240413T215600Z
LAST-MODIFIED:20240413T215600Z
UID:10011035-1733563800-1733565600@rckilmarnock.org.uk
SUMMARY:Adoration (St Matthew's)
DESCRIPTION:
URL:https://rckilmarnock.org.uk/event/adoration-st-matthews-3/2024-12-07/
LOCATION:St Matthew’s RC Church\, St Matthew's RC Church\, Kilmarnock\, KA10 6NJ
CATEGORIES:Prayer & Confession
ATTACH;FMTTYPE=image/jpeg:https://rckilmarnock.org.uk/wp-content/uploads/2023/09/St-Matthews-Adoration-scaled.jpg
END:VEVENT
BEGIN:VEVENT
DTSTART;TZID=Europe/London:20241207T100000
DTEND;TZID=Europe/London:20241207T103000
DTSTAMP:20260426T010828
CREATED:20230910T154325Z
LAST-MODIFIED:20240403T212941Z
UID:10006724-1733565600-1733567400@rckilmarnock.org.uk
SUMMARY:Morning Mass (St Matthew's)
DESCRIPTION:
URL:https://rckilmarnock.org.uk/event/morning-mass-st-matthews/2024-12-07/
LOCATION:St Matthew’s RC Church\, St Matthew's RC Church\, Kilmarnock\, KA10 6NJ
CATEGORIES:Mass
ATTACH;FMTTYPE=image/jpeg:https://rckilmarnock.org.uk/wp-content/uploads/2023/09/St-Matthews-Mass-scaled-e1712179768239.jpg
END:VEVENT
BEGIN:VEVENT
DTSTART;TZID=Europe/London:20241207T173000
DTEND;TZID=Europe/London:20241207T174500
DTSTAMP:20260426T010828
CREATED:20230910T151942Z
LAST-MODIFIED:20230919T215911Z
UID:10002157-1733592600-1733593500@rckilmarnock.org.uk
SUMMARY:Confession (St Joseph's)
DESCRIPTION:
URL:https://rckilmarnock.org.uk/event/confession-st-josephs/2024-12-07/
LOCATION:St Joseph’s RC Church\, 15 Hill Street\, Kilmarnock\, KA31HB
CATEGORIES:Prayer & Confession
ATTACH;FMTTYPE=image/jpeg:https://rckilmarnock.org.uk/wp-content/uploads/2023/09/StJosephs_Confession.jpg
END:VEVENT
BEGIN:VEVENT
DTSTART;TZID=Europe/London:20241207T180000
DTEND;TZID=Europe/London:20241207T190000
DTSTAMP:20260426T010828
CREATED:20230910T151740Z
LAST-MODIFIED:20230919T215702Z
UID:10001895-1733594400-1733598000@rckilmarnock.org.uk
SUMMARY:Vigil Mass (St Joseph's)
DESCRIPTION:
URL:https://rckilmarnock.org.uk/event/vigil-mass-st-josephs/2024-12-07/
LOCATION:St Joseph’s RC Church\, 15 Hill Street\, Kilmarnock\, KA31HB
CATEGORIES:Mass
ATTACH;FMTTYPE=image/jpeg:https://rckilmarnock.org.uk/wp-content/uploads/2023/09/StJosephs_Mass.jpg
END:VEVENT
END:VCALENDAR