BEGIN:VCALENDAR
VERSION:2.0
PRODID:-//RC Kilmarnock - ECPv6.15.20//NONSGML v1.0//EN
CALSCALE:GREGORIAN
METHOD:PUBLISH
X-ORIGINAL-URL:https://rckilmarnock.org.uk
X-WR-CALDESC:Events for RC Kilmarnock
REFRESH-INTERVAL;VALUE=DURATION:PT1H
X-Robots-Tag:noindex
X-PUBLISHED-TTL:PT1H
BEGIN:VTIMEZONE
TZID:UTC
BEGIN:STANDARD
TZOFFSETFROM:+0000
TZOFFSETTO:+0000
TZNAME:UTC
DTSTART:20260101T000000
END:STANDARD
END:VTIMEZONE
BEGIN:VTIMEZONE
TZID:Europe/London
BEGIN:DAYLIGHT
TZOFFSETFROM:+0000
TZOFFSETTO:+0100
TZNAME:BST
DTSTART:20260329T010000
END:DAYLIGHT
BEGIN:STANDARD
TZOFFSETFROM:+0100
TZOFFSETTO:+0000
TZNAME:GMT
DTSTART:20261025T010000
END:STANDARD
BEGIN:DAYLIGHT
TZOFFSETFROM:+0000
TZOFFSETTO:+0100
TZNAME:BST
DTSTART:20270328T010000
END:DAYLIGHT
BEGIN:STANDARD
TZOFFSETFROM:+0100
TZOFFSETTO:+0000
TZNAME:GMT
DTSTART:20271031T010000
END:STANDARD
BEGIN:DAYLIGHT
TZOFFSETFROM:+0000
TZOFFSETTO:+0100
TZNAME:BST
DTSTART:20280326T010000
END:DAYLIGHT
BEGIN:STANDARD
TZOFFSETFROM:+0100
TZOFFSETTO:+0000
TZNAME:GMT
DTSTART:20281029T010000
END:STANDARD
END:VTIMEZONE
BEGIN:VEVENT
DTSTART;TZID=UTC:20270104T100000
DTEND;TZID=UTC:20270104T103000
DTSTAMP:20260420T083350
CREATED:20230910T134715Z
LAST-MODIFIED:20230911T103208Z
UID:10000955-1799056800-1799058600@rckilmarnock.org.uk
SUMMARY:Morning Mass (St Joseph’s)
DESCRIPTION:
URL:https://rckilmarnock.org.uk/event/morning-mass-st-josephs/2027-01-04/
LOCATION:St Joseph’s RC Church\, 15 Hill Street\, Kilmarnock\, KA31HB
CATEGORIES:Mass
ATTACH;FMTTYPE=image/jpeg:https://rckilmarnock.org.uk/wp-content/uploads/2023/09/StJosephs_Mass.jpg
END:VEVENT
BEGIN:VEVENT
DTSTART;TZID=Europe/London:20270104T100000
DTEND;TZID=Europe/London:20270104T103000
DTSTAMP:20260420T083350
CREATED:20251223T222817Z
LAST-MODIFIED:20251223T224929Z
UID:10016312-1799056800-1799058600@rckilmarnock.org.uk
SUMMARY:Morning Mass (St Matthew's)
DESCRIPTION:
URL:https://rckilmarnock.org.uk/event/morning-mass-st-matthews-10/2027-01-04/
LOCATION:St Matthew’s RC Church\, St Matthew's RC Church\, Kilmarnock\, KA10 6NJ
CATEGORIES:Mass
ATTACH;FMTTYPE=image/jpeg:https://rckilmarnock.org.uk/wp-content/uploads/2023/09/St-Matthews-Mass-scaled-e1712179768239.jpg
END:VEVENT
BEGIN:VEVENT
DTSTART;TZID=Europe/London:20270104T103000
DTEND;TZID=Europe/London:20270104T104500
DTSTAMP:20260420T083350
CREATED:20230910T152040Z
LAST-MODIFIED:20230911T103048Z
UID:10002527-1799058600-1799059500@rckilmarnock.org.uk
SUMMARY:Confession (St Joseph's)
DESCRIPTION:
URL:https://rckilmarnock.org.uk/event/confession-st-josephs-2/2027-01-04/
LOCATION:St Joseph’s RC Church\, 15 Hill Street\, Kilmarnock\, KA31HB
CATEGORIES:Prayer & Confession
ATTACH;FMTTYPE=image/jpeg:https://rckilmarnock.org.uk/wp-content/uploads/2023/09/StJosephs_Confession.jpg
END:VEVENT
BEGIN:VEVENT
DTSTART;TZID=Europe/London:20270104T193000
DTEND;TZID=Europe/London:20270104T201500
DTSTAMP:20260420T083350
CREATED:20240406T225320Z
LAST-MODIFIED:20240406T225320Z
UID:10008542-1799091000-1799093700@rckilmarnock.org.uk
SUMMARY:Foodbank (OLMC)
DESCRIPTION:
URL:https://rckilmarnock.org.uk/event/foodbank-olmc-2/2027-01-04/
LOCATION:Our Lady of Mount Carmel\, Our Lady of Mount Carmel\, Kirkton Road\, Kilmarnock\, KA32DF
CATEGORIES:Activities
ATTACH;FMTTYPE=image/jpeg:https://rckilmarnock.org.uk/wp-content/uploads/2023/09/OLMC-Foodbank-Icon-scaled-e1712443982662.jpg
END:VEVENT
BEGIN:VEVENT
DTSTART;TZID=UTC:20270105T100000
DTEND;TZID=UTC:20270105T103000
DTSTAMP:20260420T083350
CREATED:20230910T134715Z
LAST-MODIFIED:20230911T103208Z
UID:10000956-1799143200-1799145000@rckilmarnock.org.uk
SUMMARY:Morning Mass (St Joseph’s)
DESCRIPTION:
URL:https://rckilmarnock.org.uk/event/morning-mass-st-josephs/2027-01-05/
LOCATION:St Joseph’s RC Church\, 15 Hill Street\, Kilmarnock\, KA31HB
CATEGORIES:Mass
ATTACH;FMTTYPE=image/jpeg:https://rckilmarnock.org.uk/wp-content/uploads/2023/09/StJosephs_Mass.jpg
END:VEVENT
BEGIN:VEVENT
DTSTART;TZID=Europe/London:20270105T100000
DTEND;TZID=Europe/London:20270105T103000
DTSTAMP:20260420T083350
CREATED:20230910T152950Z
LAST-MODIFIED:20230919T215336Z
UID:10004265-1799143200-1799145000@rckilmarnock.org.uk
SUMMARY:Morning Mass (OLMC)
DESCRIPTION:
URL:https://rckilmarnock.org.uk/event/morning-mass-olmc/2027-01-05/
LOCATION:Our Lady of Mount Carmel\, Our Lady of Mount Carmel\, Kirkton Road\, Kilmarnock\, KA32DF
CATEGORIES:Mass
ATTACH;FMTTYPE=image/jpeg:https://rckilmarnock.org.uk/wp-content/uploads/2023/09/IMG_20230919_103638-scaled.webp
END:VEVENT
BEGIN:VEVENT
DTSTART;TZID=Europe/London:20270105T103000
DTEND;TZID=Europe/London:20270105T110000
DTSTAMP:20260420T083350
CREATED:20230910T152530Z
LAST-MODIFIED:20240413T215742Z
UID:10003309-1799145000-1799146800@rckilmarnock.org.uk
SUMMARY:Adoration (St Joseph's)
DESCRIPTION:
URL:https://rckilmarnock.org.uk/event/adoration-st-josephs/2027-01-05/
LOCATION:St Joseph’s RC Church\, 15 Hill Street\, Kilmarnock\, KA31HB
CATEGORIES:Prayer & Confession
ATTACH;FMTTYPE=image/jpeg:https://rckilmarnock.org.uk/wp-content/uploads/2024/04/IMG_7814-scaled-e1713045441966.jpg
END:VEVENT
BEGIN:VEVENT
DTSTART;TZID=Europe/London:20270105T103000
DTEND;TZID=Europe/London:20270105T110000
DTSTAMP:20260420T083350
CREATED:20251223T224143Z
LAST-MODIFIED:20251223T224143Z
UID:10017283-1799145000-1799146800@rckilmarnock.org.uk
SUMMARY:Adoration & Confessions (OLMC)
DESCRIPTION:
URL:https://rckilmarnock.org.uk/event/adoration-confessions-olmc/2027-01-05/
LOCATION:Our Lady of Mount Carmel\, Our Lady of Mount Carmel\, Kirkton Road\, Kilmarnock\, KA32DF
CATEGORIES:Prayer & Confession
ATTACH;FMTTYPE=image/jpeg:https://rckilmarnock.org.uk/wp-content/uploads/2023/09/IMG_20230919_104005-scaled.webp
END:VEVENT
BEGIN:VEVENT
DTSTART;TZID=Europe/London:20270105T110000
DTEND;TZID=Europe/London:20270105T130000
DTSTAMP:20260420T083350
CREATED:20250720T201733Z
LAST-MODIFIED:20250720T201733Z
UID:10002787-1799146800-1799154000@rckilmarnock.org.uk
SUMMARY:Community Café (St Joseph's)
DESCRIPTION:
URL:https://rckilmarnock.org.uk/event/community-cafe-2-2/2027-01-05/
LOCATION:St Joseph’s RC Church\, 15 Hill Street\, Kilmarnock\, KA31HB
CATEGORIES:Activities
ATTACH;FMTTYPE=image/jpeg:https://rckilmarnock.org.uk/wp-content/uploads/2023/09/Cafe-Icon-e1712443453593.jpg
END:VEVENT
BEGIN:VEVENT
DTSTART;TZID=Europe/London:20270105T160000
DTEND;TZID=Europe/London:20270105T180000
DTSTAMP:20260420T083350
CREATED:20230910T154517Z
LAST-MODIFIED:20240403T213038Z
UID:10007659-1799164800-1799172000@rckilmarnock.org.uk
SUMMARY:Foodbank (St Matthew's)
DESCRIPTION:
URL:https://rckilmarnock.org.uk/event/foodbank-st-matthews/2027-01-05/
LOCATION:St Matthew’s RC Church\, St Matthew's RC Church\, Kilmarnock\, KA10 6NJ
CATEGORIES:Activities
ATTACH;FMTTYPE=image/jpeg:https://rckilmarnock.org.uk/wp-content/uploads/2023/09/St-Matthews-Foodbank-scaled-e1712179825171.jpg
END:VEVENT
BEGIN:VEVENT
DTSTART;TZID=UTC:20270106T100000
DTEND;TZID=UTC:20270106T103000
DTSTAMP:20260420T083350
CREATED:20230910T134715Z
LAST-MODIFIED:20230911T103208Z
UID:10000957-1799229600-1799231400@rckilmarnock.org.uk
SUMMARY:Morning Mass (St Joseph’s)
DESCRIPTION:
URL:https://rckilmarnock.org.uk/event/morning-mass-st-josephs/2027-01-06/
LOCATION:St Joseph’s RC Church\, 15 Hill Street\, Kilmarnock\, KA31HB
CATEGORIES:Mass
ATTACH;FMTTYPE=image/jpeg:https://rckilmarnock.org.uk/wp-content/uploads/2023/09/StJosephs_Mass.jpg
END:VEVENT
BEGIN:VEVENT
DTSTART;TZID=Europe/London:20270106T100000
DTEND;TZID=Europe/London:20270106T103000
DTSTAMP:20260420T083350
CREATED:20251223T222817Z
LAST-MODIFIED:20251223T224929Z
UID:10016313-1799229600-1799231400@rckilmarnock.org.uk
SUMMARY:Morning Mass (St Matthew's)
DESCRIPTION:
URL:https://rckilmarnock.org.uk/event/morning-mass-st-matthews-10/2027-01-06/
LOCATION:St Matthew’s RC Church\, St Matthew's RC Church\, Kilmarnock\, KA10 6NJ
CATEGORIES:Mass
ATTACH;FMTTYPE=image/jpeg:https://rckilmarnock.org.uk/wp-content/uploads/2023/09/St-Matthews-Mass-scaled-e1712179768239.jpg
END:VEVENT
BEGIN:VEVENT
DTSTART;TZID=Europe/London:20270106T103000
DTEND;TZID=Europe/London:20270106T110000
DTSTAMP:20260420T083350
CREATED:20251223T223236Z
LAST-MODIFIED:20251223T223253Z
UID:10016997-1799231400-1799233200@rckilmarnock.org.uk
SUMMARY:Adoration & Confession (St Matthew's)
DESCRIPTION:
URL:https://rckilmarnock.org.uk/event/adoration-confession-st-matthews/2027-01-06/
LOCATION:St Matthew’s RC Church\, St Matthew's RC Church\, Kilmarnock\, KA10 6NJ
CATEGORIES:Prayer & Confession
ATTACH;FMTTYPE=image/jpeg:https://rckilmarnock.org.uk/wp-content/uploads/2023/09/St-Matthews-Adoration-scaled.jpg
END:VEVENT
BEGIN:VEVENT
DTSTART;TZID=Europe/London:20270106T103000
DTEND;TZID=Europe/London:20270106T113000
DTSTAMP:20260420T083350
CREATED:20240406T225544Z
LAST-MODIFIED:20240406T225544Z
UID:10003831-1799231400-1799235000@rckilmarnock.org.uk
SUMMARY:Foodbank (St Joseph's)
DESCRIPTION:
URL:https://rckilmarnock.org.uk/event/foodbank-st-josephs-2-2/2027-01-06/
LOCATION:St Joseph’s RC Church\, 15 Hill Street\, Kilmarnock\, KA31HB
CATEGORIES:Activities
ATTACH;FMTTYPE=image/jpeg:https://rckilmarnock.org.uk/wp-content/uploads/2023/09/St-Josephs-Foodbank-Icon-scaled-e1712444130185.jpg
END:VEVENT
BEGIN:VEVENT
DTSTART;TZID=Europe/London:20270107T160000
DTEND;TZID=Europe/London:20270107T180000
DTSTAMP:20260420T083350
CREATED:20230910T154517Z
LAST-MODIFIED:20240403T213038Z
UID:10007660-1799337600-1799344800@rckilmarnock.org.uk
SUMMARY:Foodbank (St Matthew's)
DESCRIPTION:
URL:https://rckilmarnock.org.uk/event/foodbank-st-matthews/2027-01-07/
LOCATION:St Matthew’s RC Church\, St Matthew's RC Church\, Kilmarnock\, KA10 6NJ
CATEGORIES:Activities
ATTACH;FMTTYPE=image/jpeg:https://rckilmarnock.org.uk/wp-content/uploads/2023/09/St-Matthews-Foodbank-scaled-e1712179825171.jpg
END:VEVENT
BEGIN:VEVENT
DTSTART;TZID=Europe/London:20270107T180000
DTEND;TZID=Europe/London:20270107T183000
DTSTAMP:20260420T083350
CREATED:20230910T134742Z
LAST-MODIFIED:20240814T165945Z
UID:10012691-1799344800-1799346600@rckilmarnock.org.uk
SUMMARY:Evening Mass (St Joseph's)
DESCRIPTION:
URL:https://rckilmarnock.org.uk/event/__trashed/2027-01-07/
LOCATION:St Joseph’s RC Church\, 15 Hill Street\, Kilmarnock\, KA31HB
CATEGORIES:Mass
ATTACH;FMTTYPE=image/jpeg:https://rckilmarnock.org.uk/wp-content/uploads/2023/09/StJosephs_Mass.jpg
END:VEVENT
BEGIN:VEVENT
DTSTART;TZID=UTC:20270108T100000
DTEND;TZID=UTC:20270108T103000
DTSTAMP:20260420T083350
CREATED:20230910T134715Z
LAST-MODIFIED:20230911T103208Z
UID:10000958-1799402400-1799404200@rckilmarnock.org.uk
SUMMARY:Morning Mass (St Joseph’s)
DESCRIPTION:
URL:https://rckilmarnock.org.uk/event/morning-mass-st-josephs/2027-01-08/
LOCATION:St Joseph’s RC Church\, 15 Hill Street\, Kilmarnock\, KA31HB
CATEGORIES:Mass
ATTACH;FMTTYPE=image/jpeg:https://rckilmarnock.org.uk/wp-content/uploads/2023/09/StJosephs_Mass.jpg
END:VEVENT
BEGIN:VEVENT
DTSTART;TZID=Europe/London:20270108T100000
DTEND;TZID=Europe/London:20270108T103000
DTSTAMP:20260420T083350
CREATED:20230910T152950Z
LAST-MODIFIED:20230919T215336Z
UID:10004266-1799402400-1799404200@rckilmarnock.org.uk
SUMMARY:Morning Mass (OLMC)
DESCRIPTION:
URL:https://rckilmarnock.org.uk/event/morning-mass-olmc/2027-01-08/
LOCATION:Our Lady of Mount Carmel\, Our Lady of Mount Carmel\, Kirkton Road\, Kilmarnock\, KA32DF
CATEGORIES:Mass
ATTACH;FMTTYPE=image/jpeg:https://rckilmarnock.org.uk/wp-content/uploads/2023/09/IMG_20230919_103638-scaled.webp
END:VEVENT
BEGIN:VEVENT
DTSTART;TZID=Europe/London:20270109T173000
DTEND;TZID=Europe/London:20270109T174500
DTSTAMP:20260420T083350
CREATED:20230910T151942Z
LAST-MODIFIED:20230919T215911Z
UID:10002266-1799515800-1799516700@rckilmarnock.org.uk
SUMMARY:Confession (St Joseph's)
DESCRIPTION:
URL:https://rckilmarnock.org.uk/event/confession-st-josephs/2027-01-09/
LOCATION:St Joseph’s RC Church\, 15 Hill Street\, Kilmarnock\, KA31HB
CATEGORIES:Prayer & Confession
ATTACH;FMTTYPE=image/jpeg:https://rckilmarnock.org.uk/wp-content/uploads/2023/09/StJosephs_Confession.jpg
END:VEVENT
BEGIN:VEVENT
DTSTART;TZID=Europe/London:20270109T180000
DTEND;TZID=Europe/London:20270109T190000
DTSTAMP:20260420T083350
CREATED:20230910T151740Z
LAST-MODIFIED:20230919T215702Z
UID:10002004-1799517600-1799521200@rckilmarnock.org.uk
SUMMARY:Vigil Mass (St Joseph's)
DESCRIPTION:
URL:https://rckilmarnock.org.uk/event/vigil-mass-st-josephs/2027-01-09/
LOCATION:St Joseph’s RC Church\, 15 Hill Street\, Kilmarnock\, KA31HB
CATEGORIES:Mass
ATTACH;FMTTYPE=image/jpeg:https://rckilmarnock.org.uk/wp-content/uploads/2023/09/StJosephs_Mass.jpg
END:VEVENT
BEGIN:VEVENT
DTSTART;TZID=Europe/London:20270110T093000
DTEND;TZID=Europe/London:20270110T103000
DTSTAMP:20260420T083350
CREATED:20230910T145347Z
LAST-MODIFIED:20240403T213443Z
UID:10001742-1799573400-1799577000@rckilmarnock.org.uk
SUMMARY:Sunday Mass (St Matthew's)
DESCRIPTION:
URL:https://rckilmarnock.org.uk/event/sunday-mass-st-matthews/2027-01-10/
LOCATION:St Matthew’s RC Church\, St Matthew's RC Church\, Kilmarnock\, KA10 6NJ
CATEGORIES:Mass
ATTACH;FMTTYPE=image/jpeg:https://rckilmarnock.org.uk/wp-content/uploads/2023/09/St-Matthews-Mass-scaled-e1712179768239.jpg
END:VEVENT
BEGIN:VEVENT
DTSTART;TZID=UTC:20270110T110000
DTEND;TZID=UTC:20270110T120000
DTSTAMP:20260420T083350
CREATED:20230909T220758Z
LAST-MODIFIED:20230919T215820Z
UID:10000175-1799578800-1799582400@rckilmarnock.org.uk
SUMMARY:Sunday Mass (St Joseph's)
DESCRIPTION:
URL:https://rckilmarnock.org.uk/event/mass-st-josephs/2027-01-10/
LOCATION:St Joseph’s RC Church\, 15 Hill Street\, Kilmarnock\, KA31HB
CATEGORIES:Mass
ATTACH;FMTTYPE=image/jpeg:https://rckilmarnock.org.uk/wp-content/uploads/2023/09/StJosephs_Mass.jpg
END:VEVENT
BEGIN:VEVENT
DTSTART;TZID=Europe/London:20270110T113000
DTEND;TZID=Europe/London:20270110T123000
DTSTAMP:20260420T083350
CREATED:20231111T222308Z
LAST-MODIFIED:20231111T222309Z
UID:10010162-1799580600-1799584200@rckilmarnock.org.uk
SUMMARY:Sunday Mass (OLMC)
DESCRIPTION:
URL:https://rckilmarnock.org.uk/event/sunday-mass-olmc-2/2027-01-10/
LOCATION:Our Lady of Mount Carmel\, Our Lady of Mount Carmel\, Kirkton Road\, Kilmarnock\, KA32DF
CATEGORIES:Mass
ATTACH;FMTTYPE=image/jpeg:https://rckilmarnock.org.uk/wp-content/uploads/2023/09/IMG_20230919_103638-scaled.webp
END:VEVENT
END:VCALENDAR