BEGIN:VCALENDAR
VERSION:2.0
PRODID:-//RC Kilmarnock - ECPv6.15.20//NONSGML v1.0//EN
CALSCALE:GREGORIAN
METHOD:PUBLISH
X-WR-CALNAME:RC Kilmarnock
X-ORIGINAL-URL:https://rckilmarnock.org.uk
X-WR-CALDESC:Events for RC Kilmarnock
REFRESH-INTERVAL;VALUE=DURATION:PT1H
X-Robots-Tag:noindex
X-PUBLISHED-TTL:PT1H
BEGIN:VTIMEZONE
TZID:Europe/London
BEGIN:DAYLIGHT
TZOFFSETFROM:+0000
TZOFFSETTO:+0100
TZNAME:BST
DTSTART:20250330T010000
END:DAYLIGHT
BEGIN:STANDARD
TZOFFSETFROM:+0100
TZOFFSETTO:+0000
TZNAME:GMT
DTSTART:20251026T010000
END:STANDARD
BEGIN:DAYLIGHT
TZOFFSETFROM:+0000
TZOFFSETTO:+0100
TZNAME:BST
DTSTART:20260329T010000
END:DAYLIGHT
BEGIN:STANDARD
TZOFFSETFROM:+0100
TZOFFSETTO:+0000
TZNAME:GMT
DTSTART:20261025T010000
END:STANDARD
BEGIN:DAYLIGHT
TZOFFSETFROM:+0000
TZOFFSETTO:+0100
TZNAME:BST
DTSTART:20270328T010000
END:DAYLIGHT
BEGIN:STANDARD
TZOFFSETFROM:+0100
TZOFFSETTO:+0000
TZNAME:GMT
DTSTART:20271031T010000
END:STANDARD
END:VTIMEZONE
BEGIN:VEVENT
DTSTART;TZID=Europe/London:20260224T103000
DTEND;TZID=Europe/London:20260224T110000
DTSTAMP:20260423T214024
CREATED:20251223T224143Z
LAST-MODIFIED:20251223T224143Z
UID:10017238-1771929000-1771930800@rckilmarnock.org.uk
SUMMARY:Adoration & Confessions (OLMC)
DESCRIPTION:
URL:https://rckilmarnock.org.uk/event/adoration-confessions-olmc/2026-02-24/
LOCATION:Our Lady of Mount Carmel\, Our Lady of Mount Carmel\, Kirkton Road\, Kilmarnock\, KA32DF
CATEGORIES:Prayer & Confession
ATTACH;FMTTYPE=image/jpeg:https://rckilmarnock.org.uk/wp-content/uploads/2023/09/IMG_20230919_104005-scaled.webp
END:VEVENT
BEGIN:VEVENT
DTSTART;TZID=Europe/London:20260224T100000
DTEND;TZID=Europe/London:20260224T103000
DTSTAMP:20260423T214024
CREATED:20230910T152950Z
LAST-MODIFIED:20230919T215336Z
UID:10004175-1771927200-1771929000@rckilmarnock.org.uk
SUMMARY:Morning Mass (OLMC)
DESCRIPTION:
URL:https://rckilmarnock.org.uk/event/morning-mass-olmc/2026-02-24/
LOCATION:Our Lady of Mount Carmel\, Our Lady of Mount Carmel\, Kirkton Road\, Kilmarnock\, KA32DF
CATEGORIES:Mass
ATTACH;FMTTYPE=image/jpeg:https://rckilmarnock.org.uk/wp-content/uploads/2023/09/IMG_20230919_103638-scaled.webp
END:VEVENT
BEGIN:VEVENT
DTSTART;TZID=Europe/London:20260223T193000
DTEND;TZID=Europe/London:20260223T201500
DTSTAMP:20260423T214024
CREATED:20240406T225320Z
LAST-MODIFIED:20240406T225320Z
UID:10008497-1771875000-1771877700@rckilmarnock.org.uk
SUMMARY:Foodbank (OLMC)
DESCRIPTION:
URL:https://rckilmarnock.org.uk/event/foodbank-olmc-2/2026-02-23/
LOCATION:Our Lady of Mount Carmel\, Our Lady of Mount Carmel\, Kirkton Road\, Kilmarnock\, KA32DF
CATEGORIES:Activities
ATTACH;FMTTYPE=image/jpeg:https://rckilmarnock.org.uk/wp-content/uploads/2023/09/OLMC-Foodbank-Icon-scaled-e1712443982662.jpg
END:VEVENT
BEGIN:VEVENT
DTSTART;TZID=Europe/London:20260222T113000
DTEND;TZID=Europe/London:20260222T123000
DTSTAMP:20260423T214024
CREATED:20231111T222308Z
LAST-MODIFIED:20231111T222309Z
UID:10010116-1771759800-1771763400@rckilmarnock.org.uk
SUMMARY:Sunday Mass (OLMC)
DESCRIPTION:
URL:https://rckilmarnock.org.uk/event/sunday-mass-olmc-2/2026-02-22/
LOCATION:Our Lady of Mount Carmel\, Our Lady of Mount Carmel\, Kirkton Road\, Kilmarnock\, KA32DF
CATEGORIES:Mass
ATTACH;FMTTYPE=image/jpeg:https://rckilmarnock.org.uk/wp-content/uploads/2023/09/IMG_20230919_103638-scaled.webp
END:VEVENT
BEGIN:VEVENT
DTSTART;TZID=Europe/London:20260220T100000
DTEND;TZID=Europe/London:20260220T103000
DTSTAMP:20260423T214024
CREATED:20230910T152950Z
LAST-MODIFIED:20230919T215336Z
UID:10004174-1771581600-1771583400@rckilmarnock.org.uk
SUMMARY:Morning Mass (OLMC)
DESCRIPTION:
URL:https://rckilmarnock.org.uk/event/morning-mass-olmc/2026-02-20/
LOCATION:Our Lady of Mount Carmel\, Our Lady of Mount Carmel\, Kirkton Road\, Kilmarnock\, KA32DF
CATEGORIES:Mass
ATTACH;FMTTYPE=image/jpeg:https://rckilmarnock.org.uk/wp-content/uploads/2023/09/IMG_20230919_103638-scaled.webp
END:VEVENT
BEGIN:VEVENT
DTSTART;TZID=Europe/London:20260217T103000
DTEND;TZID=Europe/London:20260217T110000
DTSTAMP:20260423T214024
CREATED:20251223T224143Z
LAST-MODIFIED:20251223T224143Z
UID:10017237-1771324200-1771326000@rckilmarnock.org.uk
SUMMARY:Adoration & Confessions (OLMC)
DESCRIPTION:
URL:https://rckilmarnock.org.uk/event/adoration-confessions-olmc/2026-02-17/
LOCATION:Our Lady of Mount Carmel\, Our Lady of Mount Carmel\, Kirkton Road\, Kilmarnock\, KA32DF
CATEGORIES:Prayer & Confession
ATTACH;FMTTYPE=image/jpeg:https://rckilmarnock.org.uk/wp-content/uploads/2023/09/IMG_20230919_104005-scaled.webp
END:VEVENT
BEGIN:VEVENT
DTSTART;TZID=Europe/London:20260217T100000
DTEND;TZID=Europe/London:20260217T103000
DTSTAMP:20260423T214024
CREATED:20230910T152950Z
LAST-MODIFIED:20230919T215336Z
UID:10004173-1771322400-1771324200@rckilmarnock.org.uk
SUMMARY:Morning Mass (OLMC)
DESCRIPTION:
URL:https://rckilmarnock.org.uk/event/morning-mass-olmc/2026-02-17/
LOCATION:Our Lady of Mount Carmel\, Our Lady of Mount Carmel\, Kirkton Road\, Kilmarnock\, KA32DF
CATEGORIES:Mass
ATTACH;FMTTYPE=image/jpeg:https://rckilmarnock.org.uk/wp-content/uploads/2023/09/IMG_20230919_103638-scaled.webp
END:VEVENT
BEGIN:VEVENT
DTSTART;TZID=Europe/London:20260216T193000
DTEND;TZID=Europe/London:20260216T201500
DTSTAMP:20260423T214024
CREATED:20240406T225320Z
LAST-MODIFIED:20240406T225320Z
UID:10008496-1771270200-1771272900@rckilmarnock.org.uk
SUMMARY:Foodbank (OLMC)
DESCRIPTION:
URL:https://rckilmarnock.org.uk/event/foodbank-olmc-2/2026-02-16/
LOCATION:Our Lady of Mount Carmel\, Our Lady of Mount Carmel\, Kirkton Road\, Kilmarnock\, KA32DF
CATEGORIES:Activities
ATTACH;FMTTYPE=image/jpeg:https://rckilmarnock.org.uk/wp-content/uploads/2023/09/OLMC-Foodbank-Icon-scaled-e1712443982662.jpg
END:VEVENT
BEGIN:VEVENT
DTSTART;TZID=Europe/London:20260215T113000
DTEND;TZID=Europe/London:20260215T123000
DTSTAMP:20260423T214024
CREATED:20231111T222308Z
LAST-MODIFIED:20231111T222309Z
UID:10010115-1771155000-1771158600@rckilmarnock.org.uk
SUMMARY:Sunday Mass (OLMC)
DESCRIPTION:
URL:https://rckilmarnock.org.uk/event/sunday-mass-olmc-2/2026-02-15/
LOCATION:Our Lady of Mount Carmel\, Our Lady of Mount Carmel\, Kirkton Road\, Kilmarnock\, KA32DF
CATEGORIES:Mass
ATTACH;FMTTYPE=image/jpeg:https://rckilmarnock.org.uk/wp-content/uploads/2023/09/IMG_20230919_103638-scaled.webp
END:VEVENT
BEGIN:VEVENT
DTSTART;TZID=Europe/London:20260213T100000
DTEND;TZID=Europe/London:20260213T103000
DTSTAMP:20260423T214024
CREATED:20230910T152950Z
LAST-MODIFIED:20230919T215336Z
UID:10004172-1770976800-1770978600@rckilmarnock.org.uk
SUMMARY:Morning Mass (OLMC)
DESCRIPTION:
URL:https://rckilmarnock.org.uk/event/morning-mass-olmc/2026-02-13/
LOCATION:Our Lady of Mount Carmel\, Our Lady of Mount Carmel\, Kirkton Road\, Kilmarnock\, KA32DF
CATEGORIES:Mass
ATTACH;FMTTYPE=image/jpeg:https://rckilmarnock.org.uk/wp-content/uploads/2023/09/IMG_20230919_103638-scaled.webp
END:VEVENT
BEGIN:VEVENT
DTSTART;TZID=Europe/London:20260210T103000
DTEND;TZID=Europe/London:20260210T110000
DTSTAMP:20260423T214024
CREATED:20251223T224143Z
LAST-MODIFIED:20251223T224143Z
UID:10017236-1770719400-1770721200@rckilmarnock.org.uk
SUMMARY:Adoration & Confessions (OLMC)
DESCRIPTION:
URL:https://rckilmarnock.org.uk/event/adoration-confessions-olmc/2026-02-10/
LOCATION:Our Lady of Mount Carmel\, Our Lady of Mount Carmel\, Kirkton Road\, Kilmarnock\, KA32DF
CATEGORIES:Prayer & Confession
ATTACH;FMTTYPE=image/jpeg:https://rckilmarnock.org.uk/wp-content/uploads/2023/09/IMG_20230919_104005-scaled.webp
END:VEVENT
BEGIN:VEVENT
DTSTART;TZID=Europe/London:20260210T100000
DTEND;TZID=Europe/London:20260210T103000
DTSTAMP:20260423T214024
CREATED:20230910T152950Z
LAST-MODIFIED:20230919T215336Z
UID:10004171-1770717600-1770719400@rckilmarnock.org.uk
SUMMARY:Morning Mass (OLMC)
DESCRIPTION:
URL:https://rckilmarnock.org.uk/event/morning-mass-olmc/2026-02-10/
LOCATION:Our Lady of Mount Carmel\, Our Lady of Mount Carmel\, Kirkton Road\, Kilmarnock\, KA32DF
CATEGORIES:Mass
ATTACH;FMTTYPE=image/jpeg:https://rckilmarnock.org.uk/wp-content/uploads/2023/09/IMG_20230919_103638-scaled.webp
END:VEVENT
BEGIN:VEVENT
DTSTART;TZID=Europe/London:20260209T193000
DTEND;TZID=Europe/London:20260209T201500
DTSTAMP:20260423T214024
CREATED:20240406T225320Z
LAST-MODIFIED:20240406T225320Z
UID:10008495-1770665400-1770668100@rckilmarnock.org.uk
SUMMARY:Foodbank (OLMC)
DESCRIPTION:
URL:https://rckilmarnock.org.uk/event/foodbank-olmc-2/2026-02-09/
LOCATION:Our Lady of Mount Carmel\, Our Lady of Mount Carmel\, Kirkton Road\, Kilmarnock\, KA32DF
CATEGORIES:Activities
ATTACH;FMTTYPE=image/jpeg:https://rckilmarnock.org.uk/wp-content/uploads/2023/09/OLMC-Foodbank-Icon-scaled-e1712443982662.jpg
END:VEVENT
BEGIN:VEVENT
DTSTART;TZID=Europe/London:20260208T113000
DTEND;TZID=Europe/London:20260208T123000
DTSTAMP:20260423T214024
CREATED:20231111T222308Z
LAST-MODIFIED:20231111T222309Z
UID:10010114-1770550200-1770553800@rckilmarnock.org.uk
SUMMARY:Sunday Mass (OLMC)
DESCRIPTION:
URL:https://rckilmarnock.org.uk/event/sunday-mass-olmc-2/2026-02-08/
LOCATION:Our Lady of Mount Carmel\, Our Lady of Mount Carmel\, Kirkton Road\, Kilmarnock\, KA32DF
CATEGORIES:Mass
ATTACH;FMTTYPE=image/jpeg:https://rckilmarnock.org.uk/wp-content/uploads/2023/09/IMG_20230919_103638-scaled.webp
END:VEVENT
BEGIN:VEVENT
DTSTART;TZID=Europe/London:20260206T100000
DTEND;TZID=Europe/London:20260206T103000
DTSTAMP:20260423T214024
CREATED:20230910T152950Z
LAST-MODIFIED:20230919T215336Z
UID:10004170-1770372000-1770373800@rckilmarnock.org.uk
SUMMARY:Morning Mass (OLMC)
DESCRIPTION:
URL:https://rckilmarnock.org.uk/event/morning-mass-olmc/2026-02-06/
LOCATION:Our Lady of Mount Carmel\, Our Lady of Mount Carmel\, Kirkton Road\, Kilmarnock\, KA32DF
CATEGORIES:Mass
ATTACH;FMTTYPE=image/jpeg:https://rckilmarnock.org.uk/wp-content/uploads/2023/09/IMG_20230919_103638-scaled.webp
END:VEVENT
BEGIN:VEVENT
DTSTART;TZID=Europe/London:20260203T103000
DTEND;TZID=Europe/London:20260203T110000
DTSTAMP:20260423T214024
CREATED:20251223T224143Z
LAST-MODIFIED:20251223T224143Z
UID:10017235-1770114600-1770116400@rckilmarnock.org.uk
SUMMARY:Adoration & Confessions (OLMC)
DESCRIPTION:
URL:https://rckilmarnock.org.uk/event/adoration-confessions-olmc/2026-02-03/
LOCATION:Our Lady of Mount Carmel\, Our Lady of Mount Carmel\, Kirkton Road\, Kilmarnock\, KA32DF
CATEGORIES:Prayer & Confession
ATTACH;FMTTYPE=image/jpeg:https://rckilmarnock.org.uk/wp-content/uploads/2023/09/IMG_20230919_104005-scaled.webp
END:VEVENT
BEGIN:VEVENT
DTSTART;TZID=Europe/London:20260203T100000
DTEND;TZID=Europe/London:20260203T103000
DTSTAMP:20260423T214024
CREATED:20230910T152950Z
LAST-MODIFIED:20230919T215336Z
UID:10004169-1770112800-1770114600@rckilmarnock.org.uk
SUMMARY:Morning Mass (OLMC)
DESCRIPTION:
URL:https://rckilmarnock.org.uk/event/morning-mass-olmc/2026-02-03/
LOCATION:Our Lady of Mount Carmel\, Our Lady of Mount Carmel\, Kirkton Road\, Kilmarnock\, KA32DF
CATEGORIES:Mass
ATTACH;FMTTYPE=image/jpeg:https://rckilmarnock.org.uk/wp-content/uploads/2023/09/IMG_20230919_103638-scaled.webp
END:VEVENT
BEGIN:VEVENT
DTSTART;TZID=Europe/London:20260202T193000
DTEND;TZID=Europe/London:20260202T201500
DTSTAMP:20260423T214024
CREATED:20240406T225320Z
LAST-MODIFIED:20240406T225320Z
UID:10008494-1770060600-1770063300@rckilmarnock.org.uk
SUMMARY:Foodbank (OLMC)
DESCRIPTION:
URL:https://rckilmarnock.org.uk/event/foodbank-olmc-2/2026-02-02/
LOCATION:Our Lady of Mount Carmel\, Our Lady of Mount Carmel\, Kirkton Road\, Kilmarnock\, KA32DF
CATEGORIES:Activities
ATTACH;FMTTYPE=image/jpeg:https://rckilmarnock.org.uk/wp-content/uploads/2023/09/OLMC-Foodbank-Icon-scaled-e1712443982662.jpg
END:VEVENT
BEGIN:VEVENT
DTSTART;TZID=Europe/London:20260201T113000
DTEND;TZID=Europe/London:20260201T123000
DTSTAMP:20260423T214024
CREATED:20231111T222308Z
LAST-MODIFIED:20231111T222309Z
UID:10010113-1769945400-1769949000@rckilmarnock.org.uk
SUMMARY:Sunday Mass (OLMC)
DESCRIPTION:
URL:https://rckilmarnock.org.uk/event/sunday-mass-olmc-2/2026-02-01/
LOCATION:Our Lady of Mount Carmel\, Our Lady of Mount Carmel\, Kirkton Road\, Kilmarnock\, KA32DF
CATEGORIES:Mass
ATTACH;FMTTYPE=image/jpeg:https://rckilmarnock.org.uk/wp-content/uploads/2023/09/IMG_20230919_103638-scaled.webp
END:VEVENT
BEGIN:VEVENT
DTSTART;TZID=Europe/London:20260130T100000
DTEND;TZID=Europe/London:20260130T103000
DTSTAMP:20260423T214024
CREATED:20230910T152950Z
LAST-MODIFIED:20230919T215336Z
UID:10004168-1769767200-1769769000@rckilmarnock.org.uk
SUMMARY:Morning Mass (OLMC)
DESCRIPTION:
URL:https://rckilmarnock.org.uk/event/morning-mass-olmc/2026-01-30/
LOCATION:Our Lady of Mount Carmel\, Our Lady of Mount Carmel\, Kirkton Road\, Kilmarnock\, KA32DF
CATEGORIES:Mass
ATTACH;FMTTYPE=image/jpeg:https://rckilmarnock.org.uk/wp-content/uploads/2023/09/IMG_20230919_103638-scaled.webp
END:VEVENT
BEGIN:VEVENT
DTSTART;TZID=Europe/London:20260127T103000
DTEND;TZID=Europe/London:20260127T110000
DTSTAMP:20260423T214024
CREATED:20251223T224143Z
LAST-MODIFIED:20251223T224143Z
UID:10017234-1769509800-1769511600@rckilmarnock.org.uk
SUMMARY:Adoration & Confessions (OLMC)
DESCRIPTION:
URL:https://rckilmarnock.org.uk/event/adoration-confessions-olmc/2026-01-27/
LOCATION:Our Lady of Mount Carmel\, Our Lady of Mount Carmel\, Kirkton Road\, Kilmarnock\, KA32DF
CATEGORIES:Prayer & Confession
ATTACH;FMTTYPE=image/jpeg:https://rckilmarnock.org.uk/wp-content/uploads/2023/09/IMG_20230919_104005-scaled.webp
END:VEVENT
BEGIN:VEVENT
DTSTART;TZID=Europe/London:20260127T100000
DTEND;TZID=Europe/London:20260127T103000
DTSTAMP:20260423T214024
CREATED:20230910T152950Z
LAST-MODIFIED:20230919T215336Z
UID:10004167-1769508000-1769509800@rckilmarnock.org.uk
SUMMARY:Morning Mass (OLMC)
DESCRIPTION:
URL:https://rckilmarnock.org.uk/event/morning-mass-olmc/2026-01-27/
LOCATION:Our Lady of Mount Carmel\, Our Lady of Mount Carmel\, Kirkton Road\, Kilmarnock\, KA32DF
CATEGORIES:Mass
ATTACH;FMTTYPE=image/jpeg:https://rckilmarnock.org.uk/wp-content/uploads/2023/09/IMG_20230919_103638-scaled.webp
END:VEVENT
BEGIN:VEVENT
DTSTART;TZID=Europe/London:20260126T193000
DTEND;TZID=Europe/London:20260126T201500
DTSTAMP:20260423T214024
CREATED:20240406T225320Z
LAST-MODIFIED:20240406T225320Z
UID:10008493-1769455800-1769458500@rckilmarnock.org.uk
SUMMARY:Foodbank (OLMC)
DESCRIPTION:
URL:https://rckilmarnock.org.uk/event/foodbank-olmc-2/2026-01-26/
LOCATION:Our Lady of Mount Carmel\, Our Lady of Mount Carmel\, Kirkton Road\, Kilmarnock\, KA32DF
CATEGORIES:Activities
ATTACH;FMTTYPE=image/jpeg:https://rckilmarnock.org.uk/wp-content/uploads/2023/09/OLMC-Foodbank-Icon-scaled-e1712443982662.jpg
END:VEVENT
BEGIN:VEVENT
DTSTART;TZID=Europe/London:20260125T113000
DTEND;TZID=Europe/London:20260125T123000
DTSTAMP:20260423T214024
CREATED:20231111T222308Z
LAST-MODIFIED:20231111T222309Z
UID:10010112-1769340600-1769344200@rckilmarnock.org.uk
SUMMARY:Sunday Mass (OLMC)
DESCRIPTION:
URL:https://rckilmarnock.org.uk/event/sunday-mass-olmc-2/2026-01-25/
LOCATION:Our Lady of Mount Carmel\, Our Lady of Mount Carmel\, Kirkton Road\, Kilmarnock\, KA32DF
CATEGORIES:Mass
ATTACH;FMTTYPE=image/jpeg:https://rckilmarnock.org.uk/wp-content/uploads/2023/09/IMG_20230919_103638-scaled.webp
END:VEVENT
BEGIN:VEVENT
DTSTART;TZID=Europe/London:20260123T100000
DTEND;TZID=Europe/London:20260123T103000
DTSTAMP:20260423T214024
CREATED:20230910T152950Z
LAST-MODIFIED:20230919T215336Z
UID:10004166-1769162400-1769164200@rckilmarnock.org.uk
SUMMARY:Morning Mass (OLMC)
DESCRIPTION:
URL:https://rckilmarnock.org.uk/event/morning-mass-olmc/2026-01-23/
LOCATION:Our Lady of Mount Carmel\, Our Lady of Mount Carmel\, Kirkton Road\, Kilmarnock\, KA32DF
CATEGORIES:Mass
ATTACH;FMTTYPE=image/jpeg:https://rckilmarnock.org.uk/wp-content/uploads/2023/09/IMG_20230919_103638-scaled.webp
END:VEVENT
BEGIN:VEVENT
DTSTART;TZID=Europe/London:20260120T103000
DTEND;TZID=Europe/London:20260120T110000
DTSTAMP:20260423T214024
CREATED:20251223T224143Z
LAST-MODIFIED:20251223T224143Z
UID:10017233-1768905000-1768906800@rckilmarnock.org.uk
SUMMARY:Adoration & Confessions (OLMC)
DESCRIPTION:
URL:https://rckilmarnock.org.uk/event/adoration-confessions-olmc/2026-01-20/
LOCATION:Our Lady of Mount Carmel\, Our Lady of Mount Carmel\, Kirkton Road\, Kilmarnock\, KA32DF
CATEGORIES:Prayer & Confession
ATTACH;FMTTYPE=image/jpeg:https://rckilmarnock.org.uk/wp-content/uploads/2023/09/IMG_20230919_104005-scaled.webp
END:VEVENT
BEGIN:VEVENT
DTSTART;TZID=Europe/London:20260120T100000
DTEND;TZID=Europe/London:20260120T103000
DTSTAMP:20260423T214024
CREATED:20230910T152950Z
LAST-MODIFIED:20230919T215336Z
UID:10004165-1768903200-1768905000@rckilmarnock.org.uk
SUMMARY:Morning Mass (OLMC)
DESCRIPTION:
URL:https://rckilmarnock.org.uk/event/morning-mass-olmc/2026-01-20/
LOCATION:Our Lady of Mount Carmel\, Our Lady of Mount Carmel\, Kirkton Road\, Kilmarnock\, KA32DF
CATEGORIES:Mass
ATTACH;FMTTYPE=image/jpeg:https://rckilmarnock.org.uk/wp-content/uploads/2023/09/IMG_20230919_103638-scaled.webp
END:VEVENT
BEGIN:VEVENT
DTSTART;TZID=Europe/London:20260119T193000
DTEND;TZID=Europe/London:20260119T201500
DTSTAMP:20260423T214024
CREATED:20240406T225320Z
LAST-MODIFIED:20240406T225320Z
UID:10008492-1768851000-1768853700@rckilmarnock.org.uk
SUMMARY:Foodbank (OLMC)
DESCRIPTION:
URL:https://rckilmarnock.org.uk/event/foodbank-olmc-2/2026-01-19/
LOCATION:Our Lady of Mount Carmel\, Our Lady of Mount Carmel\, Kirkton Road\, Kilmarnock\, KA32DF
CATEGORIES:Activities
ATTACH;FMTTYPE=image/jpeg:https://rckilmarnock.org.uk/wp-content/uploads/2023/09/OLMC-Foodbank-Icon-scaled-e1712443982662.jpg
END:VEVENT
BEGIN:VEVENT
DTSTART;TZID=Europe/London:20260118T113000
DTEND;TZID=Europe/London:20260118T123000
DTSTAMP:20260423T214024
CREATED:20231111T222308Z
LAST-MODIFIED:20231111T222309Z
UID:10010111-1768735800-1768739400@rckilmarnock.org.uk
SUMMARY:Sunday Mass (OLMC)
DESCRIPTION:
URL:https://rckilmarnock.org.uk/event/sunday-mass-olmc-2/2026-01-18/
LOCATION:Our Lady of Mount Carmel\, Our Lady of Mount Carmel\, Kirkton Road\, Kilmarnock\, KA32DF
CATEGORIES:Mass
ATTACH;FMTTYPE=image/jpeg:https://rckilmarnock.org.uk/wp-content/uploads/2023/09/IMG_20230919_103638-scaled.webp
END:VEVENT
BEGIN:VEVENT
DTSTART;TZID=Europe/London:20260116T100000
DTEND;TZID=Europe/London:20260116T103000
DTSTAMP:20260423T214024
CREATED:20230910T152950Z
LAST-MODIFIED:20230919T215336Z
UID:10004164-1768557600-1768559400@rckilmarnock.org.uk
SUMMARY:Morning Mass (OLMC)
DESCRIPTION:
URL:https://rckilmarnock.org.uk/event/morning-mass-olmc/2026-01-16/
LOCATION:Our Lady of Mount Carmel\, Our Lady of Mount Carmel\, Kirkton Road\, Kilmarnock\, KA32DF
CATEGORIES:Mass
ATTACH;FMTTYPE=image/jpeg:https://rckilmarnock.org.uk/wp-content/uploads/2023/09/IMG_20230919_103638-scaled.webp
END:VEVENT
END:VCALENDAR